BEGIN:VCALENDAR
VERSION:2.0
PRODID:-//Normandie Livre &amp; Lecture - ECPv6.15.11//NONSGML v1.0//EN
CALSCALE:GREGORIAN
METHOD:PUBLISH
X-WR-CALNAME:Normandie Livre &amp; Lecture
X-ORIGINAL-URL:https://www.normandielivre.fr
X-WR-CALDESC:Évènements pour Normandie Livre &amp; Lecture
REFRESH-INTERVAL;VALUE=DURATION:PT1H
X-Robots-Tag:noindex
X-PUBLISHED-TTL:PT1H
BEGIN:VTIMEZONE
TZID:Europe/Paris
BEGIN:DAYLIGHT
TZOFFSETFROM:+0100
TZOFFSETTO:+0200
TZNAME:CEST
DTSTART:20230326T010000
END:DAYLIGHT
BEGIN:STANDARD
TZOFFSETFROM:+0200
TZOFFSETTO:+0100
TZNAME:CET
DTSTART:20231029T010000
END:STANDARD
BEGIN:DAYLIGHT
TZOFFSETFROM:+0100
TZOFFSETTO:+0200
TZNAME:CEST
DTSTART:20240331T010000
END:DAYLIGHT
BEGIN:STANDARD
TZOFFSETFROM:+0200
TZOFFSETTO:+0100
TZNAME:CET
DTSTART:20241027T010000
END:STANDARD
BEGIN:DAYLIGHT
TZOFFSETFROM:+0100
TZOFFSETTO:+0200
TZNAME:CEST
DTSTART:20250330T010000
END:DAYLIGHT
BEGIN:STANDARD
TZOFFSETFROM:+0200
TZOFFSETTO:+0100
TZNAME:CET
DTSTART:20251026T010000
END:STANDARD
END:VTIMEZONE
BEGIN:VEVENT
DTSTART;VALUE=DATE:20240406
DTEND;VALUE=DATE:20240407
DTSTAMP:20260420T060735
CREATED:20240318T152205Z
LAST-MODIFIED:20240318T152205Z
UID:10001784-1712361600-1712447999@www.normandielivre.fr
SUMMARY:Salon du livre à Hérouville-Saint-Clair
DESCRIPTION:Une partie de l’équipe de Place 26 se déplace au salon du livre d’Hérouville-Saint-Clair #2. \nL’occasion de vous faire dédicacer le roman fantasy de Manon Maillard. \nTreize autres auteurs\, jeunesse et adultes\, à ses côtés\, au Café des arts\, 2\, square du Théâtre. \nAu programme : dédicaces et tables rondes. \nEntrée libre. \nHérouville Saint Clair
URL:https://www.normandielivre.fr/agenda-collaboratif/salon-du-livre-a-herouville-saint-clair/
LOCATION:Hérouville Saint Clair\, 2 square du Théâtre\, Hérouville Saint Clair\, 14530
CATEGORIES:Salon
END:VEVENT
END:VCALENDAR