BEGIN:VCALENDAR
VERSION:2.0
PRODID:-//Normandie Livre &amp; Lecture - ECPv6.15.11//NONSGML v1.0//EN
CALSCALE:GREGORIAN
METHOD:PUBLISH
X-ORIGINAL-URL:https://www.normandielivre.fr
X-WR-CALDESC:Évènements pour Normandie Livre &amp; Lecture
REFRESH-INTERVAL;VALUE=DURATION:PT1H
X-Robots-Tag:noindex
X-PUBLISHED-TTL:PT1H
BEGIN:VTIMEZONE
TZID:Europe/Paris
BEGIN:DAYLIGHT
TZOFFSETFROM:+0100
TZOFFSETTO:+0200
TZNAME:CEST
DTSTART:20240331T010000
END:DAYLIGHT
BEGIN:STANDARD
TZOFFSETFROM:+0200
TZOFFSETTO:+0100
TZNAME:CET
DTSTART:20241027T010000
END:STANDARD
BEGIN:DAYLIGHT
TZOFFSETFROM:+0100
TZOFFSETTO:+0200
TZNAME:CEST
DTSTART:20250330T010000
END:DAYLIGHT
BEGIN:STANDARD
TZOFFSETFROM:+0200
TZOFFSETTO:+0100
TZNAME:CET
DTSTART:20251026T010000
END:STANDARD
BEGIN:DAYLIGHT
TZOFFSETFROM:+0100
TZOFFSETTO:+0200
TZNAME:CEST
DTSTART:20260329T010000
END:DAYLIGHT
BEGIN:STANDARD
TZOFFSETFROM:+0200
TZOFFSETTO:+0100
TZNAME:CET
DTSTART:20261025T010000
END:STANDARD
END:VTIMEZONE
BEGIN:VEVENT
DTSTART;VALUE=DATE:20251206
DTEND;VALUE=DATE:20251207
DTSTAMP:20260421T191756
CREATED:20251204T133046Z
LAST-MODIFIED:20251204T133046Z
UID:10002494-1764979200-1765065599@www.normandielivre.fr
SUMMARY:Festival Bulles en Baie de Seine
DESCRIPTION:L’idée du Festival Bulles en Baie de Seine est née de l’envie de mettre à l’honneur la Bande Dessinée dans toute sa richesse (locale\, internationale\, classique\, manga\, comics\, romans graphiques…) autour d’un plateau d’une quinzaine d’auteurs. \nUne équipe pluridisciplinaire (Association de fans de BD\, éditeurs\, libraires\, auteurs\, illustrateurs\, élus\, bibliothécaires\, lecteurs …)\, a travaillé à l’élaboration du Festival\, ce qui apporte différents regards et une grande richesse. Elle vous propose un événement convivial\, à taille humaine\, satisfaisant à la fois les attentes des passionnés du 9e art mais aussi celles d’un public familial heureux de découvrir la planète BD. \nL’équipe a à cœur de permettre à tous de découvrir « en chair et en os » des auteurs\, à la fois dans le cadre de rencontres scolaires le vendredi précédant le festival mais aussi lors d’ateliers organisés tout au long de la journée de samedi. \nL’objectif est que tous les publics soient satisfaits. Bulles en Seine s’inscrit dans une démarche ludique et familiale. Les auteurs et les illustrateurs seront accueillis comme à la maison.\nL’invité d’honneur de ce premier festival est Belge\, Pierre-Yves Berhin\, dit-Hamo\, est l’auteur de nombreuses BD\, parmi lesquelles « Lord Jeffrey ». Comme le veut la tradition des festivals de BD\, Hamo a réalisé l’affiche de la 1ère édition de Bulles en Baie de Seine\, elle offre un aperçu de ses nouveaux personnages et de notre belle région\, la Baie de Seine. \nGrenier à Sel allée de la découverte Gainneville
URL:https://www.normandielivre.fr/agenda-collaboratif/festival-bulles-en-baie-de-seine/
LOCATION:Grenier à Sel allée de la découverte Gainneville\, Allée de la Découverte\, GAINNEVILLE\, 76700\, France
CATEGORIES:Festival
ATTACH;FMTTYPE=image/jpeg:https://www.normandielivre.fr/wp-content/uploads/2025/08/Affiche-salon-de-la-BD-Juin-2025-scaled.jpg
END:VEVENT
END:VCALENDAR