BEGIN:VCALENDAR
VERSION:2.0
PRODID:-//Normandie Livre &amp; Lecture - ECPv6.15.11//NONSGML v1.0//EN
CALSCALE:GREGORIAN
METHOD:PUBLISH
X-WR-CALNAME:Normandie Livre &amp; Lecture
X-ORIGINAL-URL:https://www.normandielivre.fr
X-WR-CALDESC:Évènements pour Normandie Livre &amp; Lecture
REFRESH-INTERVAL;VALUE=DURATION:PT1H
X-Robots-Tag:noindex
X-PUBLISHED-TTL:PT1H
BEGIN:VTIMEZONE
TZID:Europe/Paris
BEGIN:DAYLIGHT
TZOFFSETFROM:+0100
TZOFFSETTO:+0200
TZNAME:CEST
DTSTART:20240331T010000
END:DAYLIGHT
BEGIN:STANDARD
TZOFFSETFROM:+0200
TZOFFSETTO:+0100
TZNAME:CET
DTSTART:20241027T010000
END:STANDARD
BEGIN:DAYLIGHT
TZOFFSETFROM:+0100
TZOFFSETTO:+0200
TZNAME:CEST
DTSTART:20250330T010000
END:DAYLIGHT
BEGIN:STANDARD
TZOFFSETFROM:+0200
TZOFFSETTO:+0100
TZNAME:CET
DTSTART:20251026T010000
END:STANDARD
BEGIN:DAYLIGHT
TZOFFSETFROM:+0100
TZOFFSETTO:+0200
TZNAME:CEST
DTSTART:20260329T010000
END:DAYLIGHT
BEGIN:STANDARD
TZOFFSETFROM:+0200
TZOFFSETTO:+0100
TZNAME:CET
DTSTART:20261025T010000
END:STANDARD
END:VTIMEZONE
BEGIN:VEVENT
DTSTART;TZID=Europe/Paris:20251004T143000
DTEND;TZID=Europe/Paris:20251004T163000
DTSTAMP:20260420T152224
CREATED:20250922T071301Z
LAST-MODIFIED:20250922T071607Z
UID:10002567-1759588200-1759595400@www.normandielivre.fr
SUMMARY:Atelier : Haïkus on the beach !
DESCRIPTION:Atelier d’écriture de haïkus sur la plage à Granville \nDans le cadre du festival Pic de Fièvre\, un atelier ouvert à toutes et tous\, à partir de 14 ans. \nTarif libre à partir de 5 euros \nGranville
URL:https://www.normandielivre.fr/agenda-collaboratif/atelier-haikus-on-the-beach/
LOCATION:Granville\, haute ville\, Granville\, 50400
CATEGORIES:Atelier
ATTACH;FMTTYPE=image/jpeg:https://www.normandielivre.fr/wp-content/uploads/2025/09/final_A3_sept25.jpeg
ORGANIZER;CN="compagnie l'intrankil":MAILTO:festivalpicdefievre@gmail.com
END:VEVENT
BEGIN:VEVENT
DTSTART;TZID=Europe/Paris:20251003T170000
DTEND;TZID=Europe/Paris:20251005T210000
DTSTAMP:20260420T152224
CREATED:20250922T072039Z
LAST-MODIFIED:20250922T072142Z
UID:10002566-1759510800-1759698000@www.normandielivre.fr
SUMMARY:Festival PIC DE FIEVRE
DESCRIPTION:3 auteurs et autrices en immersion 3 jours dans 3 entreprises du bassin granvillais \n3 jours de festival les 3\, 4\, 5 octobre dans 3 lieux de Granville et plus si affinité. \nDes lectures\, des happenings\, de la musique\, une vraie fausse table ronde\, un atelier d’écriture et des surprises : de quoi passer un week-end littéraire et festival\, créatif et balnéaire. \nLes auteurs et autrices 2025 : Vincent Bellée\, Maïna Madec et Clémence Weill. \nRetrouver la programmation et la billetterie sur www.picdefievre.com \nGranville
URL:https://www.normandielivre.fr/agenda-collaboratif/festival-pic-de-fievre/
LOCATION:Granville\, haute ville\, Granville\, 50400
CATEGORIES:Festival
ATTACH;FMTTYPE=image/jpeg:https://www.normandielivre.fr/wp-content/uploads/2025/09/final_A3_modi_logo-scaled.jpg
ORGANIZER;CN="compagnie l'intrankil":MAILTO:festivalpicdefievre@gmail.com
END:VEVENT
BEGIN:VEVENT
DTSTART;TZID=Europe/Paris:20250322T130000
DTEND;TZID=Europe/Paris:20250323T163000
DTSTAMP:20260420T152224
CREATED:20250225T125736Z
LAST-MODIFIED:20250225T125736Z
UID:10002157-1742648400-1742747400@www.normandielivre.fr
SUMMARY:Stage d'écriture - Damien Dutrait - Granville
DESCRIPTION:Stage d’écriture – LES 22 ET 23 MARS 2025\nAnimé par Damien Dutrait à la Villa d’Ôt à Granville \nInscriptions : https://www.helloasso.com/associations/desphi-association/evenements/stage-ecriture \nCe stage s’adresse à toute personne ayant un projet d’écriture\, quel que soit son état d’avancement. Que vous ayez déjà posé les bases de ce projet ou pas\, ces deux jours vous apporteront des outils concrets pour avancer et faire évoluer vos écrits. \nAucune expérience préalable n’est requise. \nLe week-end d’écriture se déroule en quatre séances de travail :\nSamedi 22/03 de 13h-15h30 et 16h-18h30\nDimanche 23/03 de 10h30-12h30 et 13h30–16h30 (avec pause d’une heure)\n>> 10h au total \nLe temps du stage se répartit entre moments collectifs et travail individuel.\n> Bases générales de dramaturgie\, exercices individuels ou collectifs\, découverte des projets des participant.e.s et évaluation des directions à prendre\, Identification des nœuds\, blocages\, résolutions\, problématiques spécifiques\, etc… Préparation des prochaines étapes d’écriture. \nDamien Dutrait est auteur\, principalement de théâtre.\nIl a publié plusieurs pièces et ouvrages\, et ses pièces sont montées par des compagnies professionnelles. http://damiendutrait.fr\nIl anime de nombreux ateliers d’écriture avec des professionnel.le.s du théâtre ou des amateur.ice.s. Ainsi qu’ en milieu scolaire\, carcéral ou hospitalier.\nLes outils qu’il propose sont les mêmes que ceux qu’il utilise quotidiennement pour ses écrits. En atelier\, il alterne notions générales de dramaturgie et d’écriture et exercices/jeux d’écriture. \nGranville
URL:https://www.normandielivre.fr/agenda-collaboratif/stage-decriture-damien-dutrait-granville/
LOCATION:Granville\, haute ville\, Granville\, 50400
CATEGORIES:Stage
ATTACH;FMTTYPE=image/jpeg:https://www.normandielivre.fr/wp-content/uploads/2025/02/Oeuvre_ecrivain_R-F-550x310-1.jpeg
ORGANIZER;CN="Villa d'Ot":MAILTO:contact@villadot.fr
END:VEVENT
END:VCALENDAR