BEGIN:VCALENDAR
VERSION:2.0
PRODID:-//Normandie Livre &amp; Lecture - ECPv6.15.11//NONSGML v1.0//EN
CALSCALE:GREGORIAN
METHOD:PUBLISH
X-ORIGINAL-URL:https://www.normandielivre.fr
X-WR-CALDESC:Évènements pour Normandie Livre &amp; Lecture
REFRESH-INTERVAL;VALUE=DURATION:PT1H
X-Robots-Tag:noindex
X-PUBLISHED-TTL:PT1H
BEGIN:VTIMEZONE
TZID:Europe/Paris
BEGIN:DAYLIGHT
TZOFFSETFROM:+0100
TZOFFSETTO:+0200
TZNAME:CEST
DTSTART:20220327T010000
END:DAYLIGHT
BEGIN:STANDARD
TZOFFSETFROM:+0200
TZOFFSETTO:+0100
TZNAME:CET
DTSTART:20221030T010000
END:STANDARD
BEGIN:DAYLIGHT
TZOFFSETFROM:+0100
TZOFFSETTO:+0200
TZNAME:CEST
DTSTART:20230326T010000
END:DAYLIGHT
BEGIN:STANDARD
TZOFFSETFROM:+0200
TZOFFSETTO:+0100
TZNAME:CET
DTSTART:20231029T010000
END:STANDARD
BEGIN:DAYLIGHT
TZOFFSETFROM:+0100
TZOFFSETTO:+0200
TZNAME:CEST
DTSTART:20240331T010000
END:DAYLIGHT
BEGIN:STANDARD
TZOFFSETFROM:+0200
TZOFFSETTO:+0100
TZNAME:CET
DTSTART:20241027T010000
END:STANDARD
END:VTIMEZONE
BEGIN:VEVENT
DTSTART;TZID=Europe/Paris:20230701T110000
DTEND;TZID=Europe/Paris:20230702T180000
DTSTAMP:20260423T202727
CREATED:20230619T115545Z
LAST-MODIFIED:20230619T115545Z
UID:10001579-1688209200-1688320800@www.normandielivre.fr
SUMMARY:Salon du livre « Pour les enfants et les raffinés » fleury
DESCRIPTION:Le salon du livre « pour les enfants et les raffinés » aura lieu dans la vieille église de Fleury sur Orne (près du Centre équestre). \nLes thèmes : Jeunesse / Art / Poésie / Architecture / Jardins \nAvec les éditions : L’échoppe\, Sens & Tonka / Lurlure / Fais-moi-signe / Phloème / Cactus / Atelier la Feugraie / Iconomoteur / Rehauts / Marguerite Waknine / Exopotamie / Atelier rue du soleil. \nEt la participation de la librairie Guillaume. \nFleury sur Orne
URL:https://www.normandielivre.fr/agenda-collaboratif/salon-du-livre-pour-les-enfants-et-les-raffines-fleury/
LOCATION:Fleury sur Orne\, Fleury sur Orne\, 14123
CATEGORIES:Salon
END:VEVENT
END:VCALENDAR