BEGIN:VCALENDAR
VERSION:2.0
PRODID:-//Normandie Livre &amp; Lecture - ECPv6.15.11//NONSGML v1.0//EN
CALSCALE:GREGORIAN
METHOD:PUBLISH
X-WR-CALNAME:Normandie Livre &amp; Lecture
X-ORIGINAL-URL:https://www.normandielivre.fr
X-WR-CALDESC:Évènements pour Normandie Livre &amp; Lecture
REFRESH-INTERVAL;VALUE=DURATION:PT1H
X-Robots-Tag:noindex
X-PUBLISHED-TTL:PT1H
BEGIN:VTIMEZONE
TZID:Europe/Paris
BEGIN:DAYLIGHT
TZOFFSETFROM:+0100
TZOFFSETTO:+0200
TZNAME:CEST
DTSTART:20210328T010000
END:DAYLIGHT
BEGIN:STANDARD
TZOFFSETFROM:+0200
TZOFFSETTO:+0100
TZNAME:CET
DTSTART:20211031T010000
END:STANDARD
BEGIN:DAYLIGHT
TZOFFSETFROM:+0100
TZOFFSETTO:+0200
TZNAME:CEST
DTSTART:20220327T010000
END:DAYLIGHT
BEGIN:STANDARD
TZOFFSETFROM:+0200
TZOFFSETTO:+0100
TZNAME:CET
DTSTART:20221030T010000
END:STANDARD
BEGIN:DAYLIGHT
TZOFFSETFROM:+0100
TZOFFSETTO:+0200
TZNAME:CEST
DTSTART:20230326T010000
END:DAYLIGHT
BEGIN:STANDARD
TZOFFSETFROM:+0200
TZOFFSETTO:+0100
TZNAME:CET
DTSTART:20231029T010000
END:STANDARD
END:VTIMEZONE
BEGIN:VEVENT
DTSTART;TZID=Europe/Paris:20221008T100000
DTEND;TZID=Europe/Paris:20221008T180000
DTSTAMP:20260422T055006
CREATED:20220922T093258Z
LAST-MODIFIED:20220922T093258Z
UID:10001346-1665223200-1665252000@www.normandielivre.fr
SUMMARY:Salon Terres d'Imaginaire (2e édition)
DESCRIPTION:Salon Terres d’Imaginaire 2022 : 2e Salon du Livre de SF\, Fantasy et Fantastique \nVenez (re)découvrir 18 auteurs.trices en rencontre-dédicace au sein de l’Espace Culturel du centre E.Leclerc Terres de Seine à Vernon (27200). \nSeront présent.e.s : Sarah Andres\, Jean Baret\, Gianenrico Bonacorsi\, Lucca Demay\, Anouk Filippini\, Gemme\, Sophie Gliocas\, Ronan Gouedard\, Maxime Josse\, Nicolas Keisser\, Coralie Laurent\, Mégane Lourenco\, Susie Norman\, Alexandre d’Orlando\, Manon Patou-Stefaniak\, Maelle Poe\, Ayama Shinu\, Lena Walker. \nEspace Culturel E.Leclerc Vernon
URL:https://www.normandielivre.fr/agenda-collaboratif/salon-terres-dimaginaire-2e-edition/
LOCATION:Espace Culturel E.Leclerc Vernon\, ZI du Virolet - Boulevard Jean Jaurès\, Vernon\, 27200
CATEGORIES:Salon
ATTACH;FMTTYPE=image/png:https://www.normandielivre.fr/wp-content/uploads/2022/09/AFFICHE-IMAGINAIRE-2022.png
END:VEVENT
END:VCALENDAR