BEGIN:VCALENDAR
VERSION:2.0
PRODID:-//Normandie Livre &amp; Lecture - ECPv6.15.11//NONSGML v1.0//EN
CALSCALE:GREGORIAN
METHOD:PUBLISH
X-ORIGINAL-URL:https://www.normandielivre.fr
X-WR-CALDESC:Évènements pour Normandie Livre &amp; Lecture
REFRESH-INTERVAL;VALUE=DURATION:PT1H
X-Robots-Tag:noindex
X-PUBLISHED-TTL:PT1H
BEGIN:VTIMEZONE
TZID:Europe/Paris
BEGIN:DAYLIGHT
TZOFFSETFROM:+0100
TZOFFSETTO:+0200
TZNAME:CEST
DTSTART:20210328T010000
END:DAYLIGHT
BEGIN:STANDARD
TZOFFSETFROM:+0200
TZOFFSETTO:+0100
TZNAME:CET
DTSTART:20211031T010000
END:STANDARD
BEGIN:DAYLIGHT
TZOFFSETFROM:+0100
TZOFFSETTO:+0200
TZNAME:CEST
DTSTART:20220327T010000
END:DAYLIGHT
BEGIN:STANDARD
TZOFFSETFROM:+0200
TZOFFSETTO:+0100
TZNAME:CET
DTSTART:20221030T010000
END:STANDARD
BEGIN:DAYLIGHT
TZOFFSETFROM:+0100
TZOFFSETTO:+0200
TZNAME:CEST
DTSTART:20230326T010000
END:DAYLIGHT
BEGIN:STANDARD
TZOFFSETFROM:+0200
TZOFFSETTO:+0100
TZNAME:CET
DTSTART:20231029T010000
END:STANDARD
BEGIN:DAYLIGHT
TZOFFSETFROM:+0100
TZOFFSETTO:+0200
TZNAME:CEST
DTSTART:20240331T010000
END:DAYLIGHT
BEGIN:STANDARD
TZOFFSETFROM:+0200
TZOFFSETTO:+0100
TZNAME:CET
DTSTART:20241027T010000
END:STANDARD
BEGIN:DAYLIGHT
TZOFFSETFROM:+0100
TZOFFSETTO:+0200
TZNAME:CEST
DTSTART:20250330T010000
END:DAYLIGHT
BEGIN:STANDARD
TZOFFSETFROM:+0200
TZOFFSETTO:+0100
TZNAME:CET
DTSTART:20251026T010000
END:STANDARD
END:VTIMEZONE
BEGIN:VEVENT
DTSTART;VALUE=DATE:20240928
DTEND;VALUE=DATE:20240930
DTSTAMP:20260422T054938
CREATED:20240730T121158Z
LAST-MODIFIED:20240823T123819Z
UID:10001932-1727481600-1727654399@www.normandielivre.fr
SUMMARY:Festival NormandieBulle
DESCRIPTION:Pour sa 28ème édition\, le festival Normandiebulle attend plus de 80 personnalités du 9ème art\, parmi lesquels exceptionnellement\, un binôme en invités d’honneur\, avec le scénariste Gaëtan Petit alias Gaet’s et son comparse\, le dessinateur Julien Monier. \nDès le 10 septembre et bien au-delà de la seule commune de Darnétal\, initiatrice de l’événement\, l’édition 2024 se déclinera aussi sur 4 autres villes de l’agglo rouennaise : Mont-St-Aignan\, St-Pierre-les-Elbeuf\, St-Léger du Bourg Denis et Rouen. La programmation investira des lieux aussi divers que cinéma\, librairie\, galerie\, bar\, écoles\, centres culturels\, bibliothèques ou milieu carcéral avec le Prix Hors les murs. À titre d’exemples\, citons l’exposition de la série Pop Rock en BD illustrée par Anne Royant dans le bar rouennais Le 3 Pièces\, celle de la Soucoupe à Mt-St-Aignan avec D-Day stories\, premier manga sur le débarquement signé Wallace et Tonda ou encore 3 expositions à St-Pierre-les-Elbeuf : Batman\, Les Enfants de la Résistance et Animal Jack. \nLors du week-end des 28 et 29 septembre\, temps fort du festival à Darnétal\, les amateurs auront la possibilité de rencontrer plus de 80 auteurs dont la présence est d’ores et déjà confirmée. \nEn premier lieu\, citons Gaet’s et Monier\, références incontournables dans l’univers du polar en BD\, qui se sont notamment fait connaître avec RIP\, une série à succès joyeusement macabre qui s’est achevée en septembre dernier avec leur sixième tome. Pour éclairer la carrière de ce duo artistique\, trois expositions leur seront consacrées :\n– L’une d’elles dévoilera un travail commun en cours\, autour de « Fan Man » dont certaines planches seront révélées à Darnétal en avant-première\, alors que sa publication n’est prévue qu’en fin d’année. « Fan Man : l’homme au ventilo » constitue l’adaptation en BD du roman déjanté de William Kotzwinkle publié en 1974.\n– Une autre regroupera des planches originales et reproductions issues d’albums sur lesquels Gaet’s travailla dont Dinodyssée\, collaboration avec l’illustratrice Clotilde Goubely\, présente lors du festival.\n– Une troisième exposition présentera des planches de Julien Monier dont notamment « Les sauveurs d’Esprits » (Éd. Dupuis)\, fruit d’un travail avec la pétillante scénariste Carbone attendue au festival. \nEn autre temps fort\, signalons l’initiative portée par l’érudit chroniqueur de presse Laurent Mathieu\, qui a compilé au fil de ses innombrables entretiens avec les grands noms de la BD\, les réponses à sa rituelle question subsidiaire : Pourquoi dessinez-vous ? En regard\, il nous fera découvrir une sélection d’autoportraits d’autrices et d’auteurs\, riches de confidences et d’humour ! \nPlébiscitée par un large public et notamment les plus jeunes\, la formule de la lecture dessinée se déroulera autour du personnage d’Anuki. Stéphane Sénégas dessinera en direct l’histoire du célèbre petit indien\, contée par le scénariste Frédéric Maupomé. Mise en scène\, cette lecture prend la forme d’un spectacle avec un jeu entre un scénariste tyrannique et un dessinateur timide\, chacun tendant des pièges à l’autre\, sous le regard complice et amusé du public. \nChaque édition du festival offre la découverte de talents inédits en présentant les meilleures planches du concours de BD amateur. « Duo de choc »\, son thème 2024 intervient en clin d’œil au binôme à l’honneur de l’édition. Outre le fait d’être exposé et l’attribution de prix\, ce concours offre chaque année aux lauréats l’opportunité de recevoir l’avis des professionnels du jury. \nAu-delà des opportunités de dédicaces\, la diversité des formes de la BD d’aujourd’hui se déclinera également dans la nature des événements qu’il s’agisse d’ateliers (BD numérique\, flip book\, portrait manga\, jeunesse\, scénario)\, de lectures\, expositions\, tables-rondes\, escape game\, conférences ou spectacles dessinés. Toutes les cases du 9ème art y seront ainsi exploitées ! \nFestival Normandiebulle\, À compter du 10 septembre sur l’agglo rouennaise jusqu’au temps fort du week-end des 28 et 29 septembre à Darnétal (Tennis couverts 4\, allée de la gare) et lieux partenaires de 10h à 18h – Tarifs : plein : 6\,50 €\, réduit : 4\,00 €. Pass 2 jours : plein 8\,50 € et réduit 6\,50 €. Gratuit pour les darnétalais\, les moins de 16 ans\, les étudiants de l’université de Rouen. Renseignements tél. 02 32 12 31 70. www.normandiebulle.com \nDarnétal
URL:https://www.normandielivre.fr/agenda-collaboratif/festival-normandiebulle/
LOCATION:Darnétal
CATEGORIES:Festival
ATTACH;FMTTYPE=image/jpeg:https://www.normandielivre.fr/wp-content/uploads/2024/07/affiche-Normandiebulle-©-Julien-Monier.jpg
ORGANIZER;CN="Pole culturel Ville Darn%C3%A9tal":MAILTO:secretariat@festivalbddarnetal.com
END:VEVENT
BEGIN:VEVENT
DTSTART;VALUE=DATE:20220924
DTEND;VALUE=DATE:20220926
DTSTAMP:20260422T054938
CREATED:20220729T122436Z
LAST-MODIFIED:20220729T122436Z
UID:10001269-1663977600-1664150399@www.normandielivre.fr
SUMMARY:26ème édition du festival Normandiebulle
DESCRIPTION:Nous sommes heureux de vous retrouver pour la 26° édition du festival BD Normandiebulle les 24 et 25 septembre 2022. \nLes auteurs ont été nombreux à répondre positivement à la commune de Darnétal\, organisatrice de la manifestation. Cette\n26e édition s’amorce donc avec une envie décuplée d’échanges\, de partages et de rires\, marqueurs forts de l’identité du festival qui\, depuis toujours\, se veut un lieu privilégié de convivialité autour dunmonde passionnant et foisonnant de la bande dessinée. \nBD\, concert dessiné\, BD spectacles \nQuel plaisir de fêter le 9e Art \nDédicaces\, expositions\, conférences\, tables-rondes\, spectacles… Cette année encore\, le festival ré-affirme sa volonté de décliner la bande dessinée sous toutes ses formes notamment par la présence de notre invité d’honneur Normand : Steve\nBaker. \nAvec la scénariste Théa ROJZMAN\, il a prévu de nous présenter leur nouvelle jeune héroïne dans Billie bang bang\, il exposera les tirages de ses oiseaux en baskets et nous parlera de l’adaptation de la vie en slip en série animée. \nDe plus\, notre invité d’honneur mettra lui aussi Darnétal à l’honneur puisqu’il a choisi de nous présenter en avant-première l’intégrale de Bots. \nSous l’égide de Steve BAKER\, et avec plus d’une cinquantaine d’auteurs\, la jeunesse sera notre fil conducteur. L’occasion parfaite d’aborder différentes thématiques qui s’adresseront aux petits et grands : l’écologie\, le fantastique\, l’enfance confrontée mais également les héros de ma jeunesse. \nIl s’agira d’ailleurs du thème de notre concours amateur et ce sera l’occasion d’introduire une nouveauté dans cette édition : la création du Prix François Lelièvre qui récompensera une planche parmi toutes les catégories confondues du concours. \nClin d’œil au créateur du festival BD de Darnétal et notre Président d’honneur. \nAuteurs\, exposants\, visiteurs\, organisateurs : retrouvons-nous les 24 et 25 septembre\, aux Tennis Couverts pour célébrer ensemble la bande dessinée. \n  \nFrançoise VARIN\nAdjointe au Maire en charge de la Culture \nDarnétal
URL:https://www.normandielivre.fr/agenda-collaboratif/26eme-edition-du-festival-normandiebulle/
LOCATION:Darnétal
CATEGORIES:Festival
ATTACH;FMTTYPE=image/jpeg:https://www.normandielivre.fr/wp-content/uploads/2022/07/Affiche-Normandiebulle-2022-scaled.jpg
END:VEVENT
END:VCALENDAR