BEGIN:VCALENDAR
VERSION:2.0
PRODID:-//Normandie Livre &amp; Lecture - ECPv6.15.11//NONSGML v1.0//EN
CALSCALE:GREGORIAN
METHOD:PUBLISH
X-WR-CALNAME:Normandie Livre &amp; Lecture
X-ORIGINAL-URL:https://www.normandielivre.fr
X-WR-CALDESC:Évènements pour Normandie Livre &amp; Lecture
REFRESH-INTERVAL;VALUE=DURATION:PT1H
X-Robots-Tag:noindex
X-PUBLISHED-TTL:PT1H
BEGIN:VTIMEZONE
TZID:Europe/Paris
BEGIN:DAYLIGHT
TZOFFSETFROM:+0100
TZOFFSETTO:+0200
TZNAME:CEST
DTSTART:20220327T010000
END:DAYLIGHT
BEGIN:STANDARD
TZOFFSETFROM:+0200
TZOFFSETTO:+0100
TZNAME:CET
DTSTART:20221030T010000
END:STANDARD
BEGIN:DAYLIGHT
TZOFFSETFROM:+0100
TZOFFSETTO:+0200
TZNAME:CEST
DTSTART:20230326T010000
END:DAYLIGHT
BEGIN:STANDARD
TZOFFSETFROM:+0200
TZOFFSETTO:+0100
TZNAME:CET
DTSTART:20231029T010000
END:STANDARD
BEGIN:DAYLIGHT
TZOFFSETFROM:+0100
TZOFFSETTO:+0200
TZNAME:CEST
DTSTART:20240331T010000
END:DAYLIGHT
BEGIN:STANDARD
TZOFFSETFROM:+0200
TZOFFSETTO:+0100
TZNAME:CET
DTSTART:20241027T010000
END:STANDARD
END:VTIMEZONE
BEGIN:VEVENT
DTSTART;TZID=Europe/Paris:20230415T140000
DTEND;TZID=Europe/Paris:20230415T180000
DTSTAMP:20260420T182227
CREATED:20230407T090038Z
LAST-MODIFIED:20230407T090038Z
UID:10001545-1681567200-1681581600@www.normandielivre.fr
SUMMARY:La fête du printemps
DESCRIPTION:Le samedi 15 avril\, le magasin Cultura de Barentin fête l’arrivée du printemps ! Brigitte et Louise FERRY seront présentes de 14 heures à 18 heures pour présenter leur album jeunesse « Le voyage de Titi »\, qui raconte les aventures d’un petit hérisson. Le livre est paru en novembre 2022 aux éditions Melrakki\, une maison dédiée à la cause de la petite faune sauvage. \nCultura Barentin
URL:https://www.normandielivre.fr/agenda-collaboratif/la-fete-du-printemps/
LOCATION:Cultura Barentin\, Centre Commercial Mesnil Roux\, Barentin\, 76360
CATEGORIES:Dédicace
ATTACH;FMTTYPE=image/jpeg:https://www.normandielivre.fr/wp-content/uploads/2023/04/Le-voyage-de-Titi-COUVERTURE-300-dpi-1-scaled.jpg
END:VEVENT
END:VCALENDAR