BEGIN:VCALENDAR
VERSION:2.0
PRODID:-//Normandie Livre &amp; Lecture - ECPv6.15.11//NONSGML v1.0//EN
CALSCALE:GREGORIAN
METHOD:PUBLISH
X-ORIGINAL-URL:https://www.normandielivre.fr
X-WR-CALDESC:Évènements pour Normandie Livre &amp; Lecture
REFRESH-INTERVAL;VALUE=DURATION:PT1H
X-Robots-Tag:noindex
X-PUBLISHED-TTL:PT1H
BEGIN:VTIMEZONE
TZID:Europe/Paris
BEGIN:DAYLIGHT
TZOFFSETFROM:+0100
TZOFFSETTO:+0200
TZNAME:CEST
DTSTART:20220327T010000
END:DAYLIGHT
BEGIN:STANDARD
TZOFFSETFROM:+0200
TZOFFSETTO:+0100
TZNAME:CET
DTSTART:20221030T010000
END:STANDARD
BEGIN:DAYLIGHT
TZOFFSETFROM:+0100
TZOFFSETTO:+0200
TZNAME:CEST
DTSTART:20230326T010000
END:DAYLIGHT
BEGIN:STANDARD
TZOFFSETFROM:+0200
TZOFFSETTO:+0100
TZNAME:CET
DTSTART:20231029T010000
END:STANDARD
BEGIN:DAYLIGHT
TZOFFSETFROM:+0100
TZOFFSETTO:+0200
TZNAME:CEST
DTSTART:20240331T010000
END:DAYLIGHT
BEGIN:STANDARD
TZOFFSETFROM:+0200
TZOFFSETTO:+0100
TZNAME:CET
DTSTART:20241027T010000
END:STANDARD
END:VTIMEZONE
BEGIN:VEVENT
DTSTART;TZID=Europe/Paris:20230814T140000
DTEND;TZID=Europe/Paris:20230818T163000
DTSTAMP:20260423T144313
CREATED:20230721T124941Z
LAST-MODIFIED:20230721T124941Z
UID:10001607-1692021600-1692376200@www.normandielivre.fr
SUMMARY:Eté culturel 2023 : Yann Dupont au centre de détention d'Argentan (61)
DESCRIPTION:De bitume et d’herbes folles\nPhotographier le sensible et l’imperceptible. Aborder l’écriture poétique dans sa spontanéité pour qu’elle reste au plus proche du vouloir dire ; une émotion\, un sentiment ou une sensation. L’auteur amènera les participants à libérer leur créativité par des jeux d’écriture progressifs tout en laissant de plus en plus de place à l’autonomie. \nCentre de détention d’Argentan
URL:https://www.normandielivre.fr/agenda-collaboratif/ete-culturel-2023-yann-dupont-au-centre-de-detention-dargentan-61/
LOCATION:Centre de détention d’Argentan\, Le Frichot\, Route de Tercei\, Argentan\, 61891
CATEGORIES:Été culturel
ATTACH;FMTTYPE=image/png:https://www.normandielivre.fr/wp-content/uploads/2023/02/DUPONT-e1695385369172.png
END:VEVENT
END:VCALENDAR