BEGIN:VCALENDAR
VERSION:2.0
PRODID:-//Normandie Livre &amp; Lecture - ECPv6.15.11//NONSGML v1.0//EN
CALSCALE:GREGORIAN
METHOD:PUBLISH
X-WR-CALNAME:Normandie Livre &amp; Lecture
X-ORIGINAL-URL:https://www.normandielivre.fr
X-WR-CALDESC:Évènements pour Normandie Livre &amp; Lecture
REFRESH-INTERVAL;VALUE=DURATION:PT1H
X-Robots-Tag:noindex
X-PUBLISHED-TTL:PT1H
BEGIN:VTIMEZONE
TZID:Europe/Paris
BEGIN:DAYLIGHT
TZOFFSETFROM:+0100
TZOFFSETTO:+0200
TZNAME:CEST
DTSTART:20220327T010000
END:DAYLIGHT
BEGIN:STANDARD
TZOFFSETFROM:+0200
TZOFFSETTO:+0100
TZNAME:CET
DTSTART:20221030T010000
END:STANDARD
BEGIN:DAYLIGHT
TZOFFSETFROM:+0100
TZOFFSETTO:+0200
TZNAME:CEST
DTSTART:20230326T010000
END:DAYLIGHT
BEGIN:STANDARD
TZOFFSETFROM:+0200
TZOFFSETTO:+0100
TZNAME:CET
DTSTART:20231029T010000
END:STANDARD
BEGIN:DAYLIGHT
TZOFFSETFROM:+0100
TZOFFSETTO:+0200
TZNAME:CEST
DTSTART:20240331T010000
END:DAYLIGHT
BEGIN:STANDARD
TZOFFSETFROM:+0200
TZOFFSETTO:+0100
TZNAME:CET
DTSTART:20241027T010000
END:STANDARD
END:VTIMEZONE
BEGIN:VEVENT
DTSTART;TZID=Europe/Paris:20230502T200000
DTEND;TZID=Europe/Paris:20230502T200000
DTSTAMP:20260420T215444
CREATED:20230331T143442Z
LAST-MODIFIED:20230403T074255Z
UID:10001541-1683057600-1683057600@www.normandielivre.fr
SUMMARY:Festival Culturissimo 2023\, André Manoukian à la Ferté-Macé
DESCRIPTION:Le festival Culturissimo fait étape à La Ferté-Macé durant sa 10e édition ! \nEn effet\, ce festival organisé par les Espaces Culturels Leclerc\, met un point d’honneur à la diffusion de la culture\, accessible à tous et gratuitement. \nLe 2 mai prochain\, André Manoukian sera au Casino Bagnoles de L’Orne à 20h pour une interprétation de son album Anouch. \nL’entrée est gratuite\, les tickets sont à récupérer à L’Espace Culturel Leclerc de La Ferté-Macé. \nCasino Bagnoles de L’Orne
URL:https://www.normandielivre.fr/agenda-collaboratif/festival-culturissimo-2023-andre-manoukian-a-la-ferte-mace/
LOCATION:Casino Bagnoles de L’Orne\, 6 Avenue Robert Cousin\, Bagnoles de l'Orne\, 61140
CATEGORIES:Rencontre
ATTACH;FMTTYPE=image/png:https://www.normandielivre.fr/wp-content/uploads/2023/03/Capture-décran-2023-03-31-à-15.59.59.png
END:VEVENT
END:VCALENDAR