BEGIN:VCALENDAR
VERSION:2.0
PRODID:-//Normandie Livre &amp; Lecture - ECPv6.15.11//NONSGML v1.0//EN
CALSCALE:GREGORIAN
METHOD:PUBLISH
X-WR-CALNAME:Normandie Livre &amp; Lecture
X-ORIGINAL-URL:https://www.normandielivre.fr
X-WR-CALDESC:Évènements pour Normandie Livre &amp; Lecture
REFRESH-INTERVAL;VALUE=DURATION:PT1H
X-Robots-Tag:noindex
X-PUBLISHED-TTL:PT1H
BEGIN:VTIMEZONE
TZID:Europe/Paris
BEGIN:DAYLIGHT
TZOFFSETFROM:+0100
TZOFFSETTO:+0200
TZNAME:CEST
DTSTART:20250330T010000
END:DAYLIGHT
BEGIN:STANDARD
TZOFFSETFROM:+0200
TZOFFSETTO:+0100
TZNAME:CET
DTSTART:20251026T010000
END:STANDARD
BEGIN:DAYLIGHT
TZOFFSETFROM:+0100
TZOFFSETTO:+0200
TZNAME:CEST
DTSTART:20260329T010000
END:DAYLIGHT
BEGIN:STANDARD
TZOFFSETFROM:+0200
TZOFFSETTO:+0100
TZNAME:CET
DTSTART:20261025T010000
END:STANDARD
BEGIN:DAYLIGHT
TZOFFSETFROM:+0100
TZOFFSETTO:+0200
TZNAME:CEST
DTSTART:20270328T010000
END:DAYLIGHT
BEGIN:STANDARD
TZOFFSETFROM:+0200
TZOFFSETTO:+0100
TZNAME:CET
DTSTART:20271031T010000
END:STANDARD
END:VTIMEZONE
BEGIN:VEVENT
DTSTART;TZID=Europe/Paris:20260207T103000
DTEND;TZID=Europe/Paris:20260207T113000
DTSTAMP:20260420T163816
CREATED:20251118T154457Z
LAST-MODIFIED:20251118T162323Z
UID:10002626-1770460200-1770463800@www.normandielivre.fr
SUMMARY:Book club romance avec Julie-Anne Bastard
DESCRIPTION:Une rencontre sous le signe du feel good et de la nostalgie de Noël pour évoquer avec l’autrice Julie-Anne Bastard son dernier ouvrage Au secours\, je suis dans un western de Noël (J’ai Lu\, 2025). Au programme : une vie sentimentale déprimante\, des pots de crèmes glacées mais aussi un ours (terrifiant)\, un cow-boy (mal léché) et un sosie du vieux bonhomme en rouge (déroutant).   \nDiscussion animée par Ellys des mots. \nRéservation conseillée au 02 31 27 13 96 ou par mail à mediatheque@saintmartindemay.fr   \nVente de livres proposée par la librairie La Page qui tourne\, Verson. \nRencontre organisée dans le cadre de l’événement Lire en hiver. \nLire en Hiver\, c’est le meilleur moment pour découvrir les actualités des auteurs\, autrices et maisons d’édition normands\, au plus près de chez vous. Du 20 janvier au 8 février\, partez à la découverte d’univers artistiques et littéraires variés\, dans les bibliothèques et librairies de Normandie. Renseignements : https://www.normandielivre.fr/lire-en-hiver/  \nBibliothèque de Saint Martin de Fontenay
URL:https://www.normandielivre.fr/agenda-collaboratif/book-club-romance-avec-julie-anne-bastard/
LOCATION:Bibliothèque de Saint Martin de Fontenay
CATEGORIES:Club de lecteurs,Lire en hiver,Rencontre
ATTACH;FMTTYPE=image/png:https://www.normandielivre.fr/wp-content/uploads/2025/11/reseaux-sociaux_julie-anne-bastard.png
END:VEVENT
END:VCALENDAR