BEGIN:VCALENDAR
VERSION:2.0
PRODID:-//Normandie Livre &amp; Lecture - ECPv6.15.11//NONSGML v1.0//EN
CALSCALE:GREGORIAN
METHOD:PUBLISH
X-WR-CALNAME:Normandie Livre &amp; Lecture
X-ORIGINAL-URL:https://www.normandielivre.fr
X-WR-CALDESC:Évènements pour Normandie Livre &amp; Lecture
REFRESH-INTERVAL;VALUE=DURATION:PT1H
X-Robots-Tag:noindex
X-PUBLISHED-TTL:PT1H
BEGIN:VTIMEZONE
TZID:Europe/Paris
BEGIN:DAYLIGHT
TZOFFSETFROM:+0100
TZOFFSETTO:+0200
TZNAME:CEST
DTSTART:20230326T010000
END:DAYLIGHT
BEGIN:STANDARD
TZOFFSETFROM:+0200
TZOFFSETTO:+0100
TZNAME:CET
DTSTART:20231029T010000
END:STANDARD
BEGIN:DAYLIGHT
TZOFFSETFROM:+0100
TZOFFSETTO:+0200
TZNAME:CEST
DTSTART:20240331T010000
END:DAYLIGHT
BEGIN:STANDARD
TZOFFSETFROM:+0200
TZOFFSETTO:+0100
TZNAME:CET
DTSTART:20241027T010000
END:STANDARD
BEGIN:DAYLIGHT
TZOFFSETFROM:+0100
TZOFFSETTO:+0200
TZNAME:CEST
DTSTART:20250330T010000
END:DAYLIGHT
BEGIN:STANDARD
TZOFFSETFROM:+0200
TZOFFSETTO:+0100
TZNAME:CET
DTSTART:20251026T010000
END:STANDARD
BEGIN:DAYLIGHT
TZOFFSETFROM:+0100
TZOFFSETTO:+0200
TZNAME:CEST
DTSTART:20260329T010000
END:DAYLIGHT
BEGIN:STANDARD
TZOFFSETFROM:+0200
TZOFFSETTO:+0100
TZNAME:CET
DTSTART:20261025T010000
END:STANDARD
END:VTIMEZONE
BEGIN:VEVENT
DTSTART;VALUE=DATE:20250427
DTEND;VALUE=DATE:20250428
DTSTAMP:20260420T081850
CREATED:20250328T075903Z
LAST-MODIFIED:20250328T075903Z
UID:10002254-1745712000-1745798399@www.normandielivre.fr
SUMMARY:Printemps Littéraire Romillois
DESCRIPTION:Il s’agit d’une manifestation culturelle dédiée à la promotion de la lecture\, qui rassemble des auteurs\, des illustrateurs\, et un public passionné de littérature. \nL’événement vise à encourager la lecture et à mettre en avant les auteurs et leurs travaux dans un cadre convivial et ouvert à tous\, souvent avec des ateliers pour les jeunes lecteurs et des activités pour les écoles du territoire. \nLes auteurs sont invités à présenter leurs œuvres\, participer à des conférences\, des débats ou des ateliers littéraires. Les visiteurs peuvent également découvrir des livres récents\, rencontrer les auteurs\, et assister à des animations autour de la littérature. \nLe Printemps Littéraire Romillois est un moment de partage\, de découverte et de célébration des mots. \nBibliothèque Jacques Prévert (Romilly sur Andelle)
URL:https://www.normandielivre.fr/agenda-collaboratif/printemps-litteraire-romillois-2/
LOCATION:Bibliothèque Jacques Prévert (Romilly sur Andelle)\, 3\, Sente des Ecoles\, Romilly sur Andelle\, 27610
CATEGORIES:Salon
ATTACH;FMTTYPE=image/jpeg:https://www.normandielivre.fr/wp-content/uploads/2025/03/Bandeau_SalonDuLivre-002.jpg-2025-scaled.jpg
ORGANIZER;CN="biblioth&egrave%3Bque Jacques Pr&eacute%3Bvert":MAILTO:bibliotheque.prevert@cherbourg.fr ;
END:VEVENT
BEGIN:VEVENT
DTSTART;TZID=Europe/Paris:20240407T000000
DTEND;TZID=Europe/Paris:20240407T235959
DTSTAMP:20260420T081850
CREATED:20231123T085721Z
LAST-MODIFIED:20231123T085721Z
UID:10001688-1712448000-1712534399@www.normandielivre.fr
SUMMARY:Printemps Littéraire Romillois
DESCRIPTION:Le Printemps Littéraire Romillois est un festival du livre qui se déroule sur plusieurs jours avec des interventions scolaires dans les écoles primaires\, maternelles et collèges du territoire. \nLa clôture en est le salon du livre qui permet aux enfants de retrouver les auteurs pour une dédicace et aussi de permettre aux parents de visiter l’exposition qui reprend tous les travaux des enfants lors de la venue des auteurs dans leurs classes. \nNous proposons aussi à notre public des auteurs de romans\, de policiers\, de BD et de faits divers et de sociétés. \n\n\n\n\n\n\nBibliothèque Jacques Prévert (Romilly sur Andelle)
URL:https://www.normandielivre.fr/agenda-collaboratif/printemps-litteraire-romillois/
LOCATION:Bibliothèque Jacques Prévert (Romilly sur Andelle)\, 3\, Sente des Ecoles\, Romilly sur Andelle\, 27610
CATEGORIES:Festival
ATTACH;FMTTYPE=image/jpeg:https://www.normandielivre.fr/wp-content/uploads/2023/11/bandeau-scaled.jpg
ORGANIZER;CN="Biblioth%C3%A8que Jacques Pr%C3%A9vert":MAILTO:bibliotheque.prevert@cherbourg.fr
END:VEVENT
END:VCALENDAR