BEGIN:VCALENDAR
VERSION:2.0
PRODID:-//Normandie Livre &amp; Lecture - ECPv6.15.11//NONSGML v1.0//EN
CALSCALE:GREGORIAN
METHOD:PUBLISH
X-ORIGINAL-URL:https://www.normandielivre.fr
X-WR-CALDESC:Évènements pour Normandie Livre &amp; Lecture
REFRESH-INTERVAL;VALUE=DURATION:PT1H
X-Robots-Tag:noindex
X-PUBLISHED-TTL:PT1H
BEGIN:VTIMEZONE
TZID:Europe/Paris
BEGIN:DAYLIGHT
TZOFFSETFROM:+0100
TZOFFSETTO:+0200
TZNAME:CEST
DTSTART:20240331T010000
END:DAYLIGHT
BEGIN:STANDARD
TZOFFSETFROM:+0200
TZOFFSETTO:+0100
TZNAME:CET
DTSTART:20241027T010000
END:STANDARD
BEGIN:DAYLIGHT
TZOFFSETFROM:+0100
TZOFFSETTO:+0200
TZNAME:CEST
DTSTART:20250330T010000
END:DAYLIGHT
BEGIN:STANDARD
TZOFFSETFROM:+0200
TZOFFSETTO:+0100
TZNAME:CET
DTSTART:20251026T010000
END:STANDARD
BEGIN:DAYLIGHT
TZOFFSETFROM:+0100
TZOFFSETTO:+0200
TZNAME:CEST
DTSTART:20260329T010000
END:DAYLIGHT
BEGIN:STANDARD
TZOFFSETFROM:+0200
TZOFFSETTO:+0100
TZNAME:CET
DTSTART:20261025T010000
END:STANDARD
END:VTIMEZONE
BEGIN:VEVENT
DTSTART;TZID=Europe/Paris:20250426T110000
DTEND;TZID=Europe/Paris:20250426T183000
DTSTAMP:20260421T090407
CREATED:20241212T135259Z
LAST-MODIFIED:20241212T135324Z
UID:10002059-1745665200-1745692200@www.normandielivre.fr
SUMMARY:Trouville-sur-Livres jeunesse
DESCRIPTION:Trouville-sur-Livres jeunesse revient pour une nouvelle édition à la bibliothèque ! \nRencontrez une vingtaine d’auteurs\, autrices\, illustrateur\, illustratrices. \nBibliothèque de Trouville-sur-Mer
URL:https://www.normandielivre.fr/agenda-collaboratif/trouville-sur-livres-jeunesse-2/
LOCATION:Bibliothèque de Trouville-sur-Mer\, 176 Boulevard Fernand Moureaux\, Trouville-sur-Mer\, 14360
CATEGORIES:Salon
ORGANIZER;CN="Biblioth&egrave%3Bque de Trouville-sur-Mer":MAILTO:bibliotheque2@mairie-trouville-sur-mer.fr
END:VEVENT
END:VCALENDAR