BEGIN:VCALENDAR
VERSION:2.0
PRODID:-//Normandie Livre &amp; Lecture - ECPv6.15.11//NONSGML v1.0//EN
CALSCALE:GREGORIAN
METHOD:PUBLISH
X-ORIGINAL-URL:https://www.normandielivre.fr
X-WR-CALDESC:Évènements pour Normandie Livre &amp; Lecture
REFRESH-INTERVAL;VALUE=DURATION:PT1H
X-Robots-Tag:noindex
X-PUBLISHED-TTL:PT1H
BEGIN:VTIMEZONE
TZID:Europe/Paris
BEGIN:DAYLIGHT
TZOFFSETFROM:+0100
TZOFFSETTO:+0200
TZNAME:CEST
DTSTART:20240331T010000
END:DAYLIGHT
BEGIN:STANDARD
TZOFFSETFROM:+0200
TZOFFSETTO:+0100
TZNAME:CET
DTSTART:20241027T010000
END:STANDARD
BEGIN:DAYLIGHT
TZOFFSETFROM:+0100
TZOFFSETTO:+0200
TZNAME:CEST
DTSTART:20250330T010000
END:DAYLIGHT
BEGIN:STANDARD
TZOFFSETFROM:+0200
TZOFFSETTO:+0100
TZNAME:CET
DTSTART:20251026T010000
END:STANDARD
BEGIN:DAYLIGHT
TZOFFSETFROM:+0100
TZOFFSETTO:+0200
TZNAME:CEST
DTSTART:20260329T010000
END:DAYLIGHT
BEGIN:STANDARD
TZOFFSETFROM:+0200
TZOFFSETTO:+0100
TZNAME:CET
DTSTART:20261025T010000
END:STANDARD
BEGIN:DAYLIGHT
TZOFFSETFROM:+0100
TZOFFSETTO:+0200
TZNAME:CEST
DTSTART:20270328T010000
END:DAYLIGHT
BEGIN:STANDARD
TZOFFSETFROM:+0200
TZOFFSETTO:+0100
TZNAME:CET
DTSTART:20271031T010000
END:STANDARD
END:VTIMEZONE
BEGIN:VEVENT
DTSTART;TZID=Europe/Paris:20260403T140000
DTEND;TZID=Europe/Paris:20260403T163000
DTSTAMP:20260420T182401
CREATED:20250908T132616Z
LAST-MODIFIED:20250908T132716Z
UID:10002555-1775224800-1775233800@www.normandielivre.fr
SUMMARY:Atelier d'écriture tout public
DESCRIPTION:Chaque mois\, dès septembre 2025 jusqu’à juin 2026\, un atelier d’écriture est proposé à la Chapelle du Bois des Faulx (27) de 14h à 16h30. \nAnimé par Davy Artero\, les ateliers abordent différentes thématiques et exercices littéraires\, dans un cadre agréable et la bonne humeur. \n27930 – la chapelle du bois des faulx
URL:https://www.normandielivre.fr/agenda-collaboratif/atelier-decriture-tout-public-6/
LOCATION:27930 – la chapelle du bois des faulx\, Salle ARON\, La Chapelle du bois des Faulx\, 27930
CATEGORIES:Atelier
ATTACH;FMTTYPE=image/jpeg:https://www.normandielivre.fr/wp-content/uploads/2025/09/Affiche-Ateliers-2025-2026-Grande-scaled.jpg
END:VEVENT
BEGIN:VEVENT
DTSTART;TZID=Europe/Paris:20260313T140000
DTEND;TZID=Europe/Paris:20260313T163000
DTSTAMP:20260420T182401
CREATED:20250908T131148Z
LAST-MODIFIED:20250908T132351Z
UID:10002551-1773410400-1773419400@www.normandielivre.fr
SUMMARY:Atelier d'écriture tout public
DESCRIPTION:Chaque mois\, dès septembre 2025 jusqu’à juin 2026\, un atelier d’écriture est proposé à la Chapelle du Bois des Faulx (27) de 14h à 16h30. \nAnimé par Davy Artero\, les ateliers abordent différentes thématiques et exercices littéraires\, dans un cadre agréable et la bonne humeur. \n27930 – la chapelle du bois des faulx
URL:https://www.normandielivre.fr/agenda-collaboratif/atelier-decriture-tout-public-2-3-2-2/
LOCATION:27930 – la chapelle du bois des faulx\, Salle ARON\, La Chapelle du bois des Faulx\, 27930
CATEGORIES:Atelier
ATTACH;FMTTYPE=image/jpeg:https://www.normandielivre.fr/wp-content/uploads/2025/09/Affiche-Ateliers-2025-2026-Grande-scaled.jpg
END:VEVENT
BEGIN:VEVENT
DTSTART;TZID=Europe/Paris:20260206T140000
DTEND;TZID=Europe/Paris:20260206T163000
DTSTAMP:20260420T182401
CREATED:20250908T131048Z
LAST-MODIFIED:20250908T132327Z
UID:10002547-1770386400-1770395400@www.normandielivre.fr
SUMMARY:Atelier d'écriture tout public
DESCRIPTION:Chaque mois\, dès septembre 2025 jusqu’à juin 2026\, un atelier d’écriture est proposé à la Chapelle du Bois des Faulx (27) de 14h à 16h30. \nAnimé par Davy Artero\, les ateliers abordent différentes thématiques et exercices littéraires\, dans un cadre agréable et la bonne humeur. \n27930 – la chapelle du bois des faulx
URL:https://www.normandielivre.fr/agenda-collaboratif/atelier-decriture-tout-public-2-3-2/
LOCATION:27930 – la chapelle du bois des faulx\, Salle ARON\, La Chapelle du bois des Faulx\, 27930
CATEGORIES:Atelier
ATTACH;FMTTYPE=image/jpeg:https://www.normandielivre.fr/wp-content/uploads/2025/09/Affiche-Ateliers-2025-2026-Grande-scaled.jpg
END:VEVENT
BEGIN:VEVENT
DTSTART;TZID=Europe/Paris:20260109T140000
DTEND;TZID=Europe/Paris:20260109T163000
DTSTAMP:20260420T182401
CREATED:20250908T130958Z
LAST-MODIFIED:20250908T132311Z
UID:10002541-1767967200-1767976200@www.normandielivre.fr
SUMMARY:Atelier d'écriture tout public
DESCRIPTION:Chaque mois\, dès septembre 2025 jusqu’à juin 2026\, un atelier d’écriture est proposé à la Chapelle du Bois des Faulx (27) de 14h à 16h30. \nAnimé par Davy Artero\, les ateliers abordent différentes thématiques et exercices littéraires\, dans un cadre agréable et la bonne humeur. \n27930 – la chapelle du bois des faulx
URL:https://www.normandielivre.fr/agenda-collaboratif/atelier-decriture-tout-public-2-3/
LOCATION:27930 – la chapelle du bois des faulx\, Salle ARON\, La Chapelle du bois des Faulx\, 27930
CATEGORIES:Atelier
ATTACH;FMTTYPE=image/jpeg:https://www.normandielivre.fr/wp-content/uploads/2025/09/Affiche-Ateliers-2025-2026-Grande-scaled.jpg
END:VEVENT
BEGIN:VEVENT
DTSTART;TZID=Europe/Paris:20251205T140000
DTEND;TZID=Europe/Paris:20251205T163000
DTSTAMP:20260420T182401
CREATED:20250908T130754Z
LAST-MODIFIED:20250908T131833Z
UID:10002540-1764943200-1764952200@www.normandielivre.fr
SUMMARY:Atelier d'écriture tout public
DESCRIPTION:Chaque mois\, dès septembre 2025 jusqu’à juin 2026\, un atelier d’écriture est proposé à la Chapelle du Bois des Faulx (27) de 14h à 16h30. \nAnimé par Davy Artero\, les ateliers abordent différentes thématiques et exercices littéraires\, dans un cadre agréable et la bonne humeur. \n27930 – la chapelle du bois des faulx
URL:https://www.normandielivre.fr/agenda-collaboratif/atelier-decriture-tout-public-2/2025-12-05/
LOCATION:27930 – la chapelle du bois des faulx\, Salle ARON\, La Chapelle du bois des Faulx\, 27930
CATEGORIES:Atelier
ATTACH;FMTTYPE=image/jpeg:https://www.normandielivre.fr/wp-content/uploads/2025/09/Affiche-Ateliers-2025-2026-Grande-scaled.jpg
END:VEVENT
BEGIN:VEVENT
DTSTART;TZID=Europe/Paris:20251107T140000
DTEND;TZID=Europe/Paris:20251107T163000
DTSTAMP:20260420T182401
CREATED:20250908T130921Z
LAST-MODIFIED:20250908T132246Z
UID:10002539-1762524000-1762533000@www.normandielivre.fr
SUMMARY:Atelier d'écriture tout public
DESCRIPTION:Chaque mois\, dès septembre 2025 jusqu’à juin 2026\, un atelier d’écriture est proposé à la Chapelle du Bois des Faulx (27) de 14h à 16h30. \nAnimé par Davy Artero\, les ateliers abordent différentes thématiques et exercices littéraires\, dans un cadre agréable et la bonne humeur. \n27930 – la chapelle du bois des faulx
URL:https://www.normandielivre.fr/agenda-collaboratif/atelier-decriture-tout-public-2-2/
LOCATION:27930 – la chapelle du bois des faulx\, Salle ARON\, La Chapelle du bois des Faulx\, 27930
CATEGORIES:Atelier
ATTACH;FMTTYPE=image/jpeg:https://www.normandielivre.fr/wp-content/uploads/2025/09/Affiche-Ateliers-2025-2026-Grande-scaled.jpg
END:VEVENT
BEGIN:VEVENT
DTSTART;TZID=Europe/Paris:20251003T140000
DTEND;TZID=Europe/Paris:20251003T163000
DTSTAMP:20260420T182401
CREATED:20250908T130754Z
LAST-MODIFIED:20250908T131833Z
UID:10002531-1759500000-1759509000@www.normandielivre.fr
SUMMARY:Atelier d'écriture tout public
DESCRIPTION:Chaque mois\, dès septembre 2025 jusqu’à juin 2026\, un atelier d’écriture est proposé à la Chapelle du Bois des Faulx (27) de 14h à 16h30. \nAnimé par Davy Artero\, les ateliers abordent différentes thématiques et exercices littéraires\, dans un cadre agréable et la bonne humeur. \n27930 – la chapelle du bois des faulx
URL:https://www.normandielivre.fr/agenda-collaboratif/atelier-decriture-tout-public-2/2025-10-03/
LOCATION:27930 – la chapelle du bois des faulx\, Salle ARON\, La Chapelle du bois des Faulx\, 27930
CATEGORIES:Atelier
ATTACH;FMTTYPE=image/jpeg:https://www.normandielivre.fr/wp-content/uploads/2025/09/Affiche-Ateliers-2025-2026-Grande-scaled.jpg
END:VEVENT
BEGIN:VEVENT
DTSTART;TZID=Europe/Paris:20250919T140000
DTEND;TZID=Europe/Paris:20250919T163000
DTSTAMP:20260420T182401
CREATED:20250908T102920Z
LAST-MODIFIED:20250908T132037Z
UID:10002530-1758290400-1758299400@www.normandielivre.fr
SUMMARY:Atelier d'écriture tout public
DESCRIPTION:Chaque mois\, dès septembre 2025 jusqu’à juin 2026\, un atelier d’écriture est proposé à la Chapelle du Bois des Faulx (27) de 14h à 16h30. \nAnimé par Davy Artero\, les ateliers abordent différentes thématiques et exercices littéraires\, dans un cadre agréable et la bonne humeur. \n27930 – la chapelle du bois des faulx
URL:https://www.normandielivre.fr/agenda-collaboratif/atelier-decriture-tout-public/
LOCATION:27930 – la chapelle du bois des faulx\, Salle ARON\, La Chapelle du bois des Faulx\, 27930
CATEGORIES:Atelier
ATTACH;FMTTYPE=image/jpeg:https://www.normandielivre.fr/wp-content/uploads/2025/09/Affiche-Ateliers-2025-2026-Grande-scaled.jpg
END:VEVENT
END:VCALENDAR