BEGIN:VCALENDAR
VERSION:2.0
PRODID:-//Normandie Livre &amp; Lecture - ECPv6.15.11//NONSGML v1.0//EN
CALSCALE:GREGORIAN
METHOD:PUBLISH
X-ORIGINAL-URL:https://www.normandielivre.fr
X-WR-CALDESC:Évènements pour Normandie Livre &amp; Lecture
REFRESH-INTERVAL;VALUE=DURATION:PT1H
X-Robots-Tag:noindex
X-PUBLISHED-TTL:PT1H
BEGIN:VTIMEZONE
TZID:Europe/Paris
BEGIN:DAYLIGHT
TZOFFSETFROM:+0100
TZOFFSETTO:+0200
TZNAME:CEST
DTSTART:20230326T010000
END:DAYLIGHT
BEGIN:STANDARD
TZOFFSETFROM:+0200
TZOFFSETTO:+0100
TZNAME:CET
DTSTART:20231029T010000
END:STANDARD
BEGIN:DAYLIGHT
TZOFFSETFROM:+0100
TZOFFSETTO:+0200
TZNAME:CEST
DTSTART:20240331T010000
END:DAYLIGHT
BEGIN:STANDARD
TZOFFSETFROM:+0200
TZOFFSETTO:+0100
TZNAME:CET
DTSTART:20241027T010000
END:STANDARD
BEGIN:DAYLIGHT
TZOFFSETFROM:+0100
TZOFFSETTO:+0200
TZNAME:CEST
DTSTART:20250330T010000
END:DAYLIGHT
BEGIN:STANDARD
TZOFFSETFROM:+0200
TZOFFSETTO:+0100
TZNAME:CET
DTSTART:20251026T010000
END:STANDARD
BEGIN:DAYLIGHT
TZOFFSETFROM:+0100
TZOFFSETTO:+0200
TZNAME:CEST
DTSTART:20260329T010000
END:DAYLIGHT
BEGIN:STANDARD
TZOFFSETFROM:+0200
TZOFFSETTO:+0100
TZNAME:CET
DTSTART:20261025T010000
END:STANDARD
END:VTIMEZONE
BEGIN:VEVENT
DTSTART;TZID=Europe/Paris:20250207T190000
DTEND;TZID=Europe/Paris:20250207T203000
DTSTAMP:20260422T113627
CREATED:20250106T080528Z
LAST-MODIFIED:20250106T080528Z
UID:10002097-1738954800-1738960200@www.normandielivre.fr
SUMMARY:Nuit Harry Potter
DESCRIPTION:Venez tester vos connaissances sur la série de J K Rowling ! \nAteliers-jeux en binômes adultes-enfants à partir de 9 ans. \n1 lot à gagner grâce aux éditions Gallimard. \nVenez en tenue Harry Potter ! \nRéservations indispensables au téléphone auprès d’un librairie ou en boutique au moins une semaine avant. \nNombre de places limité. \n26 place Georges Lesage 14440 Douvres-la-Délivrande
URL:https://www.normandielivre.fr/agenda-collaboratif/nuit-harry-potter-2/
LOCATION:26 place Georges Lesage 14440 Douvres-la-Délivrande\, 26 place George Lesage\, Douvres-la-Délivrande\, 14440
CATEGORIES:Atelier
ORGANIZER;CN="Librairie caf&eacute%3B Place 26":MAILTO:contact@place26.com
END:VEVENT
BEGIN:VEVENT
DTSTART;TZID=Europe/Paris:20240928T170000
DTEND;TZID=Europe/Paris:20240928T180000
DTSTAMP:20260422T113627
CREATED:20240822T102133Z
LAST-MODIFIED:20240822T102133Z
UID:10001943-1727542800-1727546400@www.normandielivre.fr
SUMMARY:Coups de coeur rentrée littéraire 2024
DESCRIPTION:Samedi 28 septembre de 17h à 18h : Véronique et Manon vous présentent leurs coups de cœur de la rentrée littéraire 2024. \nAttention\, préparez vos stylos et votre calepin : pépites en vue ! \nEntrée libre. \n26 place Georges Lesage 14440 Douvres-la-Délivrande
URL:https://www.normandielivre.fr/agenda-collaboratif/coups-de-coeur-rentree-litteraire-2024/
LOCATION:26 place Georges Lesage 14440 Douvres-la-Délivrande\, 26 place George Lesage\, Douvres-la-Délivrande\, 14440
ATTACH;FMTTYPE=image/png:https://www.normandielivre.fr/wp-content/uploads/2022/09/Capture-décran-2022-09-19-à-10.04.00-e1695983589295.png
ORGANIZER;CN="Librairie caf&eacute%3B Place 26":MAILTO:contact@place26.com
END:VEVENT
BEGIN:VEVENT
DTSTART;TZID=Europe/Paris:20240928T143000
DTEND;TZID=Europe/Paris:20240928T153000
DTSTAMP:20260422T113627
CREATED:20240822T102303Z
LAST-MODIFIED:20240822T102328Z
UID:10001942-1727533800-1727537400@www.normandielivre.fr
SUMMARY:Lancement club de lecture jeunes adultes
DESCRIPTION:Samedi 28 septembre à partir de 14h30 : lancement du club de lecture jeunes adultes ! \nVenez y partager vos coups de cœur dans la bonne humeur et la bienveillance. \nÀ partir de 14-15 ans jusqu’à 25 ans environ. Entrée libre. \n26 place Georges Lesage 14440 Douvres-la-Délivrande
URL:https://www.normandielivre.fr/agenda-collaboratif/lancement-club-de-lecture-jeunes-adultes/
LOCATION:26 place Georges Lesage 14440 Douvres-la-Délivrande\, 26 place George Lesage\, Douvres-la-Délivrande\, 14440
CATEGORIES:Club de lecteurs
ATTACH;FMTTYPE=image/png:https://www.normandielivre.fr/wp-content/uploads/2022/09/Capture-décran-2022-09-19-à-10.04.00-e1695983589295.png
ORGANIZER;CN="Librairie caf&eacute%3B Place 26":MAILTO:contact@place26.com
END:VEVENT
END:VCALENDAR