BEGIN:VCALENDAR
VERSION:2.0
PRODID:-//Normandie Livre &amp; Lecture - ECPv6.15.11//NONSGML v1.0//EN
CALSCALE:GREGORIAN
METHOD:PUBLISH
X-WR-CALNAME:Normandie Livre &amp; Lecture
X-ORIGINAL-URL:https://www.normandielivre.fr
X-WR-CALDESC:Évènements pour Normandie Livre &amp; Lecture
REFRESH-INTERVAL;VALUE=DURATION:PT1H
X-Robots-Tag:noindex
X-PUBLISHED-TTL:PT1H
BEGIN:VTIMEZONE
TZID:Europe/Paris
BEGIN:DAYLIGHT
TZOFFSETFROM:+0100
TZOFFSETTO:+0200
TZNAME:CEST
DTSTART:20250330T010000
END:DAYLIGHT
BEGIN:STANDARD
TZOFFSETFROM:+0200
TZOFFSETTO:+0100
TZNAME:CET
DTSTART:20251026T010000
END:STANDARD
BEGIN:DAYLIGHT
TZOFFSETFROM:+0100
TZOFFSETTO:+0200
TZNAME:CEST
DTSTART:20260329T010000
END:DAYLIGHT
BEGIN:STANDARD
TZOFFSETFROM:+0200
TZOFFSETTO:+0100
TZNAME:CET
DTSTART:20261025T010000
END:STANDARD
BEGIN:DAYLIGHT
TZOFFSETFROM:+0100
TZOFFSETTO:+0200
TZNAME:CEST
DTSTART:20270328T010000
END:DAYLIGHT
BEGIN:STANDARD
TZOFFSETFROM:+0200
TZOFFSETTO:+0100
TZNAME:CET
DTSTART:20271031T010000
END:STANDARD
END:VTIMEZONE
BEGIN:VEVENT
DTSTART;TZID=Europe/Paris:20260507T080000
DTEND;TZID=Europe/Paris:20260507T170000
DTSTAMP:20260421T214312
CREATED:20260421T115946Z
LAST-MODIFIED:20260421T115946Z
UID:10003448-1778140800-1778173200@www.normandielivre.fr
SUMMARY:Exposition "Alguiers Normands"
DESCRIPTION:Pour fêter la nature et mettre en avant la flore marine\, nous avons puis dans les Archives du Calvados des alguiers – comme des herbiers mais tournés vers le monde des algues.
URL:https://www.normandielivre.fr/agenda-collaboratif/exposition-alguiers-normands/2026-05-07/1/
LOCATION:Médiathèque Quai des Mondes\, 4 Rue Calmette\, Mondeville\, 14120
CATEGORIES:Exposition
ATTACH;FMTTYPE=image/jpeg:https://www.normandielivre.fr/wp-content/uploads/2026/04/the-new-york-public-library-ok-2-scaled.jpg
ORGANIZER;CN="M%C3%A9diath%C3%A8que Quai des Mondes":MAILTO:lisa.lelouard@mondeville.fr
END:VEVENT
BEGIN:VEVENT
DTSTART;TZID=Europe/Paris:20260507T110000
DTEND;TZID=Europe/Paris:20260604T170000
DTSTAMP:20260421T214312
CREATED:20260421T115946Z
LAST-MODIFIED:20260421T115946Z
UID:10003449-1778151600-1780592400@www.normandielivre.fr
SUMMARY:Exposition "Alguiers Normands"
DESCRIPTION:Pour fêter la nature et mettre en avant la flore marine\, nous avons puis dans les Archives du Calvados des alguiers – comme des herbiers mais tournés vers le monde des algues.
URL:https://www.normandielivre.fr/agenda-collaboratif/exposition-alguiers-normands/2026-05-07/2/
LOCATION:Médiathèque Quai des Mondes\, 4 Rue Calmette\, Mondeville\, 14120
CATEGORIES:Exposition
ATTACH;FMTTYPE=image/jpeg:https://www.normandielivre.fr/wp-content/uploads/2026/04/the-new-york-public-library-ok-2-scaled.jpg
ORGANIZER;CN="M%C3%A9diath%C3%A8que Quai des Mondes":MAILTO:lisa.lelouard@mondeville.fr
END:VEVENT
END:VCALENDAR