BEGIN:VCALENDAR
VERSION:2.0
PRODID:-//Normandie Livre &amp; Lecture - ECPv6.15.11//NONSGML v1.0//EN
CALSCALE:GREGORIAN
METHOD:PUBLISH
X-WR-CALNAME:Normandie Livre &amp; Lecture
X-ORIGINAL-URL:https://www.normandielivre.fr
X-WR-CALDESC:Évènements pour Normandie Livre &amp; Lecture
REFRESH-INTERVAL;VALUE=DURATION:PT1H
X-Robots-Tag:noindex
X-PUBLISHED-TTL:PT1H
BEGIN:VTIMEZONE
TZID:Europe/Paris
BEGIN:DAYLIGHT
TZOFFSETFROM:+0100
TZOFFSETTO:+0200
TZNAME:CEST
DTSTART:20250330T010000
END:DAYLIGHT
BEGIN:STANDARD
TZOFFSETFROM:+0200
TZOFFSETTO:+0100
TZNAME:CET
DTSTART:20251026T010000
END:STANDARD
BEGIN:DAYLIGHT
TZOFFSETFROM:+0100
TZOFFSETTO:+0200
TZNAME:CEST
DTSTART:20260329T010000
END:DAYLIGHT
BEGIN:STANDARD
TZOFFSETFROM:+0200
TZOFFSETTO:+0100
TZNAME:CET
DTSTART:20261025T010000
END:STANDARD
BEGIN:DAYLIGHT
TZOFFSETFROM:+0100
TZOFFSETTO:+0200
TZNAME:CEST
DTSTART:20270328T010000
END:DAYLIGHT
BEGIN:STANDARD
TZOFFSETFROM:+0200
TZOFFSETTO:+0100
TZNAME:CET
DTSTART:20271031T010000
END:STANDARD
END:VTIMEZONE
BEGIN:VEVENT
DTSTART;TZID=Europe/Paris:20260430T140000
DTEND;TZID=Europe/Paris:20260430T170000
DTSTAMP:20260420T042418
CREATED:20251106T152530Z
LAST-MODIFIED:20251106T152530Z
UID:10002602-1777557600-1777568400@www.normandielivre.fr
SUMMARY:Ateliers d’oralité à destination des mineur·e·s non accompagné·e·s
DESCRIPTION:Avec le soutien de la DRAC Normandie\, la Youle Compagnie et RSM mènent un projet artistique pour les mineur·e·s non accompagné·e·s. \nOuverts à tou·te·s les jeunes\, les ateliers encouragent la parole\, la créativité et la confiance en soi à travers le conte\, l’improvisation et la création collective. \nLe spectacle final sera présenté le 20 juin 2026 au Parc Saint-Exupéry\, lors de la Journée mondiale des réfugié·e·s. \nCes ateliers favorisent l’expression en français\, les échanges interculturels et la valorisation des cultures d’origine.
URL:https://www.normandielivre.fr/agenda-collaboratif/ateliers-doralite-a-destination-des-mineur%c2%b7e%c2%b7s-non-accompagne%c2%b7e%c2%b7s/2026-04-30/
LOCATION:Parc Saint Exupéry\, 24 Bd Gambetta\, Rouen\, 76000
CATEGORIES:Atelier
ATTACH;FMTTYPE=image/png:https://www.normandielivre.fr/wp-content/uploads/2025/11/nano-banana-2025-11-03T12-41-30-Modifie.png
ORGANIZER;CN="Youle Cie":MAILTO:coordination@youlecompagnie.com
END:VEVENT
BEGIN:VEVENT
DTSTART;TZID=Europe/Paris:20260514T140000
DTEND;TZID=Europe/Paris:20260514T170000
DTSTAMP:20260420T042418
CREATED:20251106T152530Z
LAST-MODIFIED:20251106T152530Z
UID:10002603-1778767200-1778778000@www.normandielivre.fr
SUMMARY:Ateliers d’oralité à destination des mineur·e·s non accompagné·e·s
DESCRIPTION:Avec le soutien de la DRAC Normandie\, la Youle Compagnie et RSM mènent un projet artistique pour les mineur·e·s non accompagné·e·s. \nOuverts à tou·te·s les jeunes\, les ateliers encouragent la parole\, la créativité et la confiance en soi à travers le conte\, l’improvisation et la création collective. \nLe spectacle final sera présenté le 20 juin 2026 au Parc Saint-Exupéry\, lors de la Journée mondiale des réfugié·e·s. \nCes ateliers favorisent l’expression en français\, les échanges interculturels et la valorisation des cultures d’origine.
URL:https://www.normandielivre.fr/agenda-collaboratif/ateliers-doralite-a-destination-des-mineur%c2%b7e%c2%b7s-non-accompagne%c2%b7e%c2%b7s/2026-05-14/
LOCATION:Parc Saint Exupéry\, 24 Bd Gambetta\, Rouen\, 76000
CATEGORIES:Atelier
ATTACH;FMTTYPE=image/png:https://www.normandielivre.fr/wp-content/uploads/2025/11/nano-banana-2025-11-03T12-41-30-Modifie.png
ORGANIZER;CN="Youle Cie":MAILTO:coordination@youlecompagnie.com
END:VEVENT
BEGIN:VEVENT
DTSTART;TZID=Europe/Paris:20260528T140000
DTEND;TZID=Europe/Paris:20260528T170000
DTSTAMP:20260420T042418
CREATED:20251106T152530Z
LAST-MODIFIED:20251106T152530Z
UID:10002604-1779976800-1779987600@www.normandielivre.fr
SUMMARY:Ateliers d’oralité à destination des mineur·e·s non accompagné·e·s
DESCRIPTION:Avec le soutien de la DRAC Normandie\, la Youle Compagnie et RSM mènent un projet artistique pour les mineur·e·s non accompagné·e·s. \nOuverts à tou·te·s les jeunes\, les ateliers encouragent la parole\, la créativité et la confiance en soi à travers le conte\, l’improvisation et la création collective. \nLe spectacle final sera présenté le 20 juin 2026 au Parc Saint-Exupéry\, lors de la Journée mondiale des réfugié·e·s. \nCes ateliers favorisent l’expression en français\, les échanges interculturels et la valorisation des cultures d’origine.
URL:https://www.normandielivre.fr/agenda-collaboratif/ateliers-doralite-a-destination-des-mineur%c2%b7e%c2%b7s-non-accompagne%c2%b7e%c2%b7s/2026-05-28/
LOCATION:Parc Saint Exupéry\, 24 Bd Gambetta\, Rouen\, 76000
CATEGORIES:Atelier
ATTACH;FMTTYPE=image/png:https://www.normandielivre.fr/wp-content/uploads/2025/11/nano-banana-2025-11-03T12-41-30-Modifie.png
ORGANIZER;CN="Youle Cie":MAILTO:coordination@youlecompagnie.com
END:VEVENT
BEGIN:VEVENT
DTSTART;TZID=Europe/Paris:20260611T140000
DTEND;TZID=Europe/Paris:20260611T170000
DTSTAMP:20260420T042418
CREATED:20251106T152530Z
LAST-MODIFIED:20251106T152530Z
UID:10002605-1781186400-1781197200@www.normandielivre.fr
SUMMARY:Ateliers d’oralité à destination des mineur·e·s non accompagné·e·s
DESCRIPTION:Avec le soutien de la DRAC Normandie\, la Youle Compagnie et RSM mènent un projet artistique pour les mineur·e·s non accompagné·e·s. \nOuverts à tou·te·s les jeunes\, les ateliers encouragent la parole\, la créativité et la confiance en soi à travers le conte\, l’improvisation et la création collective. \nLe spectacle final sera présenté le 20 juin 2026 au Parc Saint-Exupéry\, lors de la Journée mondiale des réfugié·e·s. \nCes ateliers favorisent l’expression en français\, les échanges interculturels et la valorisation des cultures d’origine.
URL:https://www.normandielivre.fr/agenda-collaboratif/ateliers-doralite-a-destination-des-mineur%c2%b7e%c2%b7s-non-accompagne%c2%b7e%c2%b7s/2026-06-11/
LOCATION:Parc Saint Exupéry\, 24 Bd Gambetta\, Rouen\, 76000
CATEGORIES:Atelier
ATTACH;FMTTYPE=image/png:https://www.normandielivre.fr/wp-content/uploads/2025/11/nano-banana-2025-11-03T12-41-30-Modifie.png
ORGANIZER;CN="Youle Cie":MAILTO:coordination@youlecompagnie.com
END:VEVENT
BEGIN:VEVENT
DTSTART;TZID=Europe/Paris:20260620T080000
DTEND;TZID=Europe/Paris:20260620T170000
DTSTAMP:20260420T042418
CREATED:20251106T152530Z
LAST-MODIFIED:20251106T152530Z
UID:10002606-1781942400-1781974800@www.normandielivre.fr
SUMMARY:Ateliers d’oralité à destination des mineur·e·s non accompagné·e·s
DESCRIPTION:Avec le soutien de la DRAC Normandie\, la Youle Compagnie et RSM mènent un projet artistique pour les mineur·e·s non accompagné·e·s. \nOuverts à tou·te·s les jeunes\, les ateliers encouragent la parole\, la créativité et la confiance en soi à travers le conte\, l’improvisation et la création collective. \nLe spectacle final sera présenté le 20 juin 2026 au Parc Saint-Exupéry\, lors de la Journée mondiale des réfugié·e·s. \nCes ateliers favorisent l’expression en français\, les échanges interculturels et la valorisation des cultures d’origine.
URL:https://www.normandielivre.fr/agenda-collaboratif/ateliers-doralite-a-destination-des-mineur%c2%b7e%c2%b7s-non-accompagne%c2%b7e%c2%b7s/2026-06-20/
LOCATION:Parc Saint Exupéry\, 24 Bd Gambetta\, Rouen\, 76000
CATEGORIES:Atelier
ATTACH;FMTTYPE=image/png:https://www.normandielivre.fr/wp-content/uploads/2025/11/nano-banana-2025-11-03T12-41-30-Modifie.png
ORGANIZER;CN="Youle Cie":MAILTO:coordination@youlecompagnie.com
END:VEVENT
END:VCALENDAR