BEGIN:VCALENDAR
VERSION:2.0
PRODID:-//Normandie Livre &amp; Lecture - ECPv6.15.11//NONSGML v1.0//EN
CALSCALE:GREGORIAN
METHOD:PUBLISH
X-ORIGINAL-URL:https://www.normandielivre.fr
X-WR-CALDESC:Évènements pour Normandie Livre &amp; Lecture
REFRESH-INTERVAL;VALUE=DURATION:PT1H
X-Robots-Tag:noindex
X-PUBLISHED-TTL:PT1H
BEGIN:VTIMEZONE
TZID:Europe/Paris
BEGIN:DAYLIGHT
TZOFFSETFROM:+0100
TZOFFSETTO:+0200
TZNAME:CEST
DTSTART:20250330T010000
END:DAYLIGHT
BEGIN:STANDARD
TZOFFSETFROM:+0200
TZOFFSETTO:+0100
TZNAME:CET
DTSTART:20251026T010000
END:STANDARD
BEGIN:DAYLIGHT
TZOFFSETFROM:+0100
TZOFFSETTO:+0200
TZNAME:CEST
DTSTART:20260329T010000
END:DAYLIGHT
BEGIN:STANDARD
TZOFFSETFROM:+0200
TZOFFSETTO:+0100
TZNAME:CET
DTSTART:20261025T010000
END:STANDARD
BEGIN:DAYLIGHT
TZOFFSETFROM:+0100
TZOFFSETTO:+0200
TZNAME:CEST
DTSTART:20270328T010000
END:DAYLIGHT
BEGIN:STANDARD
TZOFFSETFROM:+0200
TZOFFSETTO:+0100
TZNAME:CET
DTSTART:20271031T010000
END:STANDARD
END:VTIMEZONE
BEGIN:VEVENT
DTSTART;VALUE=DATE:20261115
DTEND;VALUE=DATE:20261116
DTSTAMP:20260420T072533
CREATED:20260326T085235Z
LAST-MODIFIED:20260326T085235Z
UID:10003434-1794700800-1794787199@www.normandielivre.fr
SUMMARY:3ème salon du livre ancien et d'occasion de Bény-Bocage
DESCRIPTION:3eme Salon du livre ancien et d’occasion du Bény-Bocage – 3ème année \nThème de l’année: « Le Patrimoine » – nombreux exposants\, artisans\, auteurs – restauration sur place – concert gratuit – dictée \nExpositions de photos rurales\, Buvette\, Restauration sur place – 5€ /m2 – Les bouquinistes du bocage – 07 68 41 93 21 (Heure de bureau) \n36 rue georges brassens Le Bény-bocage – salle des fêtes – bouquineriefdt@free.fr\ndimanche 15 novembre 2026 De 10h00 à 17h00 – entrée libre – \n 
URL:https://www.normandielivre.fr/agenda-collaboratif/3eme-salon-du-livre-ancien-et-doccasion-de-beny-bocage/
LOCATION:36 rue georges brassens 14350 Le Bény-Bocage\, 36 rue georges brassens\, Souleuvre En Bocage\, 14350\, France
CATEGORIES:Salon
ATTACH;FMTTYPE=image/png:https://www.normandielivre.fr/wp-content/uploads/2026/03/Salon-du-15-11-2026.png
END:VEVENT
END:VCALENDAR