BEGIN:VCALENDAR
VERSION:2.0
PRODID:-//Normandie Livre &amp; Lecture - ECPv6.15.11//NONSGML v1.0//EN
CALSCALE:GREGORIAN
METHOD:PUBLISH
X-WR-CALNAME:Normandie Livre &amp; Lecture
X-ORIGINAL-URL:https://www.normandielivre.fr
X-WR-CALDESC:Évènements pour Normandie Livre &amp; Lecture
REFRESH-INTERVAL;VALUE=DURATION:PT1H
X-Robots-Tag:noindex
X-PUBLISHED-TTL:PT1H
BEGIN:VTIMEZONE
TZID:Europe/Paris
BEGIN:DAYLIGHT
TZOFFSETFROM:+0100
TZOFFSETTO:+0200
TZNAME:CEST
DTSTART:20250330T010000
END:DAYLIGHT
BEGIN:STANDARD
TZOFFSETFROM:+0200
TZOFFSETTO:+0100
TZNAME:CET
DTSTART:20251026T010000
END:STANDARD
BEGIN:DAYLIGHT
TZOFFSETFROM:+0100
TZOFFSETTO:+0200
TZNAME:CEST
DTSTART:20260329T010000
END:DAYLIGHT
BEGIN:STANDARD
TZOFFSETFROM:+0200
TZOFFSETTO:+0100
TZNAME:CET
DTSTART:20261025T010000
END:STANDARD
BEGIN:DAYLIGHT
TZOFFSETFROM:+0100
TZOFFSETTO:+0200
TZNAME:CEST
DTSTART:20270328T010000
END:DAYLIGHT
BEGIN:STANDARD
TZOFFSETFROM:+0200
TZOFFSETTO:+0100
TZNAME:CET
DTSTART:20271031T010000
END:STANDARD
END:VTIMEZONE
BEGIN:VEVENT
DTSTART;TZID=Europe/Paris:20261008T193000
DTEND;TZID=Europe/Paris:20261008T210000
DTSTAMP:20260420T041119
CREATED:20260325T132126Z
LAST-MODIFIED:20260325T132126Z
UID:10003433-1791487800-1791493200@www.normandielivre.fr
SUMMARY:LES NUITS D'ARTAUD
DESCRIPTION:En écho à la présence d’Antonin Artaud hospitalisé au Rouvray de 1936 à 1937\, chaque mois du printemps et de l’été\, en lien avec la Maison de la poésie\, le Centre Hospitalier du Rouvray organisera à la tombée de la nuit dans un lieu dédié\, une soirée consacrée à la poésie. \nAinsi des personnalités du monde culturel seront conviées à venir présenter leurs poètes de prédilection. Des lectures seront proposées\, suivies d’un débat entre l’invité(e) et le public\, animé par Alexis Peltier\, poète.
URL:https://www.normandielivre.fr/agenda-collaboratif/les-nuits-dartaud/2026-10-08/
LOCATION:Centre Hospitalier du Rouvray\, 4 rue Paul Eluard\, Sotteville -lès-Rouen\, 76300
CATEGORIES:Lecture,Rencontre
END:VEVENT
BEGIN:VEVENT
DTSTART;VALUE=DATE:20261017
DTEND;VALUE=DATE:20261018
DTSTAMP:20260420T041119
CREATED:20260331T135356Z
LAST-MODIFIED:20260331T135356Z
UID:10003437-1792195200-1792281599@www.normandielivre.fr
SUMMARY:2ème édition  "Le Bal des Livres"
DESCRIPTION:Salon du livre à Anisy : une vingtaine d’auteurs présents pour des dédicaces et des animations. \nBuvette sur place. Entrée libre. \nGratuit. \nInformations : https://www.facebook.com/lebaldeslivresanisy/
URL:https://www.normandielivre.fr/agenda-collaboratif/2eme-edition-le-bal-des-livres/
LOCATION:Mairie Salle polyvalente Anisy 14610\, 1 rue de la Chenaie\, Anisy\, 14610\, France
CATEGORIES:Salon
ORGANIZER;CN="biblioth%C3%A8que d'Anisy en partenariat avec la mairie d'Anisy":MAILTO:salonlivreanisy@gmail.com
END:VEVENT
BEGIN:VEVENT
DTSTART;TZID=Europe/Paris:20261017T100000
DTEND;TZID=Europe/Paris:20261018T180000
DTSTAMP:20260420T041119
CREATED:20260209T095925Z
LAST-MODIFIED:20260209T095925Z
UID:10003399-1792231200-1792346400@www.normandielivre.fr
SUMMARY:4ème salon du livre "Livres au plessis"
DESCRIPTION:L’association Lire et loisirs au Plessis organise son 4ème Salon du livre à le Plessis Grimoult (14770 les Monts d’Aunay) dans la salle Henri Lenvoisé\, une trentaine d’auteurs présents sur 2 jours . \nTous les genres littéraires seront représentés avec la présence de livres d’occasion vendu par l’association.
URL:https://www.normandielivre.fr/agenda-collaboratif/4eme-salon-du-livre-livres-au-plessis/
LOCATION:le plessis grimoult\, route des essarts\, le plessis grimoult\, 14770\, France
CATEGORIES:Salon
ATTACH;FMTTYPE=image/jpeg:https://www.normandielivre.fr/wp-content/uploads/2026/02/livre.jpg
ORGANIZER;CN="lire et loisirs au plessis":MAILTO:biblio14770@gmail.com
END:VEVENT
BEGIN:VEVENT
DTSTART;TZID=Europe/Paris:20261021T143000
DTEND;TZID=Europe/Paris:20261021T153000
DTSTAMP:20260420T041119
CREATED:20260130T104134Z
LAST-MODIFIED:20260130T104134Z
UID:10003094-1792593000-1792596600@www.normandielivre.fr
SUMMARY:Atelier famille "Animaux de papier"
DESCRIPTION:En s’inspirant de l’univers de Jacques Prévert\, adultes et enfants (à partir de 8 ans) apprennent à créer un animal en origami. \nTarif d’entrée + 2 €\nSur réservation par téléphone ou par courriel
URL:https://www.normandielivre.fr/agenda-collaboratif/atelier-famille-animaux-de-papier/2026-10-21/
LOCATION:Maison Jacques Prévert\, 3 Hameau du Val - OMonville-la-Petite\, La Hague\, 50440
CATEGORIES:Atelier
ATTACH;FMTTYPE=image/jpeg:https://www.normandielivre.fr/wp-content/uploads/2026/01/20251029_155651-scaled.jpg
ORGANIZER;CN="Maison Jacques Pr%C3%A9vert":MAILTO:musee.omonville@manche.fr
END:VEVENT
BEGIN:VEVENT
DTSTART;VALUE=DATE:20261025
DTEND;VALUE=DATE:20261026
DTSTAMP:20260420T041119
CREATED:20251120T135238Z
LAST-MODIFIED:20251120T135238Z
UID:10002652-1792886400-1792972799@www.normandielivre.fr
SUMMARY:Salon du livre et de la BD
DESCRIPTION:L’association ABCD de FERRERES EN BRAY organise son 11ème salon du livre et de la BD. \nL’entrée est gratuite et ouverte à tous.
URL:https://www.normandielivre.fr/agenda-collaboratif/salon-du-livre-et-de-la-bd-2/
LOCATION:Salle polyvalente 76220 FERRIÈRES-EN-BRAY\, Rue Charles Gervais\, FERRIÈRES EN BRAY\, 76220
CATEGORIES:Salon
ORGANIZER;CN="ABCD":MAILTO:abcdferrieresenbray@hotmail.com
END:VEVENT
BEGIN:VEVENT
DTSTART;TZID=Europe/Paris:20261028T143000
DTEND;TZID=Europe/Paris:20261028T153000
DTSTAMP:20260420T041119
CREATED:20260130T104134Z
LAST-MODIFIED:20260130T104134Z
UID:10003095-1793197800-1793201400@www.normandielivre.fr
SUMMARY:Atelier famille "Animaux de papier"
DESCRIPTION:En s’inspirant de l’univers de Jacques Prévert\, adultes et enfants (à partir de 8 ans) apprennent à créer un animal en origami. \nTarif d’entrée + 2 €\nSur réservation par téléphone ou par courriel
URL:https://www.normandielivre.fr/agenda-collaboratif/atelier-famille-animaux-de-papier/2026-10-28/
LOCATION:Maison Jacques Prévert\, 3 Hameau du Val - OMonville-la-Petite\, La Hague\, 50440
CATEGORIES:Atelier
ATTACH;FMTTYPE=image/jpeg:https://www.normandielivre.fr/wp-content/uploads/2026/01/20251029_155651-scaled.jpg
ORGANIZER;CN="Maison Jacques Pr%C3%A9vert":MAILTO:musee.omonville@manche.fr
END:VEVENT
END:VCALENDAR