BEGIN:VCALENDAR
VERSION:2.0
PRODID:-//Normandie Livre &amp; Lecture - ECPv6.15.11//NONSGML v1.0//EN
CALSCALE:GREGORIAN
METHOD:PUBLISH
X-WR-CALNAME:Normandie Livre &amp; Lecture
X-ORIGINAL-URL:https://www.normandielivre.fr
X-WR-CALDESC:Évènements pour Normandie Livre &amp; Lecture
REFRESH-INTERVAL;VALUE=DURATION:PT1H
X-Robots-Tag:noindex
X-PUBLISHED-TTL:PT1H
BEGIN:VTIMEZONE
TZID:Europe/Paris
BEGIN:DAYLIGHT
TZOFFSETFROM:+0100
TZOFFSETTO:+0200
TZNAME:CEST
DTSTART:20250330T010000
END:DAYLIGHT
BEGIN:STANDARD
TZOFFSETFROM:+0200
TZOFFSETTO:+0100
TZNAME:CET
DTSTART:20251026T010000
END:STANDARD
BEGIN:DAYLIGHT
TZOFFSETFROM:+0100
TZOFFSETTO:+0200
TZNAME:CEST
DTSTART:20260329T010000
END:DAYLIGHT
BEGIN:STANDARD
TZOFFSETFROM:+0200
TZOFFSETTO:+0100
TZNAME:CET
DTSTART:20261025T010000
END:STANDARD
BEGIN:DAYLIGHT
TZOFFSETFROM:+0100
TZOFFSETTO:+0200
TZNAME:CEST
DTSTART:20270328T010000
END:DAYLIGHT
BEGIN:STANDARD
TZOFFSETFROM:+0200
TZOFFSETTO:+0100
TZNAME:CET
DTSTART:20271031T010000
END:STANDARD
END:VTIMEZONE
BEGIN:VEVENT
DTSTART;TZID=Europe/Paris:20260804T143000
DTEND;TZID=Europe/Paris:20260804T153000
DTSTAMP:20260420T022129
CREATED:20260130T104050Z
LAST-MODIFIED:20260130T104050Z
UID:10002834-1785853800-1785857400@www.normandielivre.fr
SUMMARY:Sieste musicale
DESCRIPTION:Marion Bouyssonnade propose un moment de détente au son de sa harpe. Dans le jardin de la maison Jacques Prévert\, la musicienne improvise sans interruption et invite les auditeurs à se laisser bercer par les notes de musique. \nTarif d’entrée + 2 €\nSur réservation par téléphone ou par courriel
URL:https://www.normandielivre.fr/agenda-collaboratif/sieste-musicale/2026-08-04/
LOCATION:Maison Jacques Prévert\, 3 Hameau du Val - OMonville-la-Petite\, La Hague\, 50440
CATEGORIES:Concert
ATTACH;FMTTYPE=image/jpeg:https://www.normandielivre.fr/wp-content/uploads/2026/01/Marion-CotentHarpe-scaled.jpg
ORGANIZER;CN="Maison Jacques Pr%C3%A9vert":MAILTO:musee.omonville@manche.fr
END:VEVENT
BEGIN:VEVENT
DTSTART;TZID=Europe/Paris:20260805T143000
DTEND;TZID=Europe/Paris:20260805T153000
DTSTAMP:20260420T022129
CREATED:20260130T104506Z
LAST-MODIFIED:20260130T104506Z
UID:10002848-1785940200-1785943800@www.normandielivre.fr
SUMMARY:Atelier famille Éphéméride
DESCRIPTION:Jacques Prévert a l’habitude de noter son emploi du temps sur de grandes feuilles. Il dessine une fleur colorée\, différente chaque jour\, puis il note ses rendez-vous de la journée\, représentés parfois par des petits croquis. C’est au tour des participants de décrire leur journée à l’aide du dessin et de l’écriture. \nPour les adultes et les enfants à partir de 8 ans\nTarif : droit d’entrée + 2 €\nSur réservation par téléphone ou courriel
URL:https://www.normandielivre.fr/agenda-collaboratif/atelier-famille-ephemeride/2026-08-05/
LOCATION:Maison Jacques Prévert\, 3 Hameau du Val - OMonville-la-Petite\, La Hague\, 50440
CATEGORIES:Atelier
ATTACH;FMTTYPE=image/jpeg:https://www.normandielivre.fr/wp-content/uploads/2026/01/IMG-3727-scaled.jpg
ORGANIZER;CN="Maison Jacques Pr%C3%A9vert":MAILTO:musee.omonville@manche.fr
END:VEVENT
BEGIN:VEVENT
DTSTART;TZID=Europe/Paris:20260806T143000
DTEND;TZID=Europe/Paris:20260806T144500
DTSTAMP:20260420T022129
CREATED:20260130T104442Z
LAST-MODIFIED:20260130T135533Z
UID:10002855-1786026600-1786027500@www.normandielivre.fr
SUMMARY:Visite flash Prévert express
DESCRIPTION:Découvrez l’histoire d’une œuvre ou d’un objet du musée grâce à une courte présentation de 10 minutes par un animateur du musée. \nCompris dans le tarif d’entrée du musée\nSans réservation
URL:https://www.normandielivre.fr/agenda-collaboratif/visite-flash-prevert-express-4/2026-08-06/
LOCATION:Maison Jacques Prévert\, 3 Hameau du Val - OMonville-la-Petite\, La Hague\, 50440
ATTACH;FMTTYPE=image/jpeg:https://www.normandielivre.fr/wp-content/uploads/2026/01/20250503_121923-scaled.jpg
ORGANIZER;CN="Maison Jacques Pr%C3%A9vert":MAILTO:musee.omonville@manche.fr
END:VEVENT
BEGIN:VEVENT
DTSTART;TZID=Europe/Paris:20260811T143000
DTEND;TZID=Europe/Paris:20260811T153000
DTSTAMP:20260420T022129
CREATED:20260130T104339Z
LAST-MODIFIED:20260130T104339Z
UID:10002837-1786458600-1786462200@www.normandielivre.fr
SUMMARY:Lecture poétique
DESCRIPTION:Isabelle Bois Cras a publié plusieurs recueil de poésie et romans. Accompagnée de la musicienne Marie-Hélène Brugnon\, l’autrice vous propose un sélection de ses textes en lien avec la nature\, à écouter dans le jardin de la maison Jacques Prévert. \nTarif d’entrée + 2 €\nSur réservation par téléphone ou par courriel
URL:https://www.normandielivre.fr/agenda-collaboratif/lecture-poetique/2026-08-11/
LOCATION:Maison Jacques Prévert\, 3 Hameau du Val - OMonville-la-Petite\, La Hague\, 50440
CATEGORIES:Lecture
ATTACH;FMTTYPE=image/jpeg:https://www.normandielivre.fr/wp-content/uploads/2026/01/491017213_1868484243909979_2013007218767920568_n.jpg
ORGANIZER;CN="Maison Jacques Pr%C3%A9vert":MAILTO:musee.omonville@manche.fr
END:VEVENT
BEGIN:VEVENT
DTSTART;TZID=Europe/Paris:20260812T143000
DTEND;TZID=Europe/Paris:20260812T153000
DTSTAMP:20260420T022129
CREATED:20260130T104629Z
LAST-MODIFIED:20260130T104629Z
UID:10002843-1786545000-1786548600@www.normandielivre.fr
SUMMARY:Atelier enfant « Pop-up Prévert »
DESCRIPTION:Grâce à la technique du pop-up\, les enfants inventent leur maison idéale. \nPour les enfants de 6 à 12 ans\nTarif d’entée + 2 €\nSur réservation par téléphone ou par courriel
URL:https://www.normandielivre.fr/agenda-collaboratif/atelier-enfant-pop-up-prevert/2026-08-12/
LOCATION:Maison Jacques Prévert\, 3 Hameau du Val - OMonville-la-Petite\, La Hague\, 50440
CATEGORIES:Atelier
ATTACH;FMTTYPE=image/jpeg:https://www.normandielivre.fr/wp-content/uploads/2026/01/20250709_153919-1-scaled.jpg
ORGANIZER;CN="Maison Jacques Pr%C3%A9vert":MAILTO:musee.omonville@manche.fr
END:VEVENT
BEGIN:VEVENT
DTSTART;TZID=Europe/Paris:20260813T143000
DTEND;TZID=Europe/Paris:20260813T144500
DTSTAMP:20260420T022129
CREATED:20260130T104442Z
LAST-MODIFIED:20260130T135533Z
UID:10002856-1786631400-1786632300@www.normandielivre.fr
SUMMARY:Visite flash Prévert express
DESCRIPTION:Découvrez l’histoire d’une œuvre ou d’un objet du musée grâce à une courte présentation de 10 minutes par un animateur du musée. \nCompris dans le tarif d’entrée du musée\nSans réservation
URL:https://www.normandielivre.fr/agenda-collaboratif/visite-flash-prevert-express-4/2026-08-13/
LOCATION:Maison Jacques Prévert\, 3 Hameau du Val - OMonville-la-Petite\, La Hague\, 50440
ATTACH;FMTTYPE=image/jpeg:https://www.normandielivre.fr/wp-content/uploads/2026/01/20250503_121923-scaled.jpg
ORGANIZER;CN="Maison Jacques Pr%C3%A9vert":MAILTO:musee.omonville@manche.fr
END:VEVENT
BEGIN:VEVENT
DTSTART;TZID=Europe/Paris:20260818T143000
DTEND;TZID=Europe/Paris:20260818T153000
DTSTAMP:20260420T022129
CREATED:20260130T104050Z
LAST-MODIFIED:20260130T104050Z
UID:10002835-1787063400-1787067000@www.normandielivre.fr
SUMMARY:Sieste musicale
DESCRIPTION:Marion Bouyssonnade propose un moment de détente au son de sa harpe. Dans le jardin de la maison Jacques Prévert\, la musicienne improvise sans interruption et invite les auditeurs à se laisser bercer par les notes de musique. \nTarif d’entrée + 2 €\nSur réservation par téléphone ou par courriel
URL:https://www.normandielivre.fr/agenda-collaboratif/sieste-musicale/2026-08-18/
LOCATION:Maison Jacques Prévert\, 3 Hameau du Val - OMonville-la-Petite\, La Hague\, 50440
CATEGORIES:Concert
ATTACH;FMTTYPE=image/jpeg:https://www.normandielivre.fr/wp-content/uploads/2026/01/Marion-CotentHarpe-scaled.jpg
ORGANIZER;CN="Maison Jacques Pr%C3%A9vert":MAILTO:musee.omonville@manche.fr
END:VEVENT
BEGIN:VEVENT
DTSTART;TZID=Europe/Paris:20260819T143000
DTEND;TZID=Europe/Paris:20260819T153000
DTSTAMP:20260420T022129
CREATED:20260130T104607Z
LAST-MODIFIED:20260130T104607Z
UID:10002846-1787149800-1787153400@www.normandielivre.fr
SUMMARY:Atelier famille Collage postal
DESCRIPTION:En s’inspirant des œuvres de Jacques Prévert\, adultes et enfants (à partir de 8 ans) créent un collage sur carte postale qui sera envoyé à l’un de vos proches par voie postale. \nTarif d’entrée + 2 €\nSur réservation par téléphone ou par courriel
URL:https://www.normandielivre.fr/agenda-collaboratif/atelier-famille-collage-postal/2026-08-19/
LOCATION:Maison Jacques Prévert\, 3 Hameau du Val - OMonville-la-Petite\, La Hague\, 50440
CATEGORIES:Atelier
ATTACH;FMTTYPE=image/jpeg:https://www.normandielivre.fr/wp-content/uploads/2026/01/DSC03621-scaled.jpg
ORGANIZER;CN="Maison Jacques Pr%C3%A9vert":MAILTO:musee.omonville@manche.fr
END:VEVENT
BEGIN:VEVENT
DTSTART;TZID=Europe/Paris:20260820T143000
DTEND;TZID=Europe/Paris:20260820T144500
DTSTAMP:20260420T022129
CREATED:20260130T104442Z
LAST-MODIFIED:20260130T135533Z
UID:10002857-1787236200-1787237100@www.normandielivre.fr
SUMMARY:Visite flash Prévert express
DESCRIPTION:Découvrez l’histoire d’une œuvre ou d’un objet du musée grâce à une courte présentation de 10 minutes par un animateur du musée. \nCompris dans le tarif d’entrée du musée\nSans réservation
URL:https://www.normandielivre.fr/agenda-collaboratif/visite-flash-prevert-express-4/2026-08-20/
LOCATION:Maison Jacques Prévert\, 3 Hameau du Val - OMonville-la-Petite\, La Hague\, 50440
ATTACH;FMTTYPE=image/jpeg:https://www.normandielivre.fr/wp-content/uploads/2026/01/20250503_121923-scaled.jpg
ORGANIZER;CN="Maison Jacques Pr%C3%A9vert":MAILTO:musee.omonville@manche.fr
END:VEVENT
BEGIN:VEVENT
DTSTART;TZID=Europe/Paris:20260823T100000
DTEND;TZID=Europe/Paris:20260823T170000
DTSTAMP:20260420T022129
CREATED:20251210T125256Z
LAST-MODIFIED:20251210T125256Z
UID:10002677-1787479200-1787504400@www.normandielivre.fr
SUMMARY:Salon du livre à Villers-sur-Mer
DESCRIPTION:Cette année\, retrouvez le 12ème salon du livre à Villers-sur-Mer le 23 août 2026. \nOrganisé par thèmes\, favorisant les approches croisées et inédites\, les échanges entre genres et horizons littéraires\, la programmation mettra en avant la découverte et la diversité des auteurs et autrices. \nRendez-vous en août pour découvrir l’ensemble de la programmation.
URL:https://www.normandielivre.fr/agenda-collaboratif/salon-du-livre-a-villers-sur-mer/
LOCATION:villers-sur-Mer\, Villers-sur-Mer\, 14640
CATEGORIES:Salon
END:VEVENT
BEGIN:VEVENT
DTSTART;TZID=Europe/Paris:20260825T143000
DTEND;TZID=Europe/Paris:20260825T153000
DTSTAMP:20260420T022129
CREATED:20260130T104339Z
LAST-MODIFIED:20260130T104339Z
UID:10002838-1787668200-1787671800@www.normandielivre.fr
SUMMARY:Lecture poétique
DESCRIPTION:Isabelle Bois Cras a publié plusieurs recueil de poésie et romans. Accompagnée de la musicienne Marie-Hélène Brugnon\, l’autrice vous propose un sélection de ses textes en lien avec la nature\, à écouter dans le jardin de la maison Jacques Prévert. \nTarif d’entrée + 2 €\nSur réservation par téléphone ou par courriel
URL:https://www.normandielivre.fr/agenda-collaboratif/lecture-poetique/2026-08-25/
LOCATION:Maison Jacques Prévert\, 3 Hameau du Val - OMonville-la-Petite\, La Hague\, 50440
CATEGORIES:Lecture
ATTACH;FMTTYPE=image/jpeg:https://www.normandielivre.fr/wp-content/uploads/2026/01/491017213_1868484243909979_2013007218767920568_n.jpg
ORGANIZER;CN="Maison Jacques Pr%C3%A9vert":MAILTO:musee.omonville@manche.fr
END:VEVENT
BEGIN:VEVENT
DTSTART;TZID=Europe/Paris:20260826T143000
DTEND;TZID=Europe/Paris:20260826T153000
DTSTAMP:20260420T022129
CREATED:20260130T104506Z
LAST-MODIFIED:20260130T104506Z
UID:10002849-1787754600-1787758200@www.normandielivre.fr
SUMMARY:Atelier famille Éphéméride
DESCRIPTION:Jacques Prévert a l’habitude de noter son emploi du temps sur de grandes feuilles. Il dessine une fleur colorée\, différente chaque jour\, puis il note ses rendez-vous de la journée\, représentés parfois par des petits croquis. C’est au tour des participants de décrire leur journée à l’aide du dessin et de l’écriture. \nPour les adultes et les enfants à partir de 8 ans\nTarif : droit d’entrée + 2 €\nSur réservation par téléphone ou courriel
URL:https://www.normandielivre.fr/agenda-collaboratif/atelier-famille-ephemeride/2026-08-26/
LOCATION:Maison Jacques Prévert\, 3 Hameau du Val - OMonville-la-Petite\, La Hague\, 50440
CATEGORIES:Atelier
ATTACH;FMTTYPE=image/jpeg:https://www.normandielivre.fr/wp-content/uploads/2026/01/IMG-3727-scaled.jpg
ORGANIZER;CN="Maison Jacques Pr%C3%A9vert":MAILTO:musee.omonville@manche.fr
END:VEVENT
BEGIN:VEVENT
DTSTART;TZID=Europe/Paris:20260827T143000
DTEND;TZID=Europe/Paris:20260827T144500
DTSTAMP:20260420T022129
CREATED:20260130T104442Z
LAST-MODIFIED:20260130T135533Z
UID:10002858-1787841000-1787841900@www.normandielivre.fr
SUMMARY:Visite flash Prévert express
DESCRIPTION:Découvrez l’histoire d’une œuvre ou d’un objet du musée grâce à une courte présentation de 10 minutes par un animateur du musée. \nCompris dans le tarif d’entrée du musée\nSans réservation
URL:https://www.normandielivre.fr/agenda-collaboratif/visite-flash-prevert-express-4/2026-08-27/
LOCATION:Maison Jacques Prévert\, 3 Hameau du Val - OMonville-la-Petite\, La Hague\, 50440
ATTACH;FMTTYPE=image/jpeg:https://www.normandielivre.fr/wp-content/uploads/2026/01/20250503_121923-scaled.jpg
ORGANIZER;CN="Maison Jacques Pr%C3%A9vert":MAILTO:musee.omonville@manche.fr
END:VEVENT
BEGIN:VEVENT
DTSTART;TZID=Europe/Paris:20260829T193000
DTEND;TZID=Europe/Paris:20260829T210000
DTSTAMP:20260420T022129
CREATED:20260325T132126Z
LAST-MODIFIED:20260325T132126Z
UID:10003431-1788031800-1788037200@www.normandielivre.fr
SUMMARY:LES NUITS D'ARTAUD
DESCRIPTION:En écho à la présence d’Antonin Artaud hospitalisé au Rouvray de 1936 à 1937\, chaque mois du printemps et de l’été\, en lien avec la Maison de la poésie\, le Centre Hospitalier du Rouvray organisera à la tombée de la nuit dans un lieu dédié\, une soirée consacrée à la poésie. \nAinsi des personnalités du monde culturel seront conviées à venir présenter leurs poètes de prédilection. Des lectures seront proposées\, suivies d’un débat entre l’invité(e) et le public\, animé par Alexis Peltier\, poète.
URL:https://www.normandielivre.fr/agenda-collaboratif/les-nuits-dartaud/2026-08-29/
LOCATION:Centre Hospitalier du Rouvray\, 4 rue Paul Eluard\, Sotteville -lès-Rouen\, 76300
CATEGORIES:Lecture,Rencontre
END:VEVENT
END:VCALENDAR