BEGIN:VCALENDAR
VERSION:2.0
PRODID:-//Normandie Livre &amp; Lecture - ECPv6.15.11//NONSGML v1.0//EN
CALSCALE:GREGORIAN
METHOD:PUBLISH
X-ORIGINAL-URL:https://www.normandielivre.fr
X-WR-CALDESC:Évènements pour Normandie Livre &amp; Lecture
REFRESH-INTERVAL;VALUE=DURATION:PT1H
X-Robots-Tag:noindex
X-PUBLISHED-TTL:PT1H
BEGIN:VTIMEZONE
TZID:Europe/Paris
BEGIN:DAYLIGHT
TZOFFSETFROM:+0100
TZOFFSETTO:+0200
TZNAME:CEST
DTSTART:20250330T010000
END:DAYLIGHT
BEGIN:STANDARD
TZOFFSETFROM:+0200
TZOFFSETTO:+0100
TZNAME:CET
DTSTART:20251026T010000
END:STANDARD
BEGIN:DAYLIGHT
TZOFFSETFROM:+0100
TZOFFSETTO:+0200
TZNAME:CEST
DTSTART:20260329T010000
END:DAYLIGHT
BEGIN:STANDARD
TZOFFSETFROM:+0200
TZOFFSETTO:+0100
TZNAME:CET
DTSTART:20261025T010000
END:STANDARD
BEGIN:DAYLIGHT
TZOFFSETFROM:+0100
TZOFFSETTO:+0200
TZNAME:CEST
DTSTART:20270328T010000
END:DAYLIGHT
BEGIN:STANDARD
TZOFFSETFROM:+0200
TZOFFSETTO:+0100
TZNAME:CET
DTSTART:20271031T010000
END:STANDARD
END:VTIMEZONE
BEGIN:VEVENT
DTSTART;TZID=Europe/Paris:20260605T140000
DTEND;TZID=Europe/Paris:20260605T163000
DTSTAMP:20260419T183658
CREATED:20250908T132600Z
LAST-MODIFIED:20250908T132726Z
UID:10002558-1780668000-1780677000@www.normandielivre.fr
SUMMARY:Atelier d'écriture tout public
DESCRIPTION:Chaque mois\, dès septembre 2025 jusqu’à juin 2026\, un atelier d’écriture est proposé à la Chapelle du Bois des Faulx (27) de 14h à 16h30. \nAnimé par Davy Artero\, les ateliers abordent différentes thématiques et exercices littéraires\, dans un cadre agréable et la bonne humeur.
URL:https://www.normandielivre.fr/agenda-collaboratif/atelier-decriture-tout-public-5/
LOCATION:27930 – la chapelle du bois des faulx\, Salle ARON\, La Chapelle du bois des Faulx\, 27930
CATEGORIES:Atelier
ATTACH;FMTTYPE=image/jpeg:https://www.normandielivre.fr/wp-content/uploads/2025/09/Affiche-Ateliers-2025-2026-Grande-scaled.jpg
END:VEVENT
BEGIN:VEVENT
DTSTART;TZID=Europe/Paris:20260606T100000
DTEND;TZID=Europe/Paris:20260606T120000
DTSTAMP:20260419T183658
CREATED:20260302T090037Z
LAST-MODIFIED:20260302T090037Z
UID:10003407-1780740000-1780747200@www.normandielivre.fr
SUMMARY:Café BD exceptionnel en présence de Michaël Minerbe
DESCRIPTION:Dans le cadre du festival Polar à la plage\, venez rencontrez Michaël Minerbe\, dessinateur\, entre autres\, de l’adaptation en bande dessinée des aventures d’Arsène Lupin.
URL:https://www.normandielivre.fr/agenda-collaboratif/cafe-bd-exceptionnel-en-presence-de-michael-minerbe/
LOCATION:Médiathèque André-Malraux Lisieux\, Place de la République\, Lisieux\, France\, LISIEUX\, 14100\, France
CATEGORIES:Rencontre
ATTACH;FMTTYPE=image/jpeg:https://www.normandielivre.fr/wp-content/uploads/2026/02/minerbe-c-minerbe.jpg
ORGANIZER;CN="M%C3%A9diath%C3%A8que Andr%C3%A9-Malraux Lisieux":MAILTO:mediatheque-lisieux@agglo-lisieux.fr
END:VEVENT
BEGIN:VEVENT
DTSTART;VALUE=DATE:20260610
DTEND;VALUE=DATE:20260615
DTSTAMP:20260419T183658
CREATED:20260309T075250Z
LAST-MODIFIED:20260309T075308Z
UID:10003415-1781049600-1781481599@www.normandielivre.fr
SUMMARY:Festival Un Chapitre à Rouen
DESCRIPTION:📖 L’association Elles bouquinent est fière de vous présenter la seconde édition du festival Un Chapitre à Rouen\, un événement dédié à la littérature Young Adult. Cette année\, Clara Héraut nous fait l’honneur de marrainer l’événement ! \n📆 Rendez-vous du 10 au 14 juin 2026 dans les librairies de Rouen et à l’Orangerie du Jardin des plantes pour rencontrer plus de 25 autrices \n📍Au programme :\nDédicaces\, ateliers\, tables rondes\, soirée à thème\, chasse aux livres et bien d’autres surprises ! \n➡️ Pour en savoir + : rdv sur Instagram\, Facebook et Tiktok @unchapitrearouen_
URL:https://www.normandielivre.fr/agenda-collaboratif/un-chapitre-a-rouen-2/
LOCATION:Orangerie du Jardin des Plantes\, 114B Av. des Martyrs de la Résistance\, ROUEN\, 76000
CATEGORIES:Festival
ATTACH;FMTTYPE=image/jpeg:https://www.normandielivre.fr/wp-content/uploads/2026/03/Affiche-UCAR-2025-A4-scaled.jpg
ORGANIZER;CN="Elles bouquinent":MAILTO:ellesbouquinentasso@gmail.com
END:VEVENT
BEGIN:VEVENT
DTSTART;TZID=Europe/Paris:20260611T140000
DTEND;TZID=Europe/Paris:20260611T170000
DTSTAMP:20260419T183658
CREATED:20251106T152530Z
LAST-MODIFIED:20251106T152530Z
UID:10002605-1781186400-1781197200@www.normandielivre.fr
SUMMARY:Ateliers d’oralité à destination des mineur·e·s non accompagné·e·s
DESCRIPTION:Avec le soutien de la DRAC Normandie\, la Youle Compagnie et RSM mènent un projet artistique pour les mineur·e·s non accompagné·e·s. \nOuverts à tou·te·s les jeunes\, les ateliers encouragent la parole\, la créativité et la confiance en soi à travers le conte\, l’improvisation et la création collective. \nLe spectacle final sera présenté le 20 juin 2026 au Parc Saint-Exupéry\, lors de la Journée mondiale des réfugié·e·s. \nCes ateliers favorisent l’expression en français\, les échanges interculturels et la valorisation des cultures d’origine.
URL:https://www.normandielivre.fr/agenda-collaboratif/ateliers-doralite-a-destination-des-mineur%c2%b7e%c2%b7s-non-accompagne%c2%b7e%c2%b7s/2026-06-11/
LOCATION:Parc Saint Exupéry\, 24 Bd Gambetta\, Rouen\, 76000
CATEGORIES:Atelier
ATTACH;FMTTYPE=image/png:https://www.normandielivre.fr/wp-content/uploads/2025/11/nano-banana-2025-11-03T12-41-30-Modifie.png
ORGANIZER;CN="Youle Cie":MAILTO:coordination@youlecompagnie.com
END:VEVENT
BEGIN:VEVENT
DTSTART;TZID=Europe/Paris:20260613T140000
DTEND;TZID=Europe/Paris:20260613T180000
DTSTAMP:20260419T183658
CREATED:20260302T121614Z
LAST-MODIFIED:20260302T121614Z
UID:10003408-1781359200-1781373600@www.normandielivre.fr
SUMMARY:Salon du livre au Château de Vouilly
DESCRIPTION:Dans le cadre des festivités du 82ème anniversaire du Débarquement\, l’association Les Amis du Château de Vouilly organise un salon du livre dont le parrain est Pascal Vannier\, journaliste et historien. Nous accueillons une dizaine d’écrivains sur la Seconde Guerre Mondiale et une dizaine de reporters de guerre français dont Dorothée Olliéric\, Martine Laroche Joubert\, Patrick Chauvel\, Rémy Ourdan\, Adrien Jaulmes\, Jean Hatzfeld\,… \nAvec une entrée (5€\, gratuit -18 ans) vous pouvez accéder au salon du livre\, aux expositions\, au château et à la reconstitution du camp de presse. \nPetite note historique :\nDurant l’été 1944\, le Château de Vouilly a accueilli le camp de presse de l’armée américaine. Une cinquantaine de correspondants de guerre américains dont Robert Capa\, Ernest Hemingway\, Ernie Pyle\,… écrivaient leurs articles dans la salle de presse du château (restée en l’état). Les articles passaient ensuite en salle de censure avant d’être transmis directement sur New York.
URL:https://www.normandielivre.fr/agenda-collaboratif/salon-du-livre-au-chateau-de-vouilly/
LOCATION:Château de Vouilly\, 14 230 Isigny sur Mer\, Le Château de Vouilly\, 1159 rue du lieu Brulé\, Isigny sur Mer\, 14 230
CATEGORIES:Salon
ATTACH;FMTTYPE=image/png:https://www.normandielivre.fr/wp-content/uploads/2026/03/Salle-de-presse.png
ORGANIZER;CN="Association Les Amis du Ch%C3%A2teau de Vouilly":MAILTO:chateauvouilly14@gmail.com
END:VEVENT
BEGIN:VEVENT
DTSTART;TZID=Europe/Paris:20260620T080000
DTEND;TZID=Europe/Paris:20260620T170000
DTSTAMP:20260419T183658
CREATED:20251106T152530Z
LAST-MODIFIED:20251106T152530Z
UID:10002606-1781942400-1781974800@www.normandielivre.fr
SUMMARY:Ateliers d’oralité à destination des mineur·e·s non accompagné·e·s
DESCRIPTION:Avec le soutien de la DRAC Normandie\, la Youle Compagnie et RSM mènent un projet artistique pour les mineur·e·s non accompagné·e·s. \nOuverts à tou·te·s les jeunes\, les ateliers encouragent la parole\, la créativité et la confiance en soi à travers le conte\, l’improvisation et la création collective. \nLe spectacle final sera présenté le 20 juin 2026 au Parc Saint-Exupéry\, lors de la Journée mondiale des réfugié·e·s. \nCes ateliers favorisent l’expression en français\, les échanges interculturels et la valorisation des cultures d’origine.
URL:https://www.normandielivre.fr/agenda-collaboratif/ateliers-doralite-a-destination-des-mineur%c2%b7e%c2%b7s-non-accompagne%c2%b7e%c2%b7s/2026-06-20/
LOCATION:Parc Saint Exupéry\, 24 Bd Gambetta\, Rouen\, 76000
CATEGORIES:Atelier
ATTACH;FMTTYPE=image/png:https://www.normandielivre.fr/wp-content/uploads/2025/11/nano-banana-2025-11-03T12-41-30-Modifie.png
ORGANIZER;CN="Youle Cie":MAILTO:coordination@youlecompagnie.com
END:VEVENT
BEGIN:VEVENT
DTSTART;TZID=Europe/Paris:20260626T193000
DTEND;TZID=Europe/Paris:20260626T220000
DTSTAMP:20260419T183658
CREATED:20260410T090726Z
LAST-MODIFIED:20260410T090726Z
UID:10003440-1782502200-1782511200@www.normandielivre.fr
SUMMARY:Atelier d'écriture : quels sapiens voulons-nous devenir?
DESCRIPTION:Quels sapiens voulons-nous devenir ? \nUn vendredi par mois\, à la librairie Le Garage Hermétique\, venez écrire pour ré-étoffer vos rapports au vivant. \nEn mobilisant le langage\, vous explorerez vos rapports aux rivières et aux forêts\, aux pieuvres et aux castors\, à la terre que vous foulez et à la pluie qui la fertilise. \nVous questionnerez les différentes façons d’habiter et de faire territoire et envisagerez l’enchevêtrement des modalités d’existence avec d’autres\, humains et non-humains comme autant de pistes à déployer pour votre imaginaire et votre écriture. \nVous prendrez appui sur les textes de poètes et de poètesses\, de romanciers et de romancières\, de philosophes et d’anthropologues\, de chercheur·euses et de bâtisseur·euses de mondes pour mieux questionner\, déconstruire\, rebâtir un monde désirable pour tous·tes. \nVous serez guidé·es par Isabelle AUREAU\, animatrice d’ateliers d’écriture\, autrice de la Lettre d’Amour et de magie et professeure de yoga. \nChaque atelier est indépendant. Il n’est pas nécessaire d’avoir participé aux ateliers précédents pour s’inscrire. \nOù? A la librairie Le Garage Hermétique\, à Luc-sur-mer\nQuand? Un vendredi par mois. De 19h30 à 22h00 (environ)\nTarif : 20 € \nAucun pré-requis si ce n’est l’envie d’écrire et de se laisser surprendre ! \nInformations et inscriptions sur https://isabelleaureau.fr\nou par email : isabelle.aureau@gmail.com \nAttention\, le nombre de places est limité.
URL:https://www.normandielivre.fr/agenda-collaboratif/atelier-decriture-quels-sapiens-voulons-nous-devenir/2026-06-26/
LOCATION:librairie le garage hermétique\, 5 rue de la brèche marais\, luc sur mer\, 14530
CATEGORIES:Atelier
ATTACH;FMTTYPE=image/jpeg:https://www.normandielivre.fr/wp-content/uploads/2026/04/WhatsApp-Image-2026-04-10-at-09.41.14.jpeg
ORGANIZER;CN="librairie le garage herm%C3%A9tique":MAILTO:librairie.legarage@gmail.com
END:VEVENT
BEGIN:VEVENT
DTSTART;TZID=Europe/Paris:20260627T193000
DTEND;TZID=Europe/Paris:20260627T210000
DTSTAMP:20260419T183658
CREATED:20260325T132126Z
LAST-MODIFIED:20260325T132126Z
UID:10003430-1782588600-1782594000@www.normandielivre.fr
SUMMARY:LES NUITS D'ARTAUD
DESCRIPTION:En écho à la présence d’Antonin Artaud hospitalisé au Rouvray de 1936 à 1937\, chaque mois du printemps et de l’été\, en lien avec la Maison de la poésie\, le Centre Hospitalier du Rouvray organisera à la tombée de la nuit dans un lieu dédié\, une soirée consacrée à la poésie. \nAinsi des personnalités du monde culturel seront conviées à venir présenter leurs poètes de prédilection. Des lectures seront proposées\, suivies d’un débat entre l’invité(e) et le public\, animé par Alexis Peltier\, poète.
URL:https://www.normandielivre.fr/agenda-collaboratif/les-nuits-dartaud/2026-06-27/
LOCATION:Centre Hospitalier du Rouvray\, 4 rue Paul Eluard\, Sotteville -lès-Rouen\, 76300
CATEGORIES:Lecture,Rencontre
END:VEVENT
END:VCALENDAR