BEGIN:VCALENDAR
VERSION:2.0
PRODID:-//Normandie Livre &amp; Lecture - ECPv6.15.11//NONSGML v1.0//EN
CALSCALE:GREGORIAN
METHOD:PUBLISH
X-WR-CALNAME:Normandie Livre &amp; Lecture
X-ORIGINAL-URL:https://www.normandielivre.fr
X-WR-CALDESC:Évènements pour Normandie Livre &amp; Lecture
REFRESH-INTERVAL;VALUE=DURATION:PT1H
X-Robots-Tag:noindex
X-PUBLISHED-TTL:PT1H
BEGIN:VTIMEZONE
TZID:Europe/Paris
BEGIN:DAYLIGHT
TZOFFSETFROM:+0100
TZOFFSETTO:+0200
TZNAME:CEST
DTSTART:20240331T010000
END:DAYLIGHT
BEGIN:STANDARD
TZOFFSETFROM:+0200
TZOFFSETTO:+0100
TZNAME:CET
DTSTART:20241027T010000
END:STANDARD
BEGIN:DAYLIGHT
TZOFFSETFROM:+0100
TZOFFSETTO:+0200
TZNAME:CEST
DTSTART:20250330T010000
END:DAYLIGHT
BEGIN:STANDARD
TZOFFSETFROM:+0200
TZOFFSETTO:+0100
TZNAME:CET
DTSTART:20251026T010000
END:STANDARD
BEGIN:DAYLIGHT
TZOFFSETFROM:+0100
TZOFFSETTO:+0200
TZNAME:CEST
DTSTART:20260329T010000
END:DAYLIGHT
BEGIN:STANDARD
TZOFFSETFROM:+0200
TZOFFSETTO:+0100
TZNAME:CET
DTSTART:20261025T010000
END:STANDARD
END:VTIMEZONE
BEGIN:VEVENT
DTSTART;TZID=Europe/Paris:20250902T180000
DTEND;TZID=Europe/Paris:20250902T193000
DTSTAMP:20260420T075747
CREATED:20250825T093414Z
LAST-MODIFIED:20250825T093622Z
UID:10002470-1756836000-1756841400@www.normandielivre.fr
SUMMARY:Rencontre avec Michel Bussi
DESCRIPTION:­ « Noël 2024. Jorik\, un militaire à la retraite\, sa fille Aline et sa petite-fille Maé\, quinze ans\, s’envolent pour le Rwanda\, à la rencontre des gorilles des montagnes des Virunga. Pour Maé\, c’est un rêve d’enfant ; pour Aline\, un retour aux sources\, sur la terre qui l’a vue naître ; pour Jorik\, une plongée vertigineuse dans les méandres de son passé\, sur les traces de sa femme\, morte trente ans plus tôt. \nEn 1990\, alors qu’il venait d’arriver à Kigali envoyé par l’État français\, Jorik rencontrait Espérance\, jeune et brillante professeure de mathématiques. Mais un soir\, un éclair déchira le ciel et\, avec lui\, l’amour qui les unissait : le 6 avril 1994\, l’avion du président rwandais s’écrase\, ciblé par un attentat qui précipite le pays dans le chaos. Le génocide des Tutsi commence. Forcée de fuir avec sa fille Aline à travers le pays\, Espérance consigne tout dans son journal – les massacres\, les complicités\, les noms et les visages de ceux qui orchestrent l’horreur. Ces informations représentent une menace pour les hautes sphères\, en France comme au Rwanda. Et certains sont prêts à tout pour faire disparaître son témoignage et elle avec… \nDes années plus tard\, le voyage de Jorik\, Aline et Maé en terre rwandaise fait resurgir le passé\, réveillant les fantômes et les ombres les plus terribles de l’Histoire.\nUn texte d’une ampleur romanesque et historique exceptionnelle\, empreint de noirceur et de lumière\, porté par des personnages qui tentent de survivre face à la tragédie\, animé par une quête de vérité éperdue. »\n—————-\nMichel Bussi\, magicien du suspense\, aime surprendre en nous manipulant. Enseignant-chercheur en géographie\, il a exploré les cartes du monde avant de dessiner celles des âmes humaines. Ses personnages ? Des invisibles\, des héroïnes courageuses\, en quête d’identité et de réparation. À leurs côtés\, les lieux prennent vie pour devenir eux aussi des personnages à part entière. Il est l’un des auteurs préférés des Français depuis Nymphéas noirs (Les Presses de la Cité\, 2011). Il a été récompensé par de nombreux prix littéraires et est traduit dans le monde entier.
URL:https://www.normandielivre.fr/agenda-collaboratif/rencontre-avec-michel-bussi-2/
LOCATION:L’Armitière\, 66 rue Jeanne D'Arc\, Rouen\, 76000
CATEGORIES:Rencontre
ATTACH;FMTTYPE=image/jpeg:https://www.normandielivre.fr/wp-content/uploads/2025/08/Michel-Bussi.jpg
END:VEVENT
BEGIN:VEVENT
DTSTART;TZID=Europe/Paris:20250903T180000
DTEND;TZID=Europe/Paris:20250903T193000
DTSTAMP:20260420T075747
CREATED:20250825T093347Z
LAST-MODIFIED:20250825T093347Z
UID:10002471-1756922400-1756927800@www.normandielivre.fr
SUMMARY:Rencontre avec Cédric Sapin-Defour
DESCRIPTION:­ « Le vendredi 12 août 2022\, au bout d’une vallée étincelante dans la province de Bolzano\, un couple affranchi de toutes contraintes\, libre d’aller au bonheur des chemins\, de cueillir la joie d’un moment et de jouer avec le temps\, va s’envoler l’un à la suite de l’autre\, en parapente. Ce couple\, on le nomme : Cédric et Mathilde\, deux passionnés de montagne\, qui ont mille fois fait le geste de se jeter dans l’air pur. Qu’est-ce qui aurait pu les avertir ce jour-là ? « Quand des copains sont morts en montagne\, je n’arrivais pas à m’extraire cette question de la tête : le matin\, en se levant\, sentaient-ils qu’ils allaient mourir ? » \nLe jour J\, Cédric se tourne\, il ne voit plus Mathilde. Où est-elle ? Où donc cette étoile au rire « infracassable » est-elle tombée ? Est-elle vivante ? A-t-elle survécu et si oui\, dans le halètement de la course qui mène Cédric au lieu de la chute\, comment ? \nDécoupé en scènes à suspense qu’on bat comme des cartes autour du jour J et sa chronologie dramatique\, ce récit qui vous saisit à la gorge est hymne à l’amour\, pulsions de vie\, mémoire d’une reconstruction qui prendra plusieurs mois. Sauve\, par quel miracle ? Mathilde doit tout réapprendre. C’est une page blanche que l’amour imbibe et sur laquelle s’écrit l’histoire d’un recommencement à zéro\, corps brisé\, amnésie en spirale\, envies\, rires\, larmes. Cédric Sapin-Defour\, acteur et narrateur de ce livre\, réussit la prouesse littéraire d’être à la fois proche de chaque instant d’une rééducation au millimètre et à distance du réel. \nOde à la beauté de l’instant\, roman-vrai d’un couple à l’unisson de son désir de liberté\, ce livre puissant interroge aussi ceux qui échappent au pire : comment surmonter l’épreuve ? Et même si l’autre survit\, qu’est-ce qui meurt en soi » \n—————- \nCédric Sapin-Defour vit en montagne et la parcourt. Il est l’auteur entre autres de « Son odeur après la pluie »\, qui fut l’événement littéraire de l’année 2023\, traduit en 25 langues\, adapté en bande dessinée (sortie en mai 2025)\, au théâtre et en cours d’adaptation au cinéma.
URL:https://www.normandielivre.fr/agenda-collaboratif/rencontre-avec-cedric-sapin-defour/
LOCATION:L’Armitière\, 66 rue Jeanne D'Arc\, Rouen\, 76000
CATEGORIES:Rencontre
ATTACH;FMTTYPE=image/jpeg:https://www.normandielivre.fr/wp-content/uploads/2025/08/cedric.jpg
END:VEVENT
BEGIN:VEVENT
DTSTART;TZID=Europe/Paris:20250906T100000
DTEND;TZID=Europe/Paris:20250907T180000
DTSTAMP:20260420T075747
CREATED:20250630T093423Z
LAST-MODIFIED:20250630T093423Z
UID:10002437-1757152800-1757268000@www.normandielivre.fr
SUMMARY:Salon du roman policier La Cigogne Noire
DESCRIPTION:Le Salon du roman policier « La Cigogne Noire » revient à Moult-Chicheboville les 6 et 7 septembre 2025 ! \nLa Cigogne vous dévoile une édition parrainée par René MANZOR et avec pour invités d’honneur\, Nicolas LEBEL et Georges SALINAS. Au total\, ce sont 45 auteurs et illustrateurs qui accueilleront le public. \nLe Salon ouvrira au public le samedi dès 10h\, avant la remise du Prix de la Cigogne Noire prévue à 11h30. \nDeux conférences\, animées par Zonelivre seront tenues à 14h30 et 16h. Durant l’ensemble de la journée\, le public pourra s’initier au jeu de rôle et/ou désamorcer un complot dans l’escape game X-Bomb. L’espace dédicace fermera à 18h30. \nEn soirée\, pour fêter le lancement de la 5ème édition\, la Cigogne Noire proposera une murder party à 18h\, suivie du spectacle « La Chute (mais pas de Camus) » à 20h30 avant le feu d’artifice à 22h\, marquant la fin de cette première journée. \nLe Salon ouvrira de nouveau ses portes le dimanche de 10h à 18h. La journée sera rythmée par les conférences organisées à 11h et 14h30 ainsi qu’un spectacle jeunesse prévu à 15h30. \nLà encore\, les espaces jeu de rôle et escape game seront disponibles sur l’ensemble de la journée. \nL’ensemble des animations sont gratuites\, certaines sur réservation. \nRestauration possible sur site.
URL:https://www.normandielivre.fr/agenda-collaboratif/salon-du-roman-policier-la-cigogne-noire-2/
LOCATION:Salle Multi-raquettes Moult-Chicheboville\, Rue du Traité de Rome\, Moult-Chicheboville\, 14370
CATEGORIES:Salon
ATTACH;FMTTYPE=image/png:https://www.normandielivre.fr/wp-content/uploads/2025/06/Affiches-Cigogne-Noire-2025.png
END:VEVENT
BEGIN:VEVENT
DTSTART;TZID=Europe/Paris:20250909T180000
DTEND;TZID=Europe/Paris:20250909T193000
DTSTAMP:20260420T075747
CREATED:20250825T093305Z
LAST-MODIFIED:20250825T093305Z
UID:10002472-1757440800-1757446200@www.normandielivre.fr
SUMMARY:Rencontre avec Johann Chapoutot
DESCRIPTION:Libres d’obéir ou comment le management moderne trouve certaines de ses racines dans l’organisation nazie. Les auteurs racontent comment Reinhard Höhn\, ancien juriste du IIIᵉ Reich\, a influencé la pensée managériale en prônant l’autonomie sous contrôle\, de l’après-guerre jusqu’à nos jours. Dans cette adaptation en bande dessinée\, a été ajouté le récit de deux femmes cadres\, soumises à la pression managériale\, mettant en scène les conséquences concrètes de cette idéologie dans le monde professionnel actuel. \n———\nProfesseur d’histoire contemporaine à la Sorbonne\, Johann Chapoutot est l’auteur d’une dizaine d’ouvrages traduits en quinze langues et distingués par de nombreux prix français et internationaux.
URL:https://www.normandielivre.fr/agenda-collaboratif/rencontre-avec-johann-chapoutot-2/
LOCATION:L’Armitière\, 66 rue Jeanne D'Arc\, Rouen\, 76000
CATEGORIES:Rencontre
ATTACH;FMTTYPE=image/jpeg:https://www.normandielivre.fr/wp-content/uploads/2025/08/Johann-Chapoutot.jpg
END:VEVENT
BEGIN:VEVENT
DTSTART;TZID=Europe/Paris:20250910T150000
DTEND;TZID=Europe/Paris:20250910T170000
DTSTAMP:20260420T075747
CREATED:20250828T124749Z
LAST-MODIFIED:20250828T124749Z
UID:10002489-1757516400-1757523600@www.normandielivre.fr
SUMMARY:Projection "Les Petites Victoires"
DESCRIPTION:Dans le cadre des Journées Nationales d’Actions contre l’Illettrisme\, venez découvrir le film Les Petites Victoires de Mélanie Auffret.\n« Entre ses obligations de maire et son rôle d’institutrice\, les journées d’Alice sont bien remplies. L’arrivée dans sa classe d’Emile\, un homme de 60 ans\, enfin décidé à apprendre à lire et à écrire\, va rendre son quotidien ingérable. »
URL:https://www.normandielivre.fr/agenda-collaboratif/projection-les-petites-victoires/
LOCATION:Médiathèque Quai des Mondes\, 4 Rue Calmette\, Mondeville\, 14120
CATEGORIES:Projection
ATTACH;FMTTYPE=image/png:https://www.normandielivre.fr/wp-content/uploads/2025/08/RS-proj-septembre.png
ORGANIZER;CN="M%C3%A9diath%C3%A8que Quai des Mondes":MAILTO:lisa.lelouard@mondeville.fr
END:VEVENT
BEGIN:VEVENT
DTSTART;TZID=Europe/Paris:20250910T180000
DTEND;TZID=Europe/Paris:20250910T200000
DTSTAMP:20260420T075747
CREATED:20250709T073658Z
LAST-MODIFIED:20250709T074630Z
UID:10002458-1757527200-1757534400@www.normandielivre.fr
SUMMARY:Atelier écriture/édition
DESCRIPTION:Une collaboration artistique et littéraire au long cours entre une plasticienne et un collectif d’auteur-e-s inspiré-e-s par ses images.
URL:https://www.normandielivre.fr/agenda-collaboratif/atelier-ecriture-edition-2/2025-09-10/
LOCATION:Maison de quartier Saint-Paul Caen\, 30 rue de Secqueville\, CAEN\, 14000
CATEGORIES:Atelier
ATTACH;FMTTYPE=image/jpeg:https://www.normandielivre.fr/wp-content/uploads/2025/06/1270922-w.jpg
ORGANIZER;CN="Editions Les Ateliers":MAILTO:ateliers.cnoyelle@neuf.fr
END:VEVENT
BEGIN:VEVENT
DTSTART;VALUE=DATE:20250913
DTEND;VALUE=DATE:20250914
DTSTAMP:20260420T075747
CREATED:20250715T084913Z
LAST-MODIFIED:20250715T084913Z
UID:10002466-1757721600-1757807999@www.normandielivre.fr
SUMMARY:Fête du livre "Imaginons la Paix"
DESCRIPTION:La fête du Livre de Saint-Omer est un événement qui anime tous les deux ans la Communauté de Communes de Cingal-Suisse Normande. Il est organisé par un collectif regroupant les Amis de la Bibliothèque de Saint-Omer et les Ecrivains en Suisse Normande. \nCette année il a pour thème Imaginons la Paix. 32 écrivains normands y participent dont 15 de Suisse Normande. \nPlusieurs animations\, dont une promenade patrimoine (à 9h30)\, des lectures musicales de 14h30 à 17h30\, des expositions d’artistes locaux sur le thème de la paix et de l’harmonie avec la nature (Florence Boisjoly)\, des initiations à la méditation (yoga)\, des animations et jeux pour les enfants\, une buvette et petite restauration font de cet événement une vraie fête populaire en milieu rural. \nCette année des musiciens de l’école de musique de la Communauté de Communes ainsi que de nombreux bénévoles y participent.
URL:https://www.normandielivre.fr/agenda-collaboratif/fete-du-livre-imaginons-la-paix/
LOCATION:Salle municipale et bibliothèque\, Le Bourg-place de la mairie\, Saint-Omer\, 14220
CATEGORIES:Festival
ATTACH;FMTTYPE=image/jpeg:https://www.normandielivre.fr/wp-content/uploads/2025/07/affiche-saint-omer-scaled.jpg
ORGANIZER;CN="Collectif Ame-Amis de la Biblioth%C3%A8que de Saint-Omer et Ecrivains en Suisse Normande":MAILTO:bib132@orange.fr
END:VEVENT
BEGIN:VEVENT
DTSTART;TZID=Europe/Paris:20250913T100000
DTEND;TZID=Europe/Paris:20250914T180000
DTSTAMP:20260420T075747
CREATED:20250606T125304Z
LAST-MODIFIED:20250728T093729Z
UID:10002400-1757757600-1757872800@www.normandielivre.fr
SUMMARY:Petit Salon du Lire et des Auteurs Normands
DESCRIPTION:Le Petit Salon du Lire et des Auteurs Normands est un salon généraliste qui va rassembler une trentaine d’auteurs (romanciers\, dessinateurs\, littérature jeunesse\, fantasy\, documentaires). \nPour sa 10ème édition\, le Salon va célébrer les Arts en invitant des artistes en plus des auteurs\, et va mettre en valeur différentes œuvres (sculpture\, peinture\, concert avec lecture musicale\, photographie). \nNous privilégierons les moments de rencontre et de partage entre les auteurs et le public tout au long de la journée du dimanche. \nCôté animations\, nous proposerons le samedi plusieurs ateliers créatifs à destination aussi bien des enfants que des adultes pour découvrir les arts de la poterie\, de la peinture ou bien encore de la calligraphie.
URL:https://www.normandielivre.fr/agenda-collaboratif/petit-salon-du-lire-et-des-auteurs-normands/
LOCATION:Chateau de Gromesnil – Saint Romain de Colbosc\, parc éco normandie\, Saint Romain de Colbosc\, 76430\, France
CATEGORIES:Salon
ATTACH;FMTTYPE=image/png:https://www.normandielivre.fr/wp-content/uploads/2025/06/Affiche-PSL-25.png
ORGANIZER;CN="Biblioth%C3%A8que de Saint Romain de Colbosc":MAILTO:bibliotheque.mptsrc@gmail.com
END:VEVENT
BEGIN:VEVENT
DTSTART;TZID=Europe/Paris:20250913T110000
DTEND;TZID=Europe/Paris:20250913T120000
DTSTAMP:20260420T075748
CREATED:20250730T145452Z
LAST-MODIFIED:20250730T145452Z
UID:10002469-1757761200-1757764800@www.normandielivre.fr
SUMMARY:L'heure du conte
DESCRIPTION:Christine\, Manon et Laura nos libraires jeunesse vous proposent une lecture de leurs albums chouchous ! \nCette animation est ouverte aux enfants de moins de 6 ans. \nDurée : 45 minutes \nAttention\, avant de vous inscrire merci de bien lire les conditions d’accès : \nSeuls les enfants doivent être inscrits via ce formulaire: inutile de réserver votre place en tant qu’accompagnant \nInscription obligatoire – Nombre de places limité
URL:https://www.normandielivre.fr/agenda-collaboratif/lheure-du-conte/
LOCATION:L’Armitière\, 66 rue Jeanne D'Arc\, Rouen\, 76000
CATEGORIES:Lecture
ATTACH;FMTTYPE=image/png:https://www.normandielivre.fr/wp-content/uploads/2025/07/INSTAGRAMSITE_evenements_2024-25.png
END:VEVENT
BEGIN:VEVENT
DTSTART;TZID=Europe/Paris:20250913T110000
DTEND;TZID=Europe/Paris:20250913T230000
DTSTAMP:20260420T075748
CREATED:20250829T081257Z
LAST-MODIFIED:20250829T081405Z
UID:10002490-1757761200-1757804400@www.normandielivre.fr
SUMMARY:Les 10 ans de Quai des Mondes
DESCRIPTION:La médiathèque Quai des Mondes a ouvert ses portes en 2015. Dix ans plus tard\, nous vous retrouvons le samedi 13 septembre pour fêter cette décennie et son million de documents empruntés. \nAu programme : \nLes Fabulettes d’anniversaire à 11h \nL’atelier « Dessine ta Bibli » à 14h \nLes Sornettes de la fête à 15h \nLA Kiddy Boum à 16h30 \nUn DJ Set à 19h
URL:https://www.normandielivre.fr/agenda-collaboratif/les-10-ans-de-quai-des-mondes/
LOCATION:Médiathèque Quai des Mondes\, 4 Rue Calmette\, Mondeville\, 14120
ATTACH;FMTTYPE=image/png:https://www.normandielivre.fr/wp-content/uploads/2025/08/Anniv-RS-Mail.png
ORGANIZER;CN="M%C3%A9diath%C3%A8que Quai des Mondes":MAILTO:lisa.lelouard@mondeville.fr
END:VEVENT
BEGIN:VEVENT
DTSTART;TZID=Europe/Paris:20250919T140000
DTEND;TZID=Europe/Paris:20250919T163000
DTSTAMP:20260420T075748
CREATED:20250908T102920Z
LAST-MODIFIED:20250908T132037Z
UID:10002530-1758290400-1758299400@www.normandielivre.fr
SUMMARY:Atelier d'écriture tout public
DESCRIPTION:Chaque mois\, dès septembre 2025 jusqu’à juin 2026\, un atelier d’écriture est proposé à la Chapelle du Bois des Faulx (27) de 14h à 16h30. \nAnimé par Davy Artero\, les ateliers abordent différentes thématiques et exercices littéraires\, dans un cadre agréable et la bonne humeur.
URL:https://www.normandielivre.fr/agenda-collaboratif/atelier-decriture-tout-public/
LOCATION:27930 – la chapelle du bois des faulx\, Salle ARON\, La Chapelle du bois des Faulx\, 27930
CATEGORIES:Atelier
ATTACH;FMTTYPE=image/jpeg:https://www.normandielivre.fr/wp-content/uploads/2025/09/Affiche-Ateliers-2025-2026-Grande-scaled.jpg
END:VEVENT
BEGIN:VEVENT
DTSTART;TZID=Europe/Paris:20250920T150000
DTEND;TZID=Europe/Paris:20250920T163000
DTSTAMP:20260420T075748
CREATED:20250904T153003Z
LAST-MODIFIED:20250904T153003Z
UID:10002522-1758380400-1758385800@www.normandielivre.fr
SUMMARY:Conférence Victor Hugo en toutes lettres (1er épisode)
DESCRIPTION:Un romantique royaliste devient républicain : 1802-1851 \nComment Victor Hugo est-il devenu un écrivain national ? Comment sa vision romantique de la société\, de l’Histoire\, de l’univers s’est-elle inscrite dans l’immensité de ses œuvres complètes ? Comment a-t-il incarné le XIX e siècle et écrit sa légende tout en prophétisant l’avenir ? Le cycle proposera un parcours de la vie\, des idées et des œuvres d’un véritable Titan. \nPar Gérard Gengembre\, professeur émérite de littérature française à l’université de Caen\, spécialiste du XIXème siècle. \nPour adulte et ado à partir de 15 ans\nEntrée libre
URL:https://www.normandielivre.fr/agenda-collaboratif/conference-victor-hugo-en-toutes-lettres-1er-episode/
LOCATION:Espace Philippe-Auguste\, salle Vikings\, 12 avenue Victor Hugo\, Vernon\, 27200
CATEGORIES:Conférence
ATTACH;FMTTYPE=image/jpeg:https://www.normandielivre.fr/wp-content/uploads/2025/09/France_500_francs_Victor_Hugo.jpg
ORGANIZER;CN="M%C3%A9diath%C3%A8que de Vernon":MAILTO:mediatheque.vernon@sna24.fr
END:VEVENT
BEGIN:VEVENT
DTSTART;TZID=Europe/Paris:20250920T150000
DTEND;TZID=Europe/Paris:20250920T170000
DTSTAMP:20260420T075748
CREATED:20250825T100139Z
LAST-MODIFIED:20250825T100139Z
UID:10002479-1758380400-1758387600@www.normandielivre.fr
SUMMARY:Dédicace avec Pauline Martin
DESCRIPTION:Alors que le nuit tombe et qu’il se prépare à aller dormir\, Léon fait son possible pour tenir le loup à distance. Chaque étape du coucher\, bain\, pipi\, lecture\, câlin\, est une excellente raison de lui refuser une visite ! Celui-ci est pourtant en route vers la maison de Léon : à pied\, en bateau ou à vélo\, il s’approche\, s’apprête à sonner à la porte\, tente d’entrer par la cheminée mais face aux refus répétés\, il finit par se décourager… Lorsque le loup rebrousse chemin c’est pour aller lui aussi se mettre au lit. Depuis\, le sien\, Léon lui dit « bonne nuit » ! Il peut dormir paisiblement… \n—————– \nPauline Martin est née en 1975. Elle abandonne des études de médecine et entre à l’Atelier de Sèvres puis à l’Institut des arts appliqués\, où elle suit les cours de Killoffer et rencontre Dupuy et Berberian. \nElle est autrice et illustratrice d’une cinquantaine d’albums jeunesse. Elle illustre depuis 2015 la série « Mon Amour » écrite par Astrid Desbordes ainsi que « Max et Lapin » avec la même autrice chez Nathan. Elle a imaginé la série « Bébé » pour les tout-petits et a publié Léon\, grand frère aux éditions La Partie. Elle vit et travaille à Paris.
URL:https://www.normandielivre.fr/agenda-collaboratif/dedicace-avec-pauline-martin/
LOCATION:Librairie L’Armitière\, 66 rue Jeanne D'Arc\, Rouen\, 76000
CATEGORIES:Dédicace
ATTACH;FMTTYPE=image/png:https://www.normandielivre.fr/wp-content/uploads/2025/08/PAULINE-MARTIN.png
END:VEVENT
BEGIN:VEVENT
DTSTART;TZID=Europe/Paris:20250922T190000
DTEND;TZID=Europe/Paris:20250922T230000
DTSTAMP:20260420T075748
CREATED:20250630T090148Z
LAST-MODIFIED:20250630T090148Z
UID:10002438-1758567600-1758582000@www.normandielivre.fr
SUMMARY:Ouverture de saison de la Factorie - Maison de poésie de Normandie
DESCRIPTION:La Factorie – Maison de poésie de Normandie fête ses 10 ans ! \nBen Herbert Larue soufflera en même temps que La Factorie ses 10 bougies. \nQuand on construit ensemble\, on fête ensemble. \nAlors La Factorie a préparé un petit quelque chose avec ce chanteur-poète et ami\, qui saura vous happer par ses mots et sa générosité au point qu’il sera difficile d’attendre le prochain tour de chant.
URL:https://www.normandielivre.fr/agenda-collaboratif/ouverture-de-saison-de-la-factorie-maison-de-poesie-de-normandie/
LOCATION:La Factorie – Maison de Poésie de Normandie\, Île du Roi\, 27100\, Val-de-Reuil
ATTACH;FMTTYPE=image/jpeg:https://www.normandielivre.fr/wp-content/uploads/2025/06/Ouverture-de-saison-25-26-1.jpg
ORGANIZER;CN="la FACTORIE / Maison de Po&eacute%3Bsie de Normandie":MAILTO:direction@factorie.fr
END:VEVENT
BEGIN:VEVENT
DTSTART;TZID=Europe/Paris:20250924T180000
DTEND;TZID=Europe/Paris:20250924T200000
DTSTAMP:20260420T075748
CREATED:20250709T073658Z
LAST-MODIFIED:20250709T074630Z
UID:10002459-1758736800-1758744000@www.normandielivre.fr
SUMMARY:Atelier écriture/édition
DESCRIPTION:Une collaboration artistique et littéraire au long cours entre une plasticienne et un collectif d’auteur-e-s inspiré-e-s par ses images.
URL:https://www.normandielivre.fr/agenda-collaboratif/atelier-ecriture-edition-2/2025-09-24/
LOCATION:Maison de quartier Saint-Paul Caen\, 30 rue de Secqueville\, CAEN\, 14000
CATEGORIES:Atelier
ATTACH;FMTTYPE=image/jpeg:https://www.normandielivre.fr/wp-content/uploads/2025/06/1270922-w.jpg
ORGANIZER;CN="Editions Les Ateliers":MAILTO:ateliers.cnoyelle@neuf.fr
END:VEVENT
BEGIN:VEVENT
DTSTART;TZID=Europe/Paris:20250926T143000
DTEND;TZID=Europe/Paris:20250926T160000
DTSTAMP:20260420T075748
CREATED:20250829T081111Z
LAST-MODIFIED:20250829T081111Z
UID:10002491-1758897000-1758902400@www.normandielivre.fr
SUMMARY:Sortie de résidence - Myriam Lotton
DESCRIPTION:Après une première semaine de résidence\, venez rencontrer Myriam Lotton de la compagnie Foutu Quart d’Heure et assister à la présentation de son prochain spectacle pour les tout-petits.
URL:https://www.normandielivre.fr/agenda-collaboratif/sortie-de-residence-myriam-lotton/
LOCATION:Médiathèque Quai des Mondes\, 4 Rue Calmette\, Mondeville\, 14120
CATEGORIES:Spectacle
ATTACH;FMTTYPE=image/png:https://www.normandielivre.fr/wp-content/uploads/2025/08/Capture-decran-2025-07-02-140049.png
ORGANIZER;CN="M%C3%A9diath%C3%A8que Quai des Mondes":MAILTO:lisa.lelouard@mondeville.fr
END:VEVENT
END:VCALENDAR