BEGIN:VCALENDAR
VERSION:2.0
PRODID:-//Normandie Livre &amp; Lecture - ECPv6.15.11//NONSGML v1.0//EN
CALSCALE:GREGORIAN
METHOD:PUBLISH
X-ORIGINAL-URL:https://www.normandielivre.fr
X-WR-CALDESC:Évènements pour Normandie Livre &amp; Lecture
REFRESH-INTERVAL;VALUE=DURATION:PT1H
X-Robots-Tag:noindex
X-PUBLISHED-TTL:PT1H
BEGIN:VTIMEZONE
TZID:Europe/Paris
BEGIN:DAYLIGHT
TZOFFSETFROM:+0100
TZOFFSETTO:+0200
TZNAME:CEST
DTSTART:20230326T010000
END:DAYLIGHT
BEGIN:STANDARD
TZOFFSETFROM:+0200
TZOFFSETTO:+0100
TZNAME:CET
DTSTART:20231029T010000
END:STANDARD
BEGIN:DAYLIGHT
TZOFFSETFROM:+0100
TZOFFSETTO:+0200
TZNAME:CEST
DTSTART:20240331T010000
END:DAYLIGHT
BEGIN:STANDARD
TZOFFSETFROM:+0200
TZOFFSETTO:+0100
TZNAME:CET
DTSTART:20241027T010000
END:STANDARD
BEGIN:DAYLIGHT
TZOFFSETFROM:+0100
TZOFFSETTO:+0200
TZNAME:CEST
DTSTART:20250330T010000
END:DAYLIGHT
BEGIN:STANDARD
TZOFFSETFROM:+0200
TZOFFSETTO:+0100
TZNAME:CET
DTSTART:20251026T010000
END:STANDARD
END:VTIMEZONE
BEGIN:VEVENT
DTSTART;TZID=Europe/Paris:20240405T093000
DTEND;TZID=Europe/Paris:20240922T180000
DTSTAMP:20260421T163413
CREATED:20240405T140328Z
LAST-MODIFIED:20240405T140328Z
UID:10001826-1712309400-1727028000@www.normandielivre.fr
SUMMARY:Le Livre dans l’art\, objet magique et mystérieux
DESCRIPTION:Exposition à L’ATELIER de CONDÉ-sur-NOIREAU du 23/03/ 2024 aux Journées du Patrimoine le 22/09/2024 \n« Le livre\, compagnon silencieux et pourtant bavard\, reste un objet magique »\nStéphane Mallarmé\, Le livre\, instrument spirituel\, 1897. \nL’ATELIER de Condé-sur-Noireau abrite entre autres\, une Médiathèque et un Musée\, le Musée Charles Léandre. Il nous est apparu opportun de profiter de ces deux espaces unis\, pour imaginer une exposition sur « Le Livre dans l’Art\, objet magique et mystérieux ». \nLes œuvres empruntées sont sélectionnées dans les riches collections des différentes structures culturelles de Normandie (musées\, médiathèques\, artothèque\, …) mais également à des collectionneurs privés. Des artistes et des artisans des métiers du livre de la région\, participent aussi à cette manifestation. \nL’exposition aborde l’histoire du Livre\, allant du codex au livre numérique ; celle de la lecture passant de l’ouvrage religieux à la littérature profane ; elle s’intéresse à la manière dont les artistes ont pu représenter le livre au cours des siècles. \nPour ce qui est de la lecture\, le thème de la transmission\, ceux de la concentration\, du silence\, de la solitude\, de l’abandon\, de la naissance de la liberté\, sont évoqués pour les représentations des femmes lectrices du XVIIIe au XXIe siècle. Les hommes lecteurs\, naguère\, si souvent peints jusqu’au XVIIIe siècle\, comme saints\, scientifiques\, philosophes ou sages\, se feront plus rares ! \nUne salle est consacrée aux peintures et aux photographies d’écrivains et d’artistes lisant\, ou tenant un livre à la main\, ou encore dans leur bibliothèque\, entourés d’ouvrages. \nPeintures\, sculptures\, gravures\, photographies\, livres illustrés (manuscrits entre autres…) livres d’artistes\, livres-objets\, belles reliures\, pop ups\, flip books\, planches de B.D et illustrations originales…\, sont ainsi présentés pour mettre en lumière le lien majeur entre le Livre et l’Art. \nMartine Baransky\nHistorienne de l’art et commissaire de l’exposition \n« Le livre constitue une possibilité de voir le monde autrement et peut donner l’élan de tout quitter\, de s’envoler vers d’autres horizons en ayant conquis par la lecture les armes de la liberté ».\nLaure Adler
URL:https://www.normandielivre.fr/agenda-collaboratif/le-livre-dans-lart-objet-magique-et-mysterieux/
LOCATION:Condé-sur-Noireau 14110 CONDE-EN-NORMANDIE\, 9/11 rue Saint-Martin\, Condé-sur-Noireau\, 14110 Condé-en-Normandie
CATEGORIES:Exposition
ATTACH;FMTTYPE=image/jpeg:https://www.normandielivre.fr/wp-content/uploads/2024/04/affiche-A3-1-scaled.jpeg
ORGANIZER;CN="Espace Mus%C3%A9e Charles L%C3%A9andre%2C Cond%C3%A9-sur-Noireau":MAILTO:contact@musee-charles-leandre.fr
END:VEVENT
BEGIN:VEVENT
DTSTART;VALUE=DATE:20240728
DTEND;VALUE=DATE:20240803
DTSTAMP:20260421T163413
CREATED:20240610T085316Z
LAST-MODIFIED:20240610T085316Z
UID:10001890-1722124800-1722643199@www.normandielivre.fr
SUMMARY:Pirouésie
DESCRIPTION:Une semaine d’ateliers d’écriture\, de peinture\, de chant\, de spectacles et de balades. \nInscription à la semaine pour les participants aux ateliers\, spectacles du soir ouverts à tous (certains spectacles sur entrée payante).
URL:https://www.normandielivre.fr/agenda-collaboratif/pirouesie-3/
LOCATION:50770 PIROU\, SALLE POLYVALENTE PLACE DES BOCAGERS\, PIROU plage\, 50770
CATEGORIES:Festival
ATTACH;FMTTYPE=image/jpeg:https://www.normandielivre.fr/wp-content/uploads/2024/06/pirouesie.jpg
ORGANIZER;CN="Association Pirou&eacute%3Bsie":MAILTO:pirouesie@gmail.com
END:VEVENT
BEGIN:VEVENT
DTSTART;TZID=Europe/Paris:20240809T203000
DTEND;TZID=Europe/Paris:20240809T220000
DTSTAMP:20260421T163413
CREATED:20240730T121646Z
LAST-MODIFIED:20240730T124914Z
UID:10001935-1723235400-1723240800@www.normandielivre.fr
SUMMARY:Rencontre avec Victor Malzac\, auteur de "Créatine"
DESCRIPTION:Victor Malzac\, auteur de trois recueils de poésie\, a publié en 2024 son premier roman\, « Créatine »\, chez Gallimard dans la collection Scribes. \nL’objectif du narrateur est de se muscler de plus en plus pour devenir « une machine de guerre » et séduire toutes les femmes. \nLe lecteur prend ce personnage en pitié ou il le déteste\, mais il ne peut être indifférent à la langue fougueuse de ce jeune auteur. \nUne soirée organisée en partenariat avec les Rencontres d’été théâtre et lecture en Normandie.
URL:https://www.normandielivre.fr/agenda-collaboratif/rencontre-avec-victor-malzac-auteur-de-creatine/
CATEGORIES:Rencontre
ATTACH;FMTTYPE=image/jpeg:https://www.normandielivre.fr/wp-content/uploads/2024/07/victor-malzac©francesca-mantovani-scaled.jpg
ORGANIZER;CN="Villa La Brug%C3%A8re":MAILTO:villalabrugere14117@gmail.com
END:VEVENT
BEGIN:VEVENT
DTSTART;TZID=Europe/Paris:20240813T170000
DTEND;TZID=Europe/Paris:20240813T190000
DTSTAMP:20260421T163413
CREATED:20240624T092116Z
LAST-MODIFIED:20240624T092116Z
UID:10001901-1723568400-1723575600@www.normandielivre.fr
SUMMARY:Douvres estival #2
DESCRIPTION:La librairie café Place 26 organise une rencontre touristique avec les acteurs locaux. \nVacanciers ou non\, vous êtes les bienvenus pour en savoir plus sur les lieux de visites à Douvres: Basilique\, chapelle Lalique\, Radar… \nDégustation d’alcool et présence du fromager.
URL:https://www.normandielivre.fr/agenda-collaboratif/douvres-estival-2/
LOCATION:Librairie café Place 26\, 26\, place Lesage\, Douvres la Délivrande\, 14440
CATEGORIES:Rencontre
ATTACH;FMTTYPE=image/png:https://www.normandielivre.fr/wp-content/uploads/2022/09/Capture-décran-2022-09-19-à-10.04.00-e1695983589295.png
ORGANIZER;CN="Librairie caf&eacute%3B Place 26":MAILTO:contact@place26.com
END:VEVENT
BEGIN:VEVENT
DTSTART;TZID=Europe/Paris:20240817T193000
DTEND;TZID=Europe/Paris:20240824T203000
DTSTAMP:20260421T163413
CREATED:20240730T121505Z
LAST-MODIFIED:20240730T121557Z
UID:10001934-1723923000-1724531400@www.normandielivre.fr
SUMMARY:Soirées Littéraires du Bessin 2024
DESCRIPTION:Pendant une semaine\, chaque soir\, un acteur lit un beau texte (littéraire) dans un lieu patrimonial du Bessin. \nCette année\, l’acteur André Marcon est notre invité d’honneur.
URL:https://www.normandielivre.fr/agenda-collaboratif/soirees-litteraires-du-bessin-2024/
CATEGORIES:Lecture
ATTACH;FMTTYPE=image/jpeg:https://www.normandielivre.fr/wp-content/uploads/2024/07/SLdB24_rapide-scaled.jpg
ORGANIZER;CN="Litt&eacute%3Brature &agrave%3B voix haute":MAILTO:contact@litteratureavoixhaute.com
END:VEVENT
BEGIN:VEVENT
DTSTART;TZID=Europe/Paris:20240823T150000
DTEND;TZID=Europe/Paris:20240823T173000
DTSTAMP:20260421T163413
CREATED:20240624T092323Z
LAST-MODIFIED:20240624T092323Z
UID:10001902-1724425200-1724434200@www.normandielivre.fr
SUMMARY:Lecture à haute voix
DESCRIPTION:Venez écouter au Parc du Bois-joli de Langrune des histoires pour les enfant par l’association de Place 26. \nUne première lecture aura lieu de 15h à 15h30 et une seconde de 17h à 17h30.
URL:https://www.normandielivre.fr/agenda-collaboratif/lecture-a-haute-voix-2/
LOCATION:Parc du Bois-Joli à Langrunes\, Avenue de la Libération\, Langrunes\, 14830
CATEGORIES:Lecture
END:VEVENT
BEGIN:VEVENT
DTSTART;TZID=Europe/Paris:20240824T100000
DTEND;TZID=Europe/Paris:20240825T180000
DTSTAMP:20260421T163413
CREATED:20240730T121402Z
LAST-MODIFIED:20240730T121402Z
UID:10001933-1724493600-1724608800@www.normandielivre.fr
SUMMARY:25ème Festival normand de la BD
DESCRIPTION:60 auteurs de BD en dédicace + BD neuves et d’occasions + cosplay + concert…
URL:https://www.normandielivre.fr/agenda-collaboratif/25eme-festival-normand-de-la-bd/
LOCATION:place du général de Gaulle 27000 Evreux\, place du général de Gaulle\, Evreux\, 27000
CATEGORIES:Festival
ATTACH;FMTTYPE=image/jpeg:https://www.normandielivre.fr/wp-content/uploads/2024/07/affiche-evreux-2024-scaled.jpg
ORGANIZER;CN="Varou et %C3%A9v%C3%A9nementiel":MAILTO:raphaeltanguy@yahoo.fr
END:VEVENT
BEGIN:VEVENT
DTSTART;TZID=Europe/Paris:20240824T180000
DTEND;TZID=Europe/Paris:20240824T220000
DTSTAMP:20260421T163413
CREATED:20240626T131254Z
LAST-MODIFIED:20240626T131254Z
UID:10001905-1724522400-1724536800@www.normandielivre.fr
SUMMARY:Vente de livres
DESCRIPTION:Place 26 tient un stand de vente de livres. \nÀ partir de 18h\, retrouvez nous sur le front de mer de Langrunes\, dans le cadre du festival Saoticôt.
URL:https://www.normandielivre.fr/agenda-collaboratif/vente-de-livres-2/
LOCATION:Parc du Bois-Joli à Langrunes\, Avenue de la Libération\, Langrunes\, 14830
ATTACH;FMTTYPE=image/png:https://www.normandielivre.fr/wp-content/uploads/2022/09/Capture-décran-2022-09-19-à-10.04.00-e1695983589295.png
ORGANIZER;CN="Librairie caf&eacute%3B Place 26":MAILTO:contact@place26.com
END:VEVENT
BEGIN:VEVENT
DTSTART;TZID=Europe/Paris:20240828T160000
DTEND;TZID=Europe/Paris:20240828T173000
DTSTAMP:20260421T163413
CREATED:20240626T125450Z
LAST-MODIFIED:20240626T125450Z
UID:10001906-1724860800-1724866200@www.normandielivre.fr
SUMMARY:Atelier goûter avec Claire Lamy
DESCRIPTION:Claire Lamy de « Claire & vous » vous propose un joyeux moment en famille autour de jeux de société sur la gestion des émotions\, avec un goûter. \nSur réservation. \nLe tarif comprend l’atelier\, un sirop artisanal et une pâtisserie.
URL:https://www.normandielivre.fr/agenda-collaboratif/atelier-gouter-avec-claire-lamy-2/
LOCATION:Librairie café Place 26\, 26\, place Lesage\, Douvres la Délivrande\, 14440
CATEGORIES:Atelier
ATTACH;FMTTYPE=image/png:https://www.normandielivre.fr/wp-content/uploads/2022/09/Capture-décran-2022-09-19-à-10.04.00-e1695983589295.png
ORGANIZER;CN="Librairie caf&eacute%3B Place 26":MAILTO:contact@place26.com
END:VEVENT
END:VCALENDAR