BEGIN:VCALENDAR
VERSION:2.0
PRODID:-//Normandie Livre &amp; Lecture - ECPv6.15.11//NONSGML v1.0//EN
CALSCALE:GREGORIAN
METHOD:PUBLISH
X-ORIGINAL-URL:https://www.normandielivre.fr
X-WR-CALDESC:Évènements pour Normandie Livre &amp; Lecture
REFRESH-INTERVAL;VALUE=DURATION:PT1H
X-Robots-Tag:noindex
X-PUBLISHED-TTL:PT1H
BEGIN:VTIMEZONE
TZID:Europe/Paris
BEGIN:DAYLIGHT
TZOFFSETFROM:+0100
TZOFFSETTO:+0200
TZNAME:CEST
DTSTART:20230326T010000
END:DAYLIGHT
BEGIN:STANDARD
TZOFFSETFROM:+0200
TZOFFSETTO:+0100
TZNAME:CET
DTSTART:20231029T010000
END:STANDARD
BEGIN:DAYLIGHT
TZOFFSETFROM:+0100
TZOFFSETTO:+0200
TZNAME:CEST
DTSTART:20240331T010000
END:DAYLIGHT
BEGIN:STANDARD
TZOFFSETFROM:+0200
TZOFFSETTO:+0100
TZNAME:CET
DTSTART:20241027T010000
END:STANDARD
BEGIN:DAYLIGHT
TZOFFSETFROM:+0100
TZOFFSETTO:+0200
TZNAME:CEST
DTSTART:20250330T010000
END:DAYLIGHT
BEGIN:STANDARD
TZOFFSETFROM:+0200
TZOFFSETTO:+0100
TZNAME:CET
DTSTART:20251026T010000
END:STANDARD
END:VTIMEZONE
BEGIN:VEVENT
DTSTART;TZID=Europe/Paris:20240104T000000
DTEND;TZID=Europe/Paris:20240210T235959
DTSTAMP:20260422T222910
CREATED:20231201T152618Z
LAST-MODIFIED:20231201T152618Z
UID:10001694-1704326400-1707609599@www.normandielivre.fr
SUMMARY:Exposition : Mobilab' et ses drôles de machines
DESCRIPTION:La médiathèque reçoit le Mobilab’ de la Bibliothèque Départementale du Calvados. \nVous y découvrirez des drôles de machines : imprimante 3D\, brodeuse numérique\, imprimante à sublimation\, machine à badge\, kit robotique\, stylos 3D et découpeuse vinyle. \nDes ateliers découvertes seront proposés tout au long de la période d’exposition.
URL:https://www.normandielivre.fr/agenda-collaboratif/exposition-mobilab-et-ses-droles-de-machines/
LOCATION:Médiathèque Jacques-Prévert\, Place du Commandant Charcot\, Dives-sur-Mer\, 14160
CATEGORIES:Atelier,Exposition
ATTACH;FMTTYPE=image/jpeg:https://www.normandielivre.fr/wp-content/uploads/2023/11/202401-_expo_mobilab3.jpg
ORGANIZER;CN="M&eacute%3Bdiath&egrave%3Bque de Dives-sur-Mer":MAILTO:mediatheque@dives-sur-mer.fr
END:VEVENT
BEGIN:VEVENT
DTSTART;TZID=Europe/Paris:20240105T183000
DTEND;TZID=Europe/Paris:20240105T203000
DTSTAMP:20260422T222910
CREATED:20240105T085626Z
LAST-MODIFIED:20240105T085626Z
UID:10001711-1704479400-1704486600@www.normandielivre.fr
SUMMARY:Rencontre-Dédicace "Des nouvelles de la vie"
DESCRIPTION:À l’occasion de la sortie de son recueil de nouvelles aux Éditions « Le Lys Bleu »\,
URL:https://www.normandielivre.fr/agenda-collaboratif/rencontre-dedicace-des-nouvelles-de-la-vie/
LOCATION:Mr Burger\, 10 rue Edmond Bellin\, Lion sur Mer\, 14780
CATEGORIES:Rencontre
ATTACH;FMTTYPE=image/jpeg:https://www.normandielivre.fr/wp-content/uploads/2023/12/FLYER-MR-BURGER-5-JANVIER-scaled.jpg
ORGANIZER;CN="Thierry Dodard":MAILTO:t.dodard@yahoo.fr
END:VEVENT
BEGIN:VEVENT
DTSTART;TZID=Europe/Paris:20240118T193000
DTEND;TZID=Europe/Paris:20240118T210000
DTSTAMP:20260422T222910
CREATED:20231211T132624Z
LAST-MODIFIED:20231211T132624Z
UID:10001702-1705606200-1705611600@www.normandielivre.fr
SUMMARY:Concert des Witch Doctors
DESCRIPTION:Les revoilà Place 26\, avec leur répertoire qui donne la pêche ! \nEmmanuel Desnos (guitare)\, Olivier Gebenholtz (batterie) et Jean-Christophe Pagnucco (basse et chant). \nNe ratez pas cette date ! \nL’entrée payante permet de régler le cachet des artistes. \nPossibilité de réserver une planche de la Fromagerie de la Basilique\, 8 euros par personne\, hors boissons.
URL:https://www.normandielivre.fr/agenda-collaboratif/concert-des-witch-doctors/
LOCATION:Librairie café Place 26\, 26\, place Lesage\, Douvres la Délivrande\, 14440
CATEGORIES:Concert
ATTACH;FMTTYPE=image/png:https://www.normandielivre.fr/wp-content/uploads/2022/09/Capture-décran-2022-09-19-à-10.04.00-e1695983589295.png
ORGANIZER;CN="Librairie caf&eacute%3B Place 26":MAILTO:contact@place26.com
END:VEVENT
BEGIN:VEVENT
DTSTART;TZID=Europe/Paris:20240118T200000
DTEND;TZID=Europe/Paris:20240118T213000
DTSTAMP:20260422T222910
CREATED:20240112T081816Z
LAST-MODIFIED:20240112T081816Z
UID:10001722-1705608000-1705613400@www.normandielivre.fr
SUMMARY:Les poètes n'hibernent pas... à Cherbourg !
DESCRIPTION:Pour la troisième année consécutive\, les poètes bravent le froid et viennent jusqu’à Cherbourg\, à l’occasion du festival « les poètes n’hibernent pas » organisé par la Factorie-Maison de poésie de Normandie\, en partenariat avec la Péninsule-Maison de poésie en Cotentin ! \nÀ l’honneur cette année\, la poésie de NatYot\, Eric Poindron et Alexis Pelletier\, lors d’une soirée lecture-performance à L’Autre Lieu (Espace René Le Bas\, ancien Hôpital des Armées). Et nouveauté 2024 (et pas des moindres !)\, NatYot et Eric Poindron seront accueillis en résidence par la Péninsule\, à l’Autre lieu également.
URL:https://www.normandielivre.fr/agenda-collaboratif/les-poetes-nhibernent-pas-a-cherbourg-2/2024-01-18/
LOCATION:l’Autre lieu\, Espace René Le Bas\, Cherbourg-en-Cotentin\, 50100
CATEGORIES:Festival
ATTACH;FMTTYPE=image/jpeg:https://www.normandielivre.fr/wp-content/uploads/2024/01/418749548_354657043990283_7116394625568286684_n.jpg
ORGANIZER;CN="La P&eacute%3Bninsule - Maison de po&eacute%3Bsie en Cotentin":MAILTO:maisonpoesiecotentin@gmail.com
END:VEVENT
BEGIN:VEVENT
DTSTART;TZID=Europe/Paris:20240120T103000
DTEND;TZID=Europe/Paris:20240120T200000
DTSTAMP:20260422T222910
CREATED:20231229T083643Z
LAST-MODIFIED:20231229T083643Z
UID:10001707-1705746600-1705780800@www.normandielivre.fr
SUMMARY:Nuit de la lecture à la médiathèque de Dives-sur-Mer
DESCRIPTION:INITIATION AU YOGA \n10h30 Aline Charrière\, vous propose une initiation au yoga pour toute la famille. Un moment pour faire du bien à son corps et à son esprit au milieu des rayonnages. Si vous possédez un tapis de gym ou de yoga\, pensez à le ramener. \n+ 4 ans. durée 1h. Sur réservation. \nDROLES DE MACHINES \n10h30 à 12h30 Venez essayer des machines les plus farfelues les unes que les autres : brodeuse numérique\, badgeuse\, imprimante à sublimation (création de mug personnalisé) et bien d’autres encore ! \n+ 8 ans. \nCONTES SOUS LA TENTE \n11h & 16h30 Lectures de contes pour les petits bien au calme sous une tente ! \n+ 4 ans. \nATELIERS SERIGRAPHIE \n14h & 15h & 16h Le collectif caennais L’Encrage\, propose trois sessions d’atelier de sérigraphie pour les enfants. La première session est à 14h\, la deuxième à 15h et la dernière à 16h. N’attendez plus et inscrivez-vous vite ! \n+7 ans. Durée 1h. Sur réservation \nREALITE VIRTUELLE SPORTIVE \n14h à 16h Un tennis à la médiathèque\, vous pensiez que c’était impossible ? Détrompez-vous. Grâce au casque de réalité virtuelle tout est possible et comme si vous y étiez ! \n+12 ans. \nQUESTIONS POUR UN.E CHAMPION.NE \n18h30 Tentez de gagner le quizz sur le corps humain. Des questions de culture générale sur le corps dans la littérature\, le cinéma\, les sciences\, la peinture ! Des cadeaux à gagner pour toute la famille. \n+8 ans\, les enfants doivent être accompagnés par des adultes. \nAPERO-MUSICAL \n18h30 Le duo « Girls don’t cry » (Antonin Jouan à la Guitare et Gwenaël Guittet au chant) vous interprétera les grands standards pop-rock des années 80 aux années 2000 autour d’un apéritif pour terminer en beauté cette nuit de la lecture ! \nRéservation conseillée
URL:https://www.normandielivre.fr/agenda-collaboratif/nuit-de-la-lecture-a-la-mediatheque-de-dives-sur-mer-2/
LOCATION:Médiathèque Jacques-Prévert\, Place du Commandant Charcot\, Dives-sur-Mer\, 14160
ATTACH;FMTTYPE=image/jpeg:https://www.normandielivre.fr/wp-content/uploads/2023/12/202401-NDL3.jpg
ORGANIZER;CN="M&eacute%3Bdiath&egrave%3Bque de Dives-sur-Mer":MAILTO:mediatheque@dives-sur-mer.fr
END:VEVENT
BEGIN:VEVENT
DTSTART;TZID=Europe/Paris:20240120T120000
DTEND;TZID=Europe/Paris:20240120T180000
DTSTAMP:20260422T222910
CREATED:20240118T092756Z
LAST-MODIFIED:20240118T092756Z
UID:10001735-1705752000-1705773600@www.normandielivre.fr
SUMMARY:Rencontre et dédicaces avec Rafael SOLLIER
DESCRIPTION:Lieu : \nThe bouquins \n2 rue aux juifs \n76390 AUMALE \n02.35.93.55.46
URL:https://www.normandielivre.fr/agenda-collaboratif/rencontre-et-dedicaces-avec-rafael-sollier/
CATEGORIES:Dédicace,Rencontre
ATTACH;FMTTYPE=image/jpeg:https://www.normandielivre.fr/wp-content/uploads/2024/01/auteur-rafael-solier-chez-the-bouquins-aumale-20-janvier-nuits-de-la-lecture-2-scaled.jpg
END:VEVENT
BEGIN:VEVENT
DTSTART;TZID=Europe/Paris:20240120T130000
DTEND;TZID=Europe/Paris:20240120T140000
DTSTAMP:20260422T222910
CREATED:20231211T131511Z
LAST-MODIFIED:20231211T131511Z
UID:10001703-1705755600-1705759200@www.normandielivre.fr
SUMMARY:Café parents
DESCRIPTION:Elyse\, thérapeuthe et spécialiste des troubles atypiques chez l’enfant\, vous propose cette conférence suivie d’un moment d’échange. \nReconnaître et comprendre\, chez les enfants\, les profils HP\, DYS\, TDA/H\, hypersensible… \nParticipation libre pour la conférencière. \nConsommation côté salon de thé de la librairie accueillante souhaitée.
URL:https://www.normandielivre.fr/agenda-collaboratif/cafe-parents/
LOCATION:Librairie café Place 26\, 26\, place Lesage\, Douvres la Délivrande\, 14440
CATEGORIES:Conférence
ATTACH;FMTTYPE=image/png:https://www.normandielivre.fr/wp-content/uploads/2022/09/Capture-décran-2022-09-19-à-10.04.00-e1695983589295.png
ORGANIZER;CN="Librairie caf&eacute%3B Place 26":MAILTO:contact@place26.com
END:VEVENT
BEGIN:VEVENT
DTSTART;TZID=Europe/Paris:20240120T160000
DTEND;TZID=Europe/Paris:20240120T170000
DTSTAMP:20260422T222910
CREATED:20231211T130819Z
LAST-MODIFIED:20231211T131218Z
UID:10001704-1705766400-1705770000@www.normandielivre.fr
SUMMARY:Nuit de la lecture à Douvres
DESCRIPTION:Dans le cadre de la Nuit de la lecture\, l’association Conte avec moi (des libraires de Place 26) se déplace à l’Adaj de Douvres\, aux côtés de la Bibliothèque pour tous de Douvres\, pour plusieurs lectures\, mises en musique\, autour du thème du corps cette année.
URL:https://www.normandielivre.fr/agenda-collaboratif/nuit-de-la-lecture-2/
LOCATION:ADAJ de Douvres
CATEGORIES:Lecture
END:VEVENT
BEGIN:VEVENT
DTSTART;TZID=Europe/Paris:20240120T160000
DTEND;TZID=Europe/Paris:20240120T190000
DTSTAMP:20260422T222910
CREATED:20240105T103435Z
LAST-MODIFIED:20240105T103435Z
UID:10001712-1705766400-1705777200@www.normandielivre.fr
SUMMARY:Rencontre avec Dominique Rocheteau
DESCRIPTION:L’ancien joueur vedette de Saint-Étienne partage son expérience et donne son point de vue sur le sport\, l’éthique et le football d’aujourd’hui. La réalité du football\, Dominique Rocheteau l’a vécue au plus près pendant cinquante ans. Joueur emblématique de la grande équipe de Saint-Étienne des années 1970\, champion de France à trois reprises\, finaliste de la coupe d’Europe des clubs champions en 1976\, vainqueur de l’Euro en 1984\, celui qu’on surnommait « l’Ange vert » a eu mille vies dans le foot : joueur\, agent\, directeur sportif\, président de comité d’éthique\, responsable de centre de formation\, directeur de stage… \nCette expérience\, Dominique Rocheteau a choisi de la partager et d’en livrer quelques enseignements majeurs à tous ceux que le sport et le football passionnent : aux grands-parents et aux parents autant qu’aux enfants\, et bien sûr aux jeunes sportifs. En une vingtaine de chapitres\, il aborde les thèmes qui lui sont chers : la passion du sport – le foot\, mais aussi le rugby et le cyclisme –\, l’éthique\, les éducateurs\, le public\, l’émotion des vestiaires\, le public\, l’arbitrage\, la violence\, le racisme\, l’argent\, les médias\, le boycott comme arme politique… Il le fait sans donner de leçons\, plutôt comme on délivre une passe\, en forme d’héritage. \n——————— \nFootballeur international français\, Dominique Rocheteau a joué avec l’AS Saint-Étienne\, le PSG et le Tou-louse Football Club. Il a présidé le comité d’éthique de la Fédération française de football de 2002 à 2012. Il était\, de 2017 à 2019\, directeur sportif du club de Saint-Étienne. Il dirige actuellement les stages Foot pour tous\, qu’il organise tous les ans dans sa région\, en Charente-Maritime. Dominique Rocheteau a publié sa biographie\, On m’appelait l’ange vert\, au Cherche Midi (2005).
URL:https://www.normandielivre.fr/agenda-collaboratif/rencontre-avec-dominique-rocheteau/
LOCATION:Librairie L’Armitière\, 66 rue Jeanne D'Arc\, Rouen\, 76000
CATEGORIES:Rencontre
ATTACH;FMTTYPE=image/png:https://www.normandielivre.fr/wp-content/uploads/2024/01/ROCHETEAU-IG.png
ORGANIZER;CN="L'Armiti&egrave%3Bre":MAILTO:armitiere.cm@gmail.com
END:VEVENT
BEGIN:VEVENT
DTSTART;TZID=Europe/Paris:20240123T180000
DTEND;TZID=Europe/Paris:20240123T190000
DTSTAMP:20260422T222910
CREATED:20240108T113426Z
LAST-MODIFIED:20240108T113426Z
UID:10001713-1706032800-1706036400@www.normandielivre.fr
SUMMARY:Rencontre avec Thomas Snégaroff
DESCRIPTION:« On jouera de la musique\, mal ou bien\, mais fort\, on dira du mal des absents\, on chantera quelques chansons et on déclamera des poèmes dans toutes les langues du monde\, de préférence en français\, en italien et en russe. On s’enlacera aussi\, à mesure que les verres se videront. » Qui était Hélène d’Oettingen\, née Miontchinksa\, en Ukraine\, avant de devenir une des plus brillantes figures de la Belle Époque ? Amoureuse de l’avant-garde\, peintre\, poétesse\, romancière\, femme passionnée\, elle fut à la fois muse et mécène\, dotée de plusieurs pseudonymes – et vivant tout autant de vies. Derrière chacune\, une seule et même personnalité hors du commun\, aujourd’hui méconnue. \nHabité par le souvenir des récits de son arrière-grand-père\, imprimeur d’art\, qui fut son contemporain et son ami\, Thomas Snégaroff est parti à la recherche du destin de cette mystérieuse exilée\, qui finit sa vie dans l’anonymat et la pauvreté. Au fil des pages de cette enquête intime et littéraire\, à travers une époque foisonnante et cruelle\, son obsession devient la nôtre. Et ce faisant il nous plonge dans le Montparnasse bohème du début du XXe siècle\, où Hélène et son cousin et amant\, Serge Férat\, côtoient Apollinaire\, Modigliani\, Max Jacob\, le Douanier Rousseau… entre les ombres et les lumières d’une vie de liberté. \nL’auteur : Né en 1974\, Thomas Snégaroff est journaliste sur France 5 (C politique) et historien. Il est l’auteur de plusieurs essais sur les États-Unis\, et d’un roman\, Putzi (Gallimard\, 2021) qui a rencontré un grand succès critique et de librairies.
URL:https://www.normandielivre.fr/agenda-collaboratif/rencontre-avec-thomas-snegaroff/
LOCATION:L’Armitière\, 66 rue Jeanne D'Arc\, Rouen\, 76000
CATEGORIES:Rencontre
ATTACH;FMTTYPE=image/png:https://www.normandielivre.fr/wp-content/uploads/2024/01/SNEGAROFF-IG.png
ORGANIZER;CN="L'Armiti&egrave%3Bre":MAILTO:armitiere.cm@gmail.com
END:VEVENT
BEGIN:VEVENT
DTSTART;TZID=Europe/Paris:20240125T180000
DTEND;TZID=Europe/Paris:20240125T190000
DTSTAMP:20260422T222910
CREATED:20240108T112533Z
LAST-MODIFIED:20240108T112533Z
UID:10001714-1706205600-1706209200@www.normandielivre.fr
SUMMARY:Rencontre avec Rémi Picard
DESCRIPTION:« … J’avais un ami qui m’a accompagné du début de mes études secondaires au lycée jusqu’aux premières années de médecine. Cette amitié vitale s’est brusquement dissoute et m’a laissé désemparé… » \nRécit\, roman ou\, en langage cinématographique\, comédie dramatique d’après une histoire vraie ? L’auteur\, tout en prenant quelques libertés avec ce qui serait une autobiographie\, tente de restituer\, sans fard\, à partir d’une amitié de jeunesse\, un cheminement libérateur. \nEt c’est avec Frania Eisenbach-Haverland\, rescapée des camps d’Auschwitz-Birkenau\, que Rémi Picard clôt ce parcours\, sur cette amitié de maturité qui\, depuis plus de quinze ans\, les unit et les conduit à s’interroger\, au cours d’une libre conversation retranscrite ici\, sur ce qui en fait la force.
URL:https://www.normandielivre.fr/agenda-collaboratif/rencontre-avec-remi-picard-2/
LOCATION:L’Armitière\, 66 rue Jeanne D'Arc\, Rouen\, 76000
CATEGORIES:Rencontre
ATTACH;FMTTYPE=image/png:https://www.normandielivre.fr/wp-content/uploads/2024/01/PICARD-IG.png
ORGANIZER;CN="L'Armiti&egrave%3Bre":MAILTO:armitiere.cm@gmail.com
END:VEVENT
BEGIN:VEVENT
DTSTART;TZID=Europe/Paris:20240126T190000
DTEND;TZID=Europe/Paris:20240204T170000
DTSTAMP:20260422T222910
CREATED:20240115T155758Z
LAST-MODIFIED:20240115T155758Z
UID:10001734-1706295600-1707066000@www.normandielivre.fr
SUMMARY:Victor dans la ville #9- "Le plaisir et la joie"
DESCRIPTION:Festival littéraire et de lecture à voix haute. Thème de cette 9è édition : « Le plaisir et la joie ». \n15 rendez-vous. \nAvec une dizaine d’invité.e.s (auteurs et autrices\, traductrices\, sociologue\, philosophe…)\, des comédien.ne.s\, des musicien.ne.s\, des lectrices et lecteurs amateurs\, des lycén.ne.s en option danse… soit plus de soixante participants. \nParmi nos invité.e.s : Marie-Françoise Santucci\, Eric Birlouez\, Raphaël Verchère\, Isabelle Gugnon (traductrice des livres de Manuel Vilas)\, Nathalie Castagné (traductrice de « L’art de la joie » et autres livres de Goliarda Sapienza)\, ainsi que Jean Boucault et Johnny Rasse – les « Chanteurs d’oiseaux »… \nÀ Rouen (Bibliothèque Simone de Beauvoir\, Hôtel Flaubert\, Musée des Beaux-Arts\, Musée Flaubert et d’Histoire de la médecine\, Foyer des Marins) et Sotteville-lès-Rouen (Ecole de musique Conservatoire à rayonnement communal)
URL:https://www.normandielivre.fr/agenda-collaboratif/victor-dans-la-ville-9-le-plaisir-et-la-joie/
LOCATION:ROUEN ET ALENTOURS\, Rouen\, 76000
CATEGORIES:Festival
ATTACH;FMTTYPE=image/jpeg:https://www.normandielivre.fr/wp-content/uploads/2024/01/AFFICHE-VDV9-scaled.jpg
ORGANIZER;CN="Alias Victor":MAILTO:aliasvictor@orange.fr
END:VEVENT
BEGIN:VEVENT
DTSTART;TZID=Europe/Paris:20240127T000000
DTEND;TZID=Europe/Paris:20240128T235959
DTSTAMP:20260422T222910
CREATED:20240115T082339Z
LAST-MODIFIED:20240115T082339Z
UID:10001725-1706313600-1706486399@www.normandielivre.fr
SUMMARY:Foire aux livres de Basly
DESCRIPTION:📚 A la recherche du livre perdu\, prêté et jamais rendu ? Envie de trouver un bon livre ? C’est peut-être à la Foire aux livres que vous les trouverez ! \n📌 Romans\, livres anciens\, bandes-dessinées\, littérature jeunesse\, beaux livres\,… Il y en aura pour tous les âges\, et tous les genres. \n📍 Adresse : Salle de motricité de l’école\, Route de Thaon\, 14610 Basly \n📅 Date : Samedi 27 et dimanche 28 Janvier \n❇️ Horaires visiteurs : 09h00 à 17h00 \nEntrée : Gratuite \nExposants : 10 \n⚠️ Type d’exposants : Particuliers : 6 euros la table\, 10 euros les deux tables (pour une journée)
URL:https://www.normandielivre.fr/agenda-collaboratif/foire-aux-livres-de-basly/
LOCATION:Salle de Motricité de l’école de Basly\, Route de Thaon\, Basly\, 14610
ATTACH;FMTTYPE=image/jpeg:https://www.normandielivre.fr/wp-content/uploads/2024/01/IMG-20240110-WA0000.jpg
END:VEVENT
BEGIN:VEVENT
DTSTART;TZID=Europe/Paris:20240129T170000
DTEND;TZID=Europe/Paris:20240129T190000
DTSTAMP:20260422T222910
CREATED:20240108T113127Z
LAST-MODIFIED:20240108T113127Z
UID:10001715-1706547600-1706554800@www.normandielivre.fr
SUMMARY:Séances de dédicaces avec Camille Benyamina
DESCRIPTION:« La colocataire est la femme idéale ! » Ainsi parle Don Elemirio\, grand d’Espagne et ermite en son immense appartement du VIIe arrondissement de Paris. Comme dans le fameux conte de Perrault\, les règles de la colocation sont simples : seule une pièce est interdite\, la chambre noire. \nOr Saturnine Puissant\, doit justement trouver à se loger. Autonome\, cultivée\, brillante\, l’héroïne\, ne sait que penser du richissime original. Mais surtout que sont devenues ses huit colocataires précédentes ? Auraient-elles transgressé l’interdit ? Saturnine devra éviter les pièges et manipuler le manipulateur.
URL:https://www.normandielivre.fr/agenda-collaboratif/seances-de-dedicaces-avec-camille-benyamina/
LOCATION:L’Armitière\, 66 rue Jeanne D'Arc\, Rouen\, 76000
CATEGORIES:Dédicace
ATTACH;FMTTYPE=image/png:https://www.normandielivre.fr/wp-content/uploads/2024/01/Benyamina-ig.png
ORGANIZER;CN="L'Armiti&egrave%3Bre":MAILTO:armitiere.cm@gmail.com
END:VEVENT
BEGIN:VEVENT
DTSTART;TZID=Europe/Paris:20240130T180000
DTEND;TZID=Europe/Paris:20240130T190000
DTSTAMP:20260422T222910
CREATED:20240108T124157Z
LAST-MODIFIED:20240108T124157Z
UID:10001716-1706637600-1706641200@www.normandielivre.fr
SUMMARY:Rencontre avec Yannick Haenel
DESCRIPTION:« En évoluant comme un aveugle dans le Centre Pompidou\, ce soir d’octobre\, je m’étais mis dans une situation complètement absurde : pourquoi faut-il toujours que je me retrouve dans une galère ? J’avais imaginé une expérience heureuse : j’aime Bacon depuis l’adolescence\, je comptais profiter de la chance d’avoir ses tableaux pour moi seul\, je voulais contempler chacun d’eux sans me presser\, passer enfin du temps avec la peinture\, la voir de mieux en mieux. J’attendais de la joie\, j’espérais une métamorphose. Rien du tout\, j’étais en plein cauchemar\, privé de lumière et titubant comme un damné ; j’allais me retrouver une partie de la nuit allongé sur un lit en attendant que le feu s’éteigne dans ma tête. » \nDe la violence de la migraine qui le happe à son arrivée à celle de la peinture de Francis Bacon\, Yannick Haenel traverse une nuit qui le mènera au bout du supportable. « Que rencontre-t-on à travers Bacon\, sinon l’épreuve de vérité que sa peinture exige ? » Les émotions se succèdent\, d’un extrême à l’autre et l’écriture faisant surgir le tumulte\, la sensualité\, la matière et la profondeur des tableaux\, nous donne irrésistiblement envie de les voir et d’éprouver comme l’auteur la béance que la peinture ouvre en lui. « Bacon nous représente. » \nYannick Haenel est né en 1967. Il a publié une dizaine de romans\, dont Cercle (2007\, Prix Décembre)\, Jan Karski (2009\, Prix des lecteurs de la FNAC\, Prix Interallié) ou Tiens ferme ta couronne (2017\, Prix Médicis). Il coanime la revue Ligne de risque qu’il a fondée en 1997. Il a réalisé un film\, La Reine de Némi (2017) et écrit le livret d’un opéra Papillon noir (2018) pour le compositeur Yann Robin. Il est chroniqueur à Charlie Hebdo et artiste associé au Théâtre national de Bretagne à Rennes.
URL:https://www.normandielivre.fr/agenda-collaboratif/rencontre-avec-yannick-haenel/
LOCATION:L’Armitière\, 66 rue Jeanne D'Arc\, Rouen\, 76000
CATEGORIES:Rencontre
ATTACH;FMTTYPE=image/png:https://www.normandielivre.fr/wp-content/uploads/2024/01/HAENEL-IG.png
ORGANIZER;CN="L'Armiti&egrave%3Bre":MAILTO:armitiere.cm@gmail.com
END:VEVENT
END:VCALENDAR