BEGIN:VCALENDAR
VERSION:2.0
PRODID:-//Normandie Livre &amp; Lecture - ECPv6.15.11//NONSGML v1.0//EN
CALSCALE:GREGORIAN
METHOD:PUBLISH
X-ORIGINAL-URL:https://www.normandielivre.fr
X-WR-CALDESC:Évènements pour Normandie Livre &amp; Lecture
REFRESH-INTERVAL;VALUE=DURATION:PT1H
X-Robots-Tag:noindex
X-PUBLISHED-TTL:PT1H
BEGIN:VTIMEZONE
TZID:Europe/Paris
BEGIN:DAYLIGHT
TZOFFSETFROM:+0100
TZOFFSETTO:+0200
TZNAME:CEST
DTSTART:20210328T010000
END:DAYLIGHT
BEGIN:STANDARD
TZOFFSETFROM:+0200
TZOFFSETTO:+0100
TZNAME:CET
DTSTART:20211031T010000
END:STANDARD
BEGIN:DAYLIGHT
TZOFFSETFROM:+0100
TZOFFSETTO:+0200
TZNAME:CEST
DTSTART:20220327T010000
END:DAYLIGHT
BEGIN:STANDARD
TZOFFSETFROM:+0200
TZOFFSETTO:+0100
TZNAME:CET
DTSTART:20221030T010000
END:STANDARD
BEGIN:DAYLIGHT
TZOFFSETFROM:+0100
TZOFFSETTO:+0200
TZNAME:CEST
DTSTART:20230326T010000
END:DAYLIGHT
BEGIN:STANDARD
TZOFFSETFROM:+0200
TZOFFSETTO:+0100
TZNAME:CET
DTSTART:20231029T010000
END:STANDARD
BEGIN:DAYLIGHT
TZOFFSETFROM:+0100
TZOFFSETTO:+0200
TZNAME:CEST
DTSTART:20240331T010000
END:DAYLIGHT
BEGIN:STANDARD
TZOFFSETFROM:+0200
TZOFFSETTO:+0100
TZNAME:CET
DTSTART:20241027T010000
END:STANDARD
END:VTIMEZONE
BEGIN:VEVENT
DTSTART;TZID=Europe/Paris:20221206T080000
DTEND;TZID=Europe/Paris:20230228T170000
DTSTAMP:20260424T012518
CREATED:20221209T081315Z
LAST-MODIFIED:20221209T091501Z
UID:10001462-1670313600-1677603600@www.normandielivre.fr
SUMMARY:Concours de nouvelles franco-anglais sur le thème de CHANCE
DESCRIPTION:Les associations du Bessin Marais Page et Lectures de Proue proposent un concours de nouvelles en langue française ou anglaise sur le thème de CHANCE. \nDate limite de participation : 28 février 2023
URL:https://www.normandielivre.fr/agenda-collaboratif/concours-de-nouvelles-franco-anglais-sur-le-theme-de-chance/
LOCATION:BESSIN
CATEGORIES:Concours
ATTACH;FMTTYPE=image/jpeg:https://www.normandielivre.fr/wp-content/uploads/2022/12/316413183_504543088368133_3757162772097986774_n.jpg
END:VEVENT
BEGIN:VEVENT
DTSTART;TZID=Europe/Paris:20230110T103000
DTEND;TZID=Europe/Paris:20230228T180000
DTSTAMP:20260424T012518
CREATED:20221027T075729Z
LAST-MODIFIED:20221027T075729Z
UID:10001381-1673346600-1677607200@www.normandielivre.fr
SUMMARY:Exposition de Laurent Corvaisier
DESCRIPTION:Dans le cadre de l’évènement Colorissimo lancé par le collectif de bibliothécaires locales Bib’ Gang\, Laurent Corvaisier\, artiste peintre et illustrateur\, nous fait l’honneur d’exposer ses oeuvres colorées : des sérigraphies originales en passant par des totems peints sur bois\, vos yeux verront la vie en rose.
URL:https://www.normandielivre.fr/agenda-collaboratif/exposition-de-laurent-corvaisier/
LOCATION:Médiathèque Jacques-Prévert\, Place du Commandant Charcot\, Dives-sur-Mer\, 14160
ATTACH;FMTTYPE=image/jpeg:https://www.normandielivre.fr/wp-content/uploads/2022/10/2023-expo_Corvaisier.jpg
ORGANIZER;CN="M&eacute%3Bdiath&egrave%3Bque de Dives-sur-Mer":MAILTO:mediatheque@dives-sur-mer.fr
END:VEVENT
BEGIN:VEVENT
DTSTART;TZID=Europe/Paris:20230128T143000
DTEND;TZID=Europe/Paris:20230205T180000
DTSTAMP:20260424T012518
CREATED:20230123T093300Z
LAST-MODIFIED:20230123T093300Z
UID:10001471-1674916200-1675620000@www.normandielivre.fr
SUMMARY:VICTOR DANS LA VILLE#8 / Le Goût du Sport (2) - Sport et Littérature
DESCRIPTION:Le Goût du Sport (2) – 28\, 29 janvier et 3\,4\,5 février 2023 \nLE THÈME \nSport et Littérature… Qu’ont à voir ces deux mondes ? Plus qu’il n’y paraît ! \nComme on aura pu s’en rendre compte lors de la 7ème édition de Victor dans la Ville\, en juin 2022\, durant laquelle furent abordés trois sports : le football\, le cyclisme et la course à pied. \nLes rencontres avec des écrivains\, historiens\, sportifs\, artistes\, y furent riches\, variées\, chaleureuses. Tout cela nous a donné une furieuse envie de poursuivre l’exploration. Et ça tombe bien\, puisque c’était d’emblée prévu ! Voici donc un Goût du Sport (2)\, à l’occasion duquel nous retrouverons notre période habituelle du début d’année. \nUn temps fort qui sera par ailleurs accompagné\, tout au long de la saison\, de rendez-vous ponctuels en divers lieux de Normandie. \nQuels sports allons-nous rencontrer ? Tout d’abord\, de nouveau\, la course à pied. Puis nous vous proposerons un triptyque cyclisme\, voile et rugby ! \nNous serons prêts\, alors\, pour aborder\, au cours d’un second week-end\, des sports de combat : la boxe et le judo. \nPar ailleurs\, s’ajouteront des entrées transversales : art et sport\, sport et poésie\, sport et immigration\, sport et handicap. Alors\, ami.e.s du sport et ami.e.s du livre\, bienvenue !
URL:https://www.normandielivre.fr/agenda-collaboratif/victor-dans-la-ville8-le-gout-du-sport-2-sport-et-litterature/
LOCATION:ROUEN ET ALENTOURS\, Rouen\, 76000
CATEGORIES:Festival,Rencontre
ATTACH;FMTTYPE=image/jpeg:https://www.normandielivre.fr/wp-content/uploads/2023/01/VDV8-affiche-sans-logos.jpg
ORGANIZER;CN="Alias Victor":MAILTO:aliasvictor@orange.fr
END:VEVENT
BEGIN:VEVENT
DTSTART;TZID=Europe/Paris:20230203T170000
DTEND;TZID=Europe/Paris:20230203T180000
DTSTAMP:20260424T012518
CREATED:20221215T084957Z
LAST-MODIFIED:20221215T084957Z
UID:10001257-1675443600-1675447200@www.normandielivre.fr
SUMMARY:Croqueurs de livres
DESCRIPTION:Votre enfant a plus de 9 ans ? Il adore la lecture et dévore les livres ? Une fois par mois\, les croqueurs de livres s’attablent avec Florence pour parler de leurs lectures\, le tout accompagné d’un goûter et assaisonné de bonne humeur. Plus de 9 ans.
URL:https://www.normandielivre.fr/agenda-collaboratif/croqueurs-de-livres-4/
LOCATION:Médiathèque Jacques-Prévert\, Place du Commandant Charcot\, Dives-sur-Mer\, 14160
CATEGORIES:Jeunesse
ATTACH;FMTTYPE=image/jpeg:https://www.normandielivre.fr/wp-content/uploads/2022/12/croqueurs_de_livres02-scaled.jpg
END:VEVENT
BEGIN:VEVENT
DTSTART;TZID=Europe/Paris:20230203T173000
DTEND;TZID=Europe/Paris:20230203T190000
DTSTAMP:20260424T012518
CREATED:20230119T124833Z
LAST-MODIFIED:20230119T124833Z
UID:10001466-1675445400-1675450800@www.normandielivre.fr
SUMMARY:Nuit Harry Potter
DESCRIPTION:Animation Jeunesse ouverte aux enfants de 12 à 15 ans. \nCette année\, le thème de la « Nuit Harry Potter » portera sur Harry Potter à l’école des sorciers. Sorcières\, sorciers\, Moldues et Moldus du monde entier sont invités à embarquer dans le Poudlard Express direction la plus magique des écoles! Au cours de votre scolarité vous seront proposés cinq défis magiques à relever en équipe pour repartir avec votre diplôme de Poudlard ! Équipez-vous de votre Portoloin et rejoignez-nous à l’Armitière le vendredi 3 février ! \nAlors à vos baguettes magiques et vos déguisements… et que la magie commence ! \nRéservation obligatoire\, places (très) limitées!
URL:https://www.normandielivre.fr/agenda-collaboratif/nuit-harry-potter/
LOCATION:Librairie L’Armitière\, 66 rue Jeanne D'Arc\, Rouen\, 76000
CATEGORIES:Jeunesse
ATTACH;FMTTYPE=image/png:https://www.normandielivre.fr/wp-content/uploads/2023/01/INSTAGRAM_visuels_rencontres_2022-2023.png
ORGANIZER;CN="Librairie L'Armiti&egrave%3Bre":MAILTO:armitiere.cm@gmail.com
END:VEVENT
BEGIN:VEVENT
DTSTART;TZID=Europe/Paris:20230204T110000
DTEND;TZID=Europe/Paris:20230204T123000
DTSTAMP:20260424T012518
CREATED:20230130T084843Z
LAST-MODIFIED:20230130T084843Z
UID:10001479-1675508400-1675513800@www.normandielivre.fr
SUMMARY:Dédicace de Christelle Angano
DESCRIPTION:Venez à la rencontre de l’auteure douvraise Christelle Angano\, pour la réédition augmentée de son roman « La fugue de Julie Anne » (éditions In Octavo).
URL:https://www.normandielivre.fr/agenda-collaboratif/dedicace-de-christelle-angano/
LOCATION:Librairie café Place 26\, 26\, place Lesage\, Douvres la Délivrande\, 14440
CATEGORIES:Dédicace
ATTACH;FMTTYPE=image/png:https://www.normandielivre.fr/wp-content/uploads/2022/09/Capture-décran-2022-09-19-à-10.04.00-e1695983589295.png
END:VEVENT
BEGIN:VEVENT
DTSTART;TZID=Europe/Paris:20230204T153000
DTEND;TZID=Europe/Paris:20230204T170000
DTSTAMP:20260424T012518
CREATED:20221215T084920Z
LAST-MODIFIED:20221215T084920Z
UID:10001254-1675524600-1675530000@www.normandielivre.fr
SUMMARY:Atelier numérique : tablette et smartphone
DESCRIPTION:Vous avez des difficultés à utiliser votre tablette et/ou smartphone ?\nStéphane\, animateur multimédia vous aidera à mieux comprendre leurs fonctionnements et leurs fonctionnalités.
URL:https://www.normandielivre.fr/agenda-collaboratif/atelier-numerique-tablette-et-smartphone/
LOCATION:Médiathèque Jacques-Prévert\, Place du Commandant Charcot\, Dives-sur-Mer\, 14160
CATEGORIES:Atelier
ATTACH;FMTTYPE=image/jpeg:https://www.normandielivre.fr/wp-content/uploads/2022/12/202202-atelier_numerique.jpg
END:VEVENT
BEGIN:VEVENT
DTSTART;TZID=Europe/Paris:20230205T150000
DTEND;TZID=Europe/Paris:20230205T170000
DTSTAMP:20260424T012518
CREATED:20230127T132556Z
LAST-MODIFIED:20230127T132556Z
UID:10001477-1675609200-1675616400@www.normandielivre.fr
SUMMARY:Ateliers d'écriture Printemps des Poètes ("Frontières")
DESCRIPTION:Calame propose un cycle de trois ateliers « Frontières »\, thème du Printemps des poètes 2023. Ils se dérouleront à La Bouée\, à Cherbourg les 5\, 11 et 25 février prochains\, en vue d’une lecture publique en avril. \nLe thème est vaste\, chacun des ateliers l’abordera sous un angle différent (géographique\, imaginaire\, symbolique\, etc.).
URL:https://www.normandielivre.fr/agenda-collaboratif/ateliers-decriture-printemps-des-poetes-frontieres/2023-02-05/
LOCATION:La Bouée Cherbourg-en-Cotentin\, place Notre-Dame-du-Voeu\, Cherbourg-en-Cotentin\, 50100
CATEGORIES:Atelier
ATTACH;FMTTYPE=image/jpeg:https://www.normandielivre.fr/wp-content/uploads/2023/01/ateliers-PDP-2023-La-Bouee.jpg
ORGANIZER;CN="Calame":MAILTO:calamecotentin@gmail.com
END:VEVENT
BEGIN:VEVENT
DTSTART;TZID=Europe/Paris:20230209T193000
DTEND;TZID=Europe/Paris:20230209T213000
DTSTAMP:20260424T012518
CREATED:20230130T085037Z
LAST-MODIFIED:20230130T085037Z
UID:10001480-1675971000-1675978200@www.normandielivre.fr
SUMMARY:Apéro concert avec Salem 2.0
DESCRIPTION:Concert du duo Salem 2.0 – basse et voix. \nUn répertoire pop jazzy de reprises et de compositions. Nombre limité de places. N’hésitez pas à réserver également votre plateau de la Fromagerie de la Basilique: 15€ pour 2 (besoin d’une seule portion\, et/ou de sans gluten et sans lactose ? Dîtes-le nous !)
URL:https://www.normandielivre.fr/agenda-collaboratif/apero-concert-avec-salem-2-0/
LOCATION:Librairie café Place 26\, 26\, place Lesage\, Douvres la Délivrande\, 14440
CATEGORIES:Concert
ATTACH;FMTTYPE=image/png:https://www.normandielivre.fr/wp-content/uploads/2022/09/Capture-décran-2022-09-19-à-10.04.00-e1695983589295.png
END:VEVENT
BEGIN:VEVENT
DTSTART;TZID=Europe/Paris:20230210T150000
DTEND;TZID=Europe/Paris:20230210T170000
DTSTAMP:20260424T012518
CREATED:20230127T081052Z
LAST-MODIFIED:20230127T084317Z
UID:10001475-1676041200-1676048400@www.normandielivre.fr
SUMMARY:Rencontre et dédicaces
DESCRIPTION:Le deuxième roman de Catherine Muller de Schongor: « Cinglante Compostelle » publié par les éditions Le Lys Bleu est en vente actuellement dans les librairies Guillaume\, brouillon de Culture et Publica à Caen. On peut le commander à la fnac. \nIl sera présenté à la librairie Publica (44rue Saint-jean)\, le vendredi 10 février\, de 15h à 17h. \nSi vous croyez que « Compostelle » est la terre promise\, détrompez-vous! Enjôleuse\, elle infuse insidieusement dans vos veines et vous attend au tournant. Moqueuse\, perfide… bienveillante ? Va savoir !! Cette fiction est susceptible de séduire à la fois les fans de Compostelle (références nombreuses avec cette voie mythique) et les amateurs de polars.
URL:https://www.normandielivre.fr/agenda-collaboratif/rencontre-et-dedicaces/
CATEGORIES:Rencontre
ATTACH;FMTTYPE=image/png:https://www.normandielivre.fr/wp-content/uploads/2023/01/Cinglante-Compostelle-1-1.png
END:VEVENT
BEGIN:VEVENT
DTSTART;TZID=Europe/Paris:20230211T103000
DTEND;TZID=Europe/Paris:20230211T130000
DTSTAMP:20260424T012518
CREATED:20230202T101058Z
LAST-MODIFIED:20230202T101058Z
UID:10001492-1676111400-1676120400@www.normandielivre.fr
SUMMARY:Rencontre dédicace Clément Bénech
DESCRIPTION:Clément Bénech connaît déjà la Normandie. Il a en effet séjourné à Mortagne cet été en résidence d’écriture. Cette résidence\, organisée par l’association La Lanterne des écrivains\, lui a permis de finaliser son dernier roman « Un vrai dépaysement » (Éditions Flammarion). Il avait également pu dialoguer avec les lecteurs\, lors d’une rencontre organisée par la médiathèque. Il revient donc à Mortagne samedi 11 février pour présenter et dédicacer son dernier roman\, une formidable comédie très rafraichissante. \nLe personnage principal est Romain\, un tout jeune professeur de lettres qui\, pour sa première affectation\, a demandé à aller en Guyane. Il se réjouit de ce premier poste\, rêvant d’exotisme et de dépaysement. Seulement voilà\, une erreur de logiciel de l’Éducation Nationale l’envoie… en Auvergne. Passés les moments de colère et de déception\, Romain ne se laisse pas abattre longtemps. Pétri d’idéal sur le rôle de l’enseignant\, il rêve de révolutionner la pédagogie et met en place des méthodes aussi innovantes de fantasques pour motiver ses élèves… Un roman vraiment drôle\, servi par une écriture élégante\, à découvrir !
URL:https://www.normandielivre.fr/agenda-collaboratif/rencontre-dedicace-clement-benech/
LOCATION:Librairie Le Gout des mots\, 34 Pl. du Général de Gaulle\, Mortagne-au-Perche\, 61400
CATEGORIES:Rencontre
ATTACH;FMTTYPE=image/jpeg:https://www.normandielivre.fr/wp-content/uploads/2023/02/BENECH_Clement_1_2.jpg
ORGANIZER;CN="Librairie Le Go&ucirc%3Bt des Mots":MAILTO:legoutdesmots@orange.fr
END:VEVENT
BEGIN:VEVENT
DTSTART;TZID=Europe/Paris:20230211T150000
DTEND;TZID=Europe/Paris:20230211T170000
DTSTAMP:20260424T012518
CREATED:20230127T132556Z
LAST-MODIFIED:20230127T132556Z
UID:10001478-1676127600-1676134800@www.normandielivre.fr
SUMMARY:Ateliers d'écriture Printemps des Poètes ("Frontières")
DESCRIPTION:Calame propose un cycle de trois ateliers « Frontières »\, thème du Printemps des poètes 2023. Ils se dérouleront à La Bouée\, à Cherbourg les 5\, 11 et 25 février prochains\, en vue d’une lecture publique en avril. \nLe thème est vaste\, chacun des ateliers l’abordera sous un angle différent (géographique\, imaginaire\, symbolique\, etc.).
URL:https://www.normandielivre.fr/agenda-collaboratif/ateliers-decriture-printemps-des-poetes-frontieres/2023-02-11/
LOCATION:La Bouée Cherbourg-en-Cotentin\, place Notre-Dame-du-Voeu\, Cherbourg-en-Cotentin\, 50100
CATEGORIES:Atelier
ATTACH;FMTTYPE=image/jpeg:https://www.normandielivre.fr/wp-content/uploads/2023/01/ateliers-PDP-2023-La-Bouee.jpg
ORGANIZER;CN="Calame":MAILTO:calamecotentin@gmail.com
END:VEVENT
BEGIN:VEVENT
DTSTART;TZID=Europe/Paris:20230211T170000
DTEND;TZID=Europe/Paris:20230211T183000
DTSTAMP:20260424T012518
CREATED:20220919T080212Z
LAST-MODIFIED:20220919T080212Z
UID:10001330-1676134800-1676140200@www.normandielivre.fr
SUMMARY:Edition spéciale Roman Noir et Littérature Policière
DESCRIPTION:Les Rencontres Victor Hugo & Co de Granville organisent une «spéciale roman noir» avec Serge Quadruppani\, romancier\, et Hervé Delouche\, spécialiste de littérature noire et programmateur de festival. \nLa rencontre aura lieu salle des des mariages du bâtiment Bazeilles dans la Haute Ville. \nEntrée libre sur réservation obligatoire à l’adresse victorhugoandco@gmail.com
URL:https://www.normandielivre.fr/agenda-collaboratif/edition-speciale-roman-noir-et-litterature-policiere/
LOCATION:Salle Bazeilles\, Granville\, Haute Ville\, Granville\, 50400\, France
CATEGORIES:Rencontre
ATTACH;FMTTYPE=image/png:https://www.normandielivre.fr/wp-content/uploads/2022/09/Capture-décran-2022-09-17-à-19.00.08.png
ORGANIZER;CN="Rencontres Victor Hugo & Co":MAILTO:victorhugoandco@gmail.com
END:VEVENT
BEGIN:VEVENT
DTSTART;VALUE=DATE:20230212
DTEND;VALUE=DATE:20230213
DTSTAMP:20260424T012518
CREATED:20221021T133118Z
LAST-MODIFIED:20221021T133118Z
UID:10001369-1676160000-1676246399@www.normandielivre.fr
SUMMARY:Salon du Polar
DESCRIPTION:Salon régional du polar\, thriller et roman noir\, réunissant une quarantaine d’auteurs et éditeurs avec chaque année des parrains différents. \nEn 2023 ce seront Véronique de Haas et le juge Eric Halphen qui seront parmi nous. \nAu cours du salon est remis à un auteur le grand prix du polar\, récompensant un roman ayant réuni les meilleures notes du comité de lecture. Tous les genres de polars sont représentés.
URL:https://www.normandielivre.fr/agenda-collaboratif/salon-du-polar/
LOCATION:Théâtre municipal de Forges les eaux\, Forges les eaux\, 76440
CATEGORIES:Salon
ORGANIZER;CN="Philippe Kauffmann":MAILTO:philippekauffmann@sfr.fr
END:VEVENT
BEGIN:VEVENT
DTSTART;TZID=Europe/Paris:20230215T160000
DTEND;TZID=Europe/Paris:20230215T173000
DTSTAMP:20260424T012518
CREATED:20221215T084840Z
LAST-MODIFIED:20221215T084840Z
UID:10001252-1676476800-1676482200@www.normandielivre.fr
SUMMARY:Heure du conte pour les enfants
DESCRIPTION:Lectures d’histoires pour les enfants\, suivies d’un atelier créatif et d’un goûter.
URL:https://www.normandielivre.fr/agenda-collaboratif/heure-du-conte-pour-les-enfants/
LOCATION:Médiathèque Jacques-Prévert\, Place du Commandant Charcot\, Dives-sur-Mer\, 14160
CATEGORIES:Jeunesse
ATTACH;FMTTYPE=image/jpeg:https://www.normandielivre.fr/wp-content/uploads/2022/12/Heure-du-conte-scaled.jpg
END:VEVENT
BEGIN:VEVENT
DTSTART;TZID=Europe/Paris:20230222T143000
DTEND;TZID=Europe/Paris:20230222T163000
DTSTAMP:20260424T012518
CREATED:20230209T084909Z
LAST-MODIFIED:20230209T084909Z
UID:10001496-1677076200-1677083400@www.normandielivre.fr
SUMMARY:Atelier d'écriture "Hiver" pour parents et enfants
DESCRIPTION:Adeline Miermont Giustinati (Calame) propose deux ateliers d’écriture poétiques pour un public familial (adultes et enfants accompagnés d’un adulte) sur le thème de « l’hiver » à l’Autre-bar. \nNous commencerons par une balade dans l’Espace rené Le Bas et la découverte de poèmes classiques et contemporains afin de s’inspirer puis un temps d’écriture sous formes de petits jeux\, enfin un goûter sera proposé à l’issue de l’atelier. \nMercredi 22 et jeudi 23 février\, de 14h30 à 16h30\, à l’Autre bar\, Espace René-Lebas\, Cherbourg \nIl n’est pas obligatoire de participer aux deux séances.
URL:https://www.normandielivre.fr/agenda-collaboratif/atelier-decriture-hiver-pour-parents-et-enfants/2023-02-22/
LOCATION:l’Autre lieu\, Espace René Le Bas\, Cherbourg-en-Cotentin\, 50100
CATEGORIES:Atelier
ATTACH;FMTTYPE=image/jpeg:https://www.normandielivre.fr/wp-content/uploads/2023/02/ateliers-fevrier-autre-bar.jpg
ORGANIZER;CN="Calame":MAILTO:calamecotentin@gmail.com
END:VEVENT
BEGIN:VEVENT
DTSTART;TZID=Europe/Paris:20230223T143000
DTEND;TZID=Europe/Paris:20230223T163000
DTSTAMP:20260424T012518
CREATED:20230209T084909Z
LAST-MODIFIED:20230209T084909Z
UID:10001497-1677162600-1677169800@www.normandielivre.fr
SUMMARY:Atelier d'écriture "Hiver" pour parents et enfants
DESCRIPTION:Adeline Miermont Giustinati (Calame) propose deux ateliers d’écriture poétiques pour un public familial (adultes et enfants accompagnés d’un adulte) sur le thème de « l’hiver » à l’Autre-bar. \nNous commencerons par une balade dans l’Espace rené Le Bas et la découverte de poèmes classiques et contemporains afin de s’inspirer puis un temps d’écriture sous formes de petits jeux\, enfin un goûter sera proposé à l’issue de l’atelier. \nMercredi 22 et jeudi 23 février\, de 14h30 à 16h30\, à l’Autre bar\, Espace René-Lebas\, Cherbourg \nIl n’est pas obligatoire de participer aux deux séances.
URL:https://www.normandielivre.fr/agenda-collaboratif/atelier-decriture-hiver-pour-parents-et-enfants/2023-02-23/
LOCATION:l’Autre lieu\, Espace René Le Bas\, Cherbourg-en-Cotentin\, 50100
CATEGORIES:Atelier
ATTACH;FMTTYPE=image/jpeg:https://www.normandielivre.fr/wp-content/uploads/2023/02/ateliers-fevrier-autre-bar.jpg
ORGANIZER;CN="Calame":MAILTO:calamecotentin@gmail.com
END:VEVENT
BEGIN:VEVENT
DTSTART;TZID=Europe/Paris:20230224T093000
DTEND;TZID=Europe/Paris:20230224T103000
DTSTAMP:20260424T012518
CREATED:20221215T084717Z
LAST-MODIFIED:20221215T084717Z
UID:10001251-1677231000-1677234600@www.normandielivre.fr
SUMMARY:Bébés Lecteurs
DESCRIPTION:Lectures d’histoires pour les tout-petits.\nMusique\, comptines et jeux de doigts. Deux séances sont proposées : 9h30 ou 10h30.\nAge : 0-3 ans
URL:https://www.normandielivre.fr/agenda-collaboratif/bebes-lecteurs-14/
LOCATION:Médiathèque Jacques-Prévert\, Place du Commandant Charcot\, Dives-sur-Mer\, 14160
CATEGORIES:Jeunesse
ORGANIZER;CN="M&eacute%3Bdiath&egrave%3Bque de Dives-sur-Mer":MAILTO:mediatheque@dives-sur-mer.fr
END:VEVENT
BEGIN:VEVENT
DTSTART;TZID=Europe/Paris:20230224T170000
DTEND;TZID=Europe/Paris:20230224T183000
DTSTAMP:20260424T012518
CREATED:20230130T085157Z
LAST-MODIFIED:20230130T085157Z
UID:10001481-1677258000-1677263400@www.normandielivre.fr
SUMMARY:Club de lecture jeunes
DESCRIPTION:Club de lecture jeunes\, à partir de 9 ans. \nEntrée libre.
URL:https://www.normandielivre.fr/agenda-collaboratif/club-de-lecture-jeunes-3/
LOCATION:Librairie café Place 26\, 26\, place Lesage\, Douvres la Délivrande\, 14440
CATEGORIES:Club de lecteurs,Jeunesse
ATTACH;FMTTYPE=image/png:https://www.normandielivre.fr/wp-content/uploads/2022/09/Capture-décran-2022-09-19-à-10.04.00-e1695983589295.png
END:VEVENT
END:VCALENDAR