BEGIN:VCALENDAR
VERSION:2.0
PRODID:-//Normandie Livre &amp; Lecture - ECPv6.15.11//NONSGML v1.0//EN
CALSCALE:GREGORIAN
METHOD:PUBLISH
X-WR-CALNAME:Normandie Livre &amp; Lecture
X-ORIGINAL-URL:https://www.normandielivre.fr
X-WR-CALDESC:Évènements pour Normandie Livre &amp; Lecture
REFRESH-INTERVAL;VALUE=DURATION:PT1H
X-Robots-Tag:noindex
X-PUBLISHED-TTL:PT1H
BEGIN:VTIMEZONE
TZID:Europe/Paris
BEGIN:DAYLIGHT
TZOFFSETFROM:+0100
TZOFFSETTO:+0200
TZNAME:CEST
DTSTART:20250330T010000
END:DAYLIGHT
BEGIN:STANDARD
TZOFFSETFROM:+0200
TZOFFSETTO:+0100
TZNAME:CET
DTSTART:20251026T010000
END:STANDARD
BEGIN:DAYLIGHT
TZOFFSETFROM:+0100
TZOFFSETTO:+0200
TZNAME:CEST
DTSTART:20260329T010000
END:DAYLIGHT
BEGIN:STANDARD
TZOFFSETFROM:+0200
TZOFFSETTO:+0100
TZNAME:CET
DTSTART:20261025T010000
END:STANDARD
BEGIN:DAYLIGHT
TZOFFSETFROM:+0100
TZOFFSETTO:+0200
TZNAME:CEST
DTSTART:20270328T010000
END:DAYLIGHT
BEGIN:STANDARD
TZOFFSETFROM:+0200
TZOFFSETTO:+0100
TZNAME:CET
DTSTART:20271031T010000
END:STANDARD
END:VTIMEZONE
BEGIN:VEVENT
DTSTART;TZID=Europe/Paris:20260218T150000
DTEND;TZID=Europe/Paris:20260218T150000
DTSTAMP:20260420T100416
CREATED:20260115T102009Z
LAST-MODIFIED:20260115T102009Z
UID:10002705-1771426800-1771426800@www.normandielivre.fr
SUMMARY:Ciné-Mômes : Arrietty et le petit monde des Chapardeurs
DESCRIPTION:Les Chapardeurs\, petits hommes et femmes d’une dizaine de centimètres\, vivent sous les planchers\, cachés des humains. Arrietty vit avec sa famille sous une armoire. L’arrivée d’un jeune garçon dans la maison va bouleverser son existence. Une histoire sur l’amitié et la tolérance. \n1h34\, à partir de 6 ans.\nInscriptions : mediatheque@mondeville.fr ou 02 31 35 66 20.
URL:https://www.normandielivre.fr/agenda-collaboratif/cine-momes-arrietty-et-le-petit-monde-des-chapardeurs/
LOCATION:Médiathèque Quai des Mondes\, 4 Rue Calmette\, Mondeville\, 14120
CATEGORIES:Projection
ATTACH;FMTTYPE=image/jpeg:https://www.normandielivre.fr/wp-content/uploads/2026/01/120x160-arrietty-HD-scaled.jpg
ORGANIZER;CN="M%C3%A9diath%C3%A8que Quai des Mondes":MAILTO:lisa.lelouard@mondeville.fr
END:VEVENT
BEGIN:VEVENT
DTSTART;TZID=Europe/Paris:20260220T140000
DTEND;TZID=Europe/Paris:20260220T160000
DTSTAMP:20260420T100416
CREATED:20260115T105335Z
LAST-MODIFIED:20260115T105335Z
UID:10002694-1771596000-1771603200@www.normandielivre.fr
SUMMARY:L'aprèm musical
DESCRIPTION:Les concerts filmés de la Philharmonie de Paris continuent leur voyage. Rendez-vous à la Vallée Barrey\, dans l’ancien local jeunes\, pour découvrir le concert de Ana Carla Maza Solo et Louise Jallu.\nCe concert s’inscrit dans le cycle Jazz à la Villette proposé par la Philharmonie de Paris. \n1h20\, tout public.\nSur inscription : mediatheque@mondeville.fr ou 02 31 35 66 20. \nRendez-vous à la Vallée Sauvage\, 5 rue de Prague 14120 Mondeville.
URL:https://www.normandielivre.fr/agenda-collaboratif/laprem-musical-2/
LOCATION:Médiathèque Quai des Mondes\, 4 Rue Calmette\, Mondeville\, 14120
CATEGORIES:Concert,Projection
ATTACH;FMTTYPE=image/jpeg:https://www.normandielivre.fr/wp-content/uploads/2026/01/CMS_5176.jpg
ORGANIZER;CN="M%C3%A9diath%C3%A8que Quai des Mondes":MAILTO:lisa.lelouard@mondeville.fr
END:VEVENT
BEGIN:VEVENT
DTSTART;TZID=Europe/Paris:20260221T150000
DTEND;TZID=Europe/Paris:20260221T170000
DTSTAMP:20260420T100416
CREATED:20260202T091849Z
LAST-MODIFIED:20260202T091849Z
UID:10003398-1771686000-1771693200@www.normandielivre.fr
SUMMARY:Black History Month
DESCRIPTION:Projection du documentaire HÉRITAGES \nTable ronde autour Des héritages de la tradition à l’expression contemporaine : Maud Delevaux (anthropologue)\, Ulrich N’Toyo (artiste)\, Karfa Diallo\, Michelle Corréa\, présidente de Normandie MP\, Alina Santa Cruz (chercheuse et petite nièce de Victoria Santa Cruz) \nPerformance artistique : percussions Fabian Suares – danse et lecture de texte Irène Bicep Layko & Ulrich N’Toyo \nInterprétation d’un texte de Victoria Santa Cruz par l’artiste-producteur Sektor Nalound.
URL:https://www.normandielivre.fr/agenda-collaboratif/black-history-month/
LOCATION:La Case\, Centre commercial Saint Sever\, rouen\, 76000
CATEGORIES:Projection
ATTACH;FMTTYPE=image/jpeg:https://www.normandielivre.fr/wp-content/uploads/2026/01/754640b6-24c1-4e6e-bdf8-4470eb9608b6.jpg
ORGANIZER;CN="Youle Cie":MAILTO:coordination@youlecompagnie.com
END:VEVENT
BEGIN:VEVENT
DTSTART;TZID=Europe/Paris:20260225T150000
DTEND;TZID=Europe/Paris:20260225T170000
DTSTAMP:20260420T100416
CREATED:20260115T105551Z
LAST-MODIFIED:20260115T105551Z
UID:10002695-1772031600-1772038800@www.normandielivre.fr
SUMMARY:Ciné-Mômes surprise !
DESCRIPTION:Pour les vacances\, vos bibliothécaires vous ont déniché un joli film qui ravira petits et grands. \n1h48\, à partir de 6 ans.\nSur inscription : mediatheque@mondeville.fr ou 02 31 35 66 20.
URL:https://www.normandielivre.fr/agenda-collaboratif/cine-momes-surprise-2/
LOCATION:Médiathèque Quai des Mondes\, 4 Rue Calmette\, Mondeville\, 14120
CATEGORIES:Projection
ATTACH;FMTTYPE=image/png:https://www.normandielivre.fr/wp-content/uploads/2026/01/cine-momes-surprise.png
ORGANIZER;CN="M%C3%A9diath%C3%A8que Quai des Mondes":MAILTO:lisa.lelouard@mondeville.fr
END:VEVENT
END:VCALENDAR