BEGIN:VCALENDAR
VERSION:2.0
PRODID:-//Normandie Livre &amp; Lecture - ECPv6.15.11//NONSGML v1.0//EN
CALSCALE:GREGORIAN
METHOD:PUBLISH
X-ORIGINAL-URL:https://www.normandielivre.fr
X-WR-CALDESC:Évènements pour Normandie Livre &amp; Lecture
REFRESH-INTERVAL;VALUE=DURATION:PT1H
X-Robots-Tag:noindex
X-PUBLISHED-TTL:PT1H
BEGIN:VTIMEZONE
TZID:Europe/Paris
BEGIN:DAYLIGHT
TZOFFSETFROM:+0100
TZOFFSETTO:+0200
TZNAME:CEST
DTSTART:20240331T010000
END:DAYLIGHT
BEGIN:STANDARD
TZOFFSETFROM:+0200
TZOFFSETTO:+0100
TZNAME:CET
DTSTART:20241027T010000
END:STANDARD
BEGIN:DAYLIGHT
TZOFFSETFROM:+0100
TZOFFSETTO:+0200
TZNAME:CEST
DTSTART:20250330T010000
END:DAYLIGHT
BEGIN:STANDARD
TZOFFSETFROM:+0200
TZOFFSETTO:+0100
TZNAME:CET
DTSTART:20251026T010000
END:STANDARD
BEGIN:DAYLIGHT
TZOFFSETFROM:+0100
TZOFFSETTO:+0200
TZNAME:CEST
DTSTART:20260329T010000
END:DAYLIGHT
BEGIN:STANDARD
TZOFFSETFROM:+0200
TZOFFSETTO:+0100
TZNAME:CET
DTSTART:20261025T010000
END:STANDARD
END:VTIMEZONE
BEGIN:VEVENT
DTSTART;TZID=Europe/Paris:20251219T140000
DTEND;TZID=Europe/Paris:20251219T160000
DTSTAMP:20260420T115651
CREATED:20251204T135642Z
LAST-MODIFIED:20251204T135642Z
UID:10002512-1766152800-1766160000@www.normandielivre.fr
SUMMARY:L'aprem musical
DESCRIPTION:Pour cette nouvelle saison\, les concerts filmés voyagent hors les murs. \nDeuxième escale à l’espace Letellier (quartier Charlotte Corday) au rythme des Musiques des Caraïbes. Ce concert s’inscrit dans le cycle Jazz à la Villette proposé par la Philharmonie de Paris. \nRdv à l’espace Letellier\, rue du 19 mars 1962.
URL:https://www.normandielivre.fr/agenda-collaboratif/laprem-musical/
LOCATION:Médiathèque Quai des Mondes\, 4 Rue Calmette\, Mondeville\, 14120
CATEGORIES:Concert,Projection
ORGANIZER;CN="M%C3%A9diath%C3%A8que Quai des Mondes":MAILTO:lisa.lelouard@mondeville.fr
END:VEVENT
BEGIN:VEVENT
DTSTART;TZID=Europe/Paris:20251224T150000
DTEND;TZID=Europe/Paris:20251224T170000
DTSTAMP:20260420T115651
CREATED:20251204T140415Z
LAST-MODIFIED:20251204T140415Z
UID:10002514-1766588400-1766595600@www.normandielivre.fr
SUMMARY:Ciné-Mômes Les Moomins
DESCRIPTION:La famille Moomins vit dans une vallée reculée de Finlande. Pas d’hibernation cet hiver\, les Moomins vont pour la première fois rencontrer ce mystérieux invité appelé « Noël ». Connu dans le monde entier\, l’univers magique des Moomins va émerveiller les enfants pour les fêtes. \nA partir de 4 ans.\nInformations et inscriptions : mediatheque@mondeville.fr ou 02 31 35 66 20
URL:https://www.normandielivre.fr/agenda-collaboratif/cine-momes-les-moomins/
LOCATION:Médiathèque Quai des Mondes\, 4 Rue Calmette\, Mondeville\, 14120
CATEGORIES:Projection
ATTACH;FMTTYPE=image/jpeg:https://www.normandielivre.fr/wp-content/uploads/2025/08/2422217.jpg
ORGANIZER;CN="M%C3%A9diath%C3%A8que Quai des Mondes":MAILTO:lisa.lelouard@mondeville.fr
END:VEVENT
BEGIN:VEVENT
DTSTART;TZID=Europe/Paris:20251231T110000
DTEND;TZID=Europe/Paris:20251231T123000
DTSTAMP:20260420T115651
CREATED:20251204T140448Z
LAST-MODIFIED:20251204T140448Z
UID:10002515-1767178800-1767184200@www.normandielivre.fr
SUMMARY:Matinée musicale
DESCRIPTION:Le rendez-vous de la Philharmonie des petits : avis aux jeunes oreilles pour découvrir un concert filmé. \nA partir de 5 ans \nInformations et inscriptions : mediatheque@mondeville.fr ou 02 31 35 66 20
URL:https://www.normandielivre.fr/agenda-collaboratif/matinee-musicale/
LOCATION:Médiathèque Quai des Mondes\, 4 Rue Calmette\, Mondeville\, 14120
CATEGORIES:Concert,Projection
ORGANIZER;CN="M%C3%A9diath%C3%A8que Quai des Mondes":MAILTO:lisa.lelouard@mondeville.fr
END:VEVENT
BEGIN:VEVENT
DTSTART;TZID=Europe/Paris:20251231T150000
DTEND;TZID=Europe/Paris:20251231T170000
DTSTAMP:20260420T115651
CREATED:20251204T140518Z
LAST-MODIFIED:20251204T140518Z
UID:10002516-1767193200-1767200400@www.normandielivre.fr
SUMMARY:Ciné-Mômes surprise !
DESCRIPTION:Pour les vacances\, vos bibliothécaires vous ont déniché un joli film qui ravira petits et grands. \nA partir de 6 ans \nInformations et inscriptions : mediatheque@mondeville.fr ou 02 31 35 66 20
URL:https://www.normandielivre.fr/agenda-collaboratif/cine-momes-surprise/
LOCATION:Médiathèque Quai des Mondes\, 4 Rue Calmette\, Mondeville\, 14120
CATEGORIES:Projection
ATTACH;FMTTYPE=image/png:https://www.normandielivre.fr/wp-content/uploads/2025/08/cine-momes-surprise.png
ORGANIZER;CN="M%C3%A9diath%C3%A8que Quai des Mondes":MAILTO:lisa.lelouard@mondeville.fr
END:VEVENT
END:VCALENDAR