BEGIN:VCALENDAR
VERSION:2.0
PRODID:-//Normandie Livre &amp; Lecture - ECPv6.15.11//NONSGML v1.0//EN
CALSCALE:GREGORIAN
METHOD:PUBLISH
X-WR-CALNAME:Normandie Livre &amp; Lecture
X-ORIGINAL-URL:https://www.normandielivre.fr
X-WR-CALDESC:Évènements pour Normandie Livre &amp; Lecture
REFRESH-INTERVAL;VALUE=DURATION:PT1H
X-Robots-Tag:noindex
X-PUBLISHED-TTL:PT1H
BEGIN:VTIMEZONE
TZID:Europe/Paris
BEGIN:DAYLIGHT
TZOFFSETFROM:+0100
TZOFFSETTO:+0200
TZNAME:CEST
DTSTART:20240331T010000
END:DAYLIGHT
BEGIN:STANDARD
TZOFFSETFROM:+0200
TZOFFSETTO:+0100
TZNAME:CET
DTSTART:20241027T010000
END:STANDARD
BEGIN:DAYLIGHT
TZOFFSETFROM:+0100
TZOFFSETTO:+0200
TZNAME:CEST
DTSTART:20250330T010000
END:DAYLIGHT
BEGIN:STANDARD
TZOFFSETFROM:+0200
TZOFFSETTO:+0100
TZNAME:CET
DTSTART:20251026T010000
END:STANDARD
BEGIN:DAYLIGHT
TZOFFSETFROM:+0100
TZOFFSETTO:+0200
TZNAME:CEST
DTSTART:20260329T010000
END:DAYLIGHT
BEGIN:STANDARD
TZOFFSETFROM:+0200
TZOFFSETTO:+0100
TZNAME:CET
DTSTART:20261025T010000
END:STANDARD
END:VTIMEZONE
BEGIN:VEVENT
DTSTART;TZID=Europe/Paris:20250910T150000
DTEND;TZID=Europe/Paris:20250910T170000
DTSTAMP:20260420T204641
CREATED:20250828T124749Z
LAST-MODIFIED:20250828T124749Z
UID:10002489-1757516400-1757523600@www.normandielivre.fr
SUMMARY:Projection "Les Petites Victoires"
DESCRIPTION:Dans le cadre des Journées Nationales d’Actions contre l’Illettrisme\, venez découvrir le film Les Petites Victoires de Mélanie Auffret.\n« Entre ses obligations de maire et son rôle d’institutrice\, les journées d’Alice sont bien remplies. L’arrivée dans sa classe d’Emile\, un homme de 60 ans\, enfin décidé à apprendre à lire et à écrire\, va rendre son quotidien ingérable. »
URL:https://www.normandielivre.fr/agenda-collaboratif/projection-les-petites-victoires/
LOCATION:Médiathèque Quai des Mondes\, 4 Rue Calmette\, Mondeville\, 14120
CATEGORIES:Projection
ATTACH;FMTTYPE=image/png:https://www.normandielivre.fr/wp-content/uploads/2025/08/RS-proj-septembre.png
ORGANIZER;CN="M%C3%A9diath%C3%A8que Quai des Mondes":MAILTO:lisa.lelouard@mondeville.fr
END:VEVENT
END:VCALENDAR