BEGIN:VCALENDAR
VERSION:2.0
PRODID:-//Normandie Livre &amp; Lecture - ECPv6.15.11//NONSGML v1.0//EN
CALSCALE:GREGORIAN
METHOD:PUBLISH
X-WR-CALNAME:Normandie Livre &amp; Lecture
X-ORIGINAL-URL:https://www.normandielivre.fr
X-WR-CALDESC:Évènements pour Normandie Livre &amp; Lecture
REFRESH-INTERVAL;VALUE=DURATION:PT1H
X-Robots-Tag:noindex
X-PUBLISHED-TTL:PT1H
BEGIN:VTIMEZONE
TZID:Europe/Paris
BEGIN:DAYLIGHT
TZOFFSETFROM:+0100
TZOFFSETTO:+0200
TZNAME:CEST
DTSTART:20240331T010000
END:DAYLIGHT
BEGIN:STANDARD
TZOFFSETFROM:+0200
TZOFFSETTO:+0100
TZNAME:CET
DTSTART:20241027T010000
END:STANDARD
BEGIN:DAYLIGHT
TZOFFSETFROM:+0100
TZOFFSETTO:+0200
TZNAME:CEST
DTSTART:20250330T010000
END:DAYLIGHT
BEGIN:STANDARD
TZOFFSETFROM:+0200
TZOFFSETTO:+0100
TZNAME:CET
DTSTART:20251026T010000
END:STANDARD
BEGIN:DAYLIGHT
TZOFFSETFROM:+0100
TZOFFSETTO:+0200
TZNAME:CEST
DTSTART:20260329T010000
END:DAYLIGHT
BEGIN:STANDARD
TZOFFSETFROM:+0200
TZOFFSETTO:+0100
TZNAME:CET
DTSTART:20261025T010000
END:STANDARD
END:VTIMEZONE
BEGIN:VEVENT
DTSTART;TZID=Europe/Paris:20250409T150000
DTEND;TZID=Europe/Paris:20250409T163000
DTSTAMP:20260421T090426
CREATED:20250404T075447Z
LAST-MODIFIED:20250404T075447Z
UID:10002264-1744210800-1744216200@www.normandielivre.fr
SUMMARY:Ciné-Mômes Sirocco et le royaume des courants d'air
DESCRIPTION:Juliette et Carmen découvrent un passage secret vers le royaume des Courants d’Air\, leur livre favori. Transformées en chats et séparées l’une de l’autre\, elles devront faire preuve de témérité et d’audace pour se retrouver. \nInscriptions : mediatheque@mondeville.fr ou 0231356620
URL:https://www.normandielivre.fr/agenda-collaboratif/cine-momes-sirocco-et-le-royaume-des-courants-dair/
LOCATION:Médiathèque Quai des Mondes\, 4 Rue Calmette\, Mondeville\, 14120
CATEGORIES:Projection
ATTACH;FMTTYPE=image/jpeg:https://www.normandielivre.fr/wp-content/uploads/2025/04/sirocco-cmjn.jpg
ORGANIZER;CN="M%C3%A9diath%C3%A8que Quai des Mondes":MAILTO:lisa.lelouard@mondeville.fr
END:VEVENT
END:VCALENDAR