BEGIN:VCALENDAR
VERSION:2.0
PRODID:-//Normandie Livre &amp; Lecture - ECPv6.15.11//NONSGML v1.0//EN
CALSCALE:GREGORIAN
METHOD:PUBLISH
X-WR-CALNAME:Normandie Livre &amp; Lecture
X-ORIGINAL-URL:https://www.normandielivre.fr
X-WR-CALDESC:Évènements pour Normandie Livre &amp; Lecture
REFRESH-INTERVAL;VALUE=DURATION:PT1H
X-Robots-Tag:noindex
X-PUBLISHED-TTL:PT1H
BEGIN:VTIMEZONE
TZID:Europe/Paris
BEGIN:DAYLIGHT
TZOFFSETFROM:+0100
TZOFFSETTO:+0200
TZNAME:CEST
DTSTART:20240331T010000
END:DAYLIGHT
BEGIN:STANDARD
TZOFFSETFROM:+0200
TZOFFSETTO:+0100
TZNAME:CET
DTSTART:20241027T010000
END:STANDARD
BEGIN:DAYLIGHT
TZOFFSETFROM:+0100
TZOFFSETTO:+0200
TZNAME:CEST
DTSTART:20250330T010000
END:DAYLIGHT
BEGIN:STANDARD
TZOFFSETFROM:+0200
TZOFFSETTO:+0100
TZNAME:CET
DTSTART:20251026T010000
END:STANDARD
BEGIN:DAYLIGHT
TZOFFSETFROM:+0100
TZOFFSETTO:+0200
TZNAME:CEST
DTSTART:20260329T010000
END:DAYLIGHT
BEGIN:STANDARD
TZOFFSETFROM:+0200
TZOFFSETTO:+0100
TZNAME:CET
DTSTART:20261025T010000
END:STANDARD
END:VTIMEZONE
BEGIN:VEVENT
DTSTART;TZID=Europe/Paris:20250124T190000
DTEND;TZID=Europe/Paris:20250124T210000
DTSTAMP:20260421T183938
CREATED:20241216T133641Z
LAST-MODIFIED:20241219T103606Z
UID:10002075-1737745200-1737752400@www.normandielivre.fr
SUMMARY:Rencontre autour de "La Saga des Lefébure" avec Stéphane Puisney
DESCRIPTION:« La Saga des Lefébure » – De la télévision à la médiathèque d’Alençon\, 25 ans au cœur de l’Histoire normande \nPour le 25e anniversaire de la série de bandes dessinées « La saga des Lefebure » écrite par Stéphane Puisney\, un nouvel album\, le tome 8\, vient de paraître. \nIl est intégralement composé\, comme le tome 7\, d’histoires inédites diffusées à la télé d’événements de l’Histoire régionale au travers des aventures de cette famille de Normands imaginaires. \nC’est cette aventure\, de ses origines à nos jours\, que son auteur-illustrateur et producteur artistique Stéphane Puisney vous propose de découvrir : \nLes étapes de sa création\, les anecdotes autour des recherches des histoires\, les techniques employées et leur évolution au fil du temps\, de la télé « analogique » au « numérique »\, les rencontres parfois inattendues\, la conception des albums et leur fabrication\, la naissance des cousins bretons de « La Saga des Le Bihan »\, d’autres créations en vidéo-BD et sa collaboration à l’émission « Là où ça bouge » sur France 3 Caen… 25 années où les « Leféburophiles » se sont multipliés\, fidèles aux rendez-vous de leurs héros normands ! \nDes projections de vidéos\, une mini-exposition de dessins préparatoires\, de crayonnés et de planches\, un quiz sur les Lefébure et une séance de dédicaces ponctueront cette rencontre. \nÀ partir de quel âge : Tout public \nRéservation : 02 33 82 46 00 ou par mail mediatheques@cu-alencon.fr \n\nRencontre organisée dans le cadre de l’événement Lire en hiver. \nLire en Hiver\, c’est le meilleur moment pour découvrir les actualités des auteurs\, autrices et maisons d’édition normands\, au plus près de chez vous. Du 14 janvier au 2 février\, partez à la découverte d’univers artistiques et littéraires variés\, dans les bibliothèques et librairies de Normandie. Renseignements : https://www.normandielivre.fr/lire-en-hiver/ \nDans le cadre des Nuits de la lecture
URL:https://www.normandielivre.fr/agenda-collaboratif/rencontre-autour-de-la-saga-des-lefebure-avec-stephane-puisney/
LOCATION:médiathèque Aveline\, Alençon\, Cour carrée de la dentelle\, Alençon\, 61000
CATEGORIES:Lire en hiver,Nuits de la lecture,Projection,Rencontre
ATTACH;FMTTYPE=image/png:https://www.normandielivre.fr/wp-content/uploads/2024/12/11.png
END:VEVENT
END:VCALENDAR