BEGIN:VCALENDAR
VERSION:2.0
PRODID:-//Normandie Livre &amp; Lecture - ECPv6.15.11//NONSGML v1.0//EN
CALSCALE:GREGORIAN
METHOD:PUBLISH
X-ORIGINAL-URL:https://www.normandielivre.fr
X-WR-CALDESC:Évènements pour Normandie Livre &amp; Lecture
REFRESH-INTERVAL;VALUE=DURATION:PT1H
X-Robots-Tag:noindex
X-PUBLISHED-TTL:PT1H
BEGIN:VTIMEZONE
TZID:Europe/Paris
BEGIN:DAYLIGHT
TZOFFSETFROM:+0100
TZOFFSETTO:+0200
TZNAME:CEST
DTSTART:20230326T010000
END:DAYLIGHT
BEGIN:STANDARD
TZOFFSETFROM:+0200
TZOFFSETTO:+0100
TZNAME:CET
DTSTART:20231029T010000
END:STANDARD
BEGIN:DAYLIGHT
TZOFFSETFROM:+0100
TZOFFSETTO:+0200
TZNAME:CEST
DTSTART:20240331T010000
END:DAYLIGHT
BEGIN:STANDARD
TZOFFSETFROM:+0200
TZOFFSETTO:+0100
TZNAME:CET
DTSTART:20241027T010000
END:STANDARD
BEGIN:DAYLIGHT
TZOFFSETFROM:+0100
TZOFFSETTO:+0200
TZNAME:CEST
DTSTART:20250330T010000
END:DAYLIGHT
BEGIN:STANDARD
TZOFFSETFROM:+0200
TZOFFSETTO:+0100
TZNAME:CET
DTSTART:20251026T010000
END:STANDARD
END:VTIMEZONE
BEGIN:VEVENT
DTSTART;TZID=Europe/Paris:20240912T140000
DTEND;TZID=Europe/Paris:20240912T163000
DTSTAMP:20260422T055057
CREATED:20240902T152427Z
LAST-MODIFIED:20240902T152427Z
UID:10001954-1726149600-1726158600@www.normandielivre.fr
SUMMARY:Projection-débat du film « Champion » de Mona Achache à Lillebonne
DESCRIPTION:Projection-débat du film « Champion » de Mona Achache \n« Champion » est le récit de la vie Zack qui fait face aux situations de la vie quotidienne sans avoir recours à l’écrit. \nTout public\, accès libre  \nDans le cadre des Journées nationales d’action contre l’illettrisme portées par l’ANLCI
URL:https://www.normandielivre.fr/agenda-collaboratif/projection-debat-du-film-champion-de-mona-achache-a-lillebonne/
LOCATION:Médiathèque de Lillebonne\, Place Pierre de Coubertin\, LILLEBONNE\, 76170
CATEGORIES:Action contre l'illettrisme,Projection
ATTACH;FMTTYPE=image/jpeg:https://www.normandielivre.fr/wp-content/uploads/2024/09/champion-film-scaled.jpg
END:VEVENT
BEGIN:VEVENT
DTSTART;TZID=Europe/Paris:20240913T200000
DTEND;TZID=Europe/Paris:20240913T223000
DTSTAMP:20260422T055057
CREATED:20240904T141802Z
LAST-MODIFIED:20240904T141802Z
UID:10001958-1726257600-1726266600@www.normandielivre.fr
SUMMARY:Ciné-débat - Projection du film “Brillantes” à Gournay-en-Bray
DESCRIPTION:Projection du film “Brillantes” suivie d’un débat entre Géraldine Chambon\, chargée de mission ANLCI pour la région Normandie\, Aïcha Talbi\, chargée de projets au centre ressource illettrisme du Carif-Oref Normandie et Pauline Laurelli\, responsable de la médiathèque Michel Bussi.  \nTout public\, accès libre  \nDans le cadre des Journées nationales d’action contre l’illettrisme portées par l’ANLCI
URL:https://www.normandielivre.fr/agenda-collaboratif/cine-debat-projection-du-film-brillantes-a-gournay-en-bray/
LOCATION:Médiathèque Michel Bussi à Gournay en Bray\, 44 avenue du Général Leclerc\, GOURNAY-EN-BRAY\, 76220\, France
CATEGORIES:Action contre l'illettrisme,Projection,Rencontre
ATTACH;FMTTYPE=image/webp:https://www.normandielivre.fr/wp-content/uploads/2024/09/brillantes.webp
END:VEVENT
END:VCALENDAR