BEGIN:VCALENDAR
VERSION:2.0
PRODID:-//Normandie Livre &amp; Lecture - ECPv6.15.11//NONSGML v1.0//EN
CALSCALE:GREGORIAN
METHOD:PUBLISH
X-WR-CALNAME:Normandie Livre &amp; Lecture
X-ORIGINAL-URL:https://www.normandielivre.fr
X-WR-CALDESC:Évènements pour Normandie Livre &amp; Lecture
REFRESH-INTERVAL;VALUE=DURATION:PT1H
X-Robots-Tag:noindex
X-PUBLISHED-TTL:PT1H
BEGIN:VTIMEZONE
TZID:Europe/Paris
BEGIN:DAYLIGHT
TZOFFSETFROM:+0100
TZOFFSETTO:+0200
TZNAME:CEST
DTSTART:20240331T010000
END:DAYLIGHT
BEGIN:STANDARD
TZOFFSETFROM:+0200
TZOFFSETTO:+0100
TZNAME:CET
DTSTART:20241027T010000
END:STANDARD
BEGIN:DAYLIGHT
TZOFFSETFROM:+0100
TZOFFSETTO:+0200
TZNAME:CEST
DTSTART:20250330T010000
END:DAYLIGHT
BEGIN:STANDARD
TZOFFSETFROM:+0200
TZOFFSETTO:+0100
TZNAME:CET
DTSTART:20251026T010000
END:STANDARD
BEGIN:DAYLIGHT
TZOFFSETFROM:+0100
TZOFFSETTO:+0200
TZNAME:CEST
DTSTART:20260329T010000
END:DAYLIGHT
BEGIN:STANDARD
TZOFFSETFROM:+0200
TZOFFSETTO:+0100
TZNAME:CET
DTSTART:20261025T010000
END:STANDARD
END:VTIMEZONE
BEGIN:VEVENT
DTSTART;TZID=Europe/Paris:20250705T110000
DTEND;TZID=Europe/Paris:20250705T160000
DTSTAMP:20260422T020604
CREATED:20250507T094148Z
LAST-MODIFIED:20250507T094148Z
UID:10002312-1751713200-1751731200@www.normandielivre.fr
SUMMARY:Journée festive "Partir en Livre"
DESCRIPTION:Une grande journée festive avec les partenaires des médiathèques est organisée. Diverses animations seront mises en place tout au long de la journée. \nPetits et grands\, tout le monde est invité à participer à cette fête conviviale et familiale autour du livre. \nVenez retrouver les bibliothécaires jeunesse accompagnées des libraires de La Compagnie des livres et de Cerises & Moineaux\, des bénévoles de l’association Lire et Faire Lire\, du gérant de la boutique Au coin du dé et de la créatrice Stere Bulle. \nLa grande Fête du Livre pour la Jeunesse !\nPetits et grands\, tout le monde est invité à participer à cette fête conviviale et familiale. \nEntrée libre
URL:https://www.normandielivre.fr/agenda-collaboratif/journee-festive-partir-en-livre/
LOCATION:Espace Philippe-Auguste\, salle Vikings\, 12 avenue Victor Hugo\, Vernon\, 27200
CATEGORIES:Partir en livre
ATTACH;FMTTYPE=image/jpeg:https://www.normandielivre.fr/wp-content/uploads/2025/05/fete-partir-ne-livre-vernon.jpg
ORGANIZER;CN="M%C3%A9diath%C3%A8que de Vernon":MAILTO:mediatheque.vernon@sna24.fr
END:VEVENT
END:VCALENDAR