BEGIN:VCALENDAR
VERSION:2.0
PRODID:-//Normandie Livre &amp; Lecture - ECPv6.15.11//NONSGML v1.0//EN
CALSCALE:GREGORIAN
METHOD:PUBLISH
X-WR-CALNAME:Normandie Livre &amp; Lecture
X-ORIGINAL-URL:https://www.normandielivre.fr
X-WR-CALDESC:Évènements pour Normandie Livre &amp; Lecture
REFRESH-INTERVAL;VALUE=DURATION:PT1H
X-Robots-Tag:noindex
X-PUBLISHED-TTL:PT1H
BEGIN:VTIMEZONE
TZID:Europe/Paris
BEGIN:DAYLIGHT
TZOFFSETFROM:+0100
TZOFFSETTO:+0200
TZNAME:CEST
DTSTART:20230326T010000
END:DAYLIGHT
BEGIN:STANDARD
TZOFFSETFROM:+0200
TZOFFSETTO:+0100
TZNAME:CET
DTSTART:20231029T010000
END:STANDARD
BEGIN:DAYLIGHT
TZOFFSETFROM:+0100
TZOFFSETTO:+0200
TZNAME:CEST
DTSTART:20240331T010000
END:DAYLIGHT
BEGIN:STANDARD
TZOFFSETFROM:+0200
TZOFFSETTO:+0100
TZNAME:CET
DTSTART:20241027T010000
END:STANDARD
BEGIN:DAYLIGHT
TZOFFSETFROM:+0100
TZOFFSETTO:+0200
TZNAME:CEST
DTSTART:20250330T010000
END:DAYLIGHT
BEGIN:STANDARD
TZOFFSETFROM:+0200
TZOFFSETTO:+0100
TZNAME:CET
DTSTART:20251026T010000
END:STANDARD
END:VTIMEZONE
BEGIN:VEVENT
DTSTART;VALUE=DATE:20240621
DTEND;VALUE=DATE:20240721
DTSTAMP:20260423T095038
CREATED:20240404T122653Z
LAST-MODIFIED:20240404T122707Z
UID:10001822-1718928000-1721519999@www.normandielivre.fr
SUMMARY:Partir en livre à Thé bouquins
DESCRIPTION:Thé bouquins participe à partir en livre et propose du 19 juin au 21 juillet de nombreuses activités :\nAtelier jeunesse 5 a 7 ans\nAtelier jeunesse 8 à 10 ans\nTombola\nRemise -50% sur les livres\nConcert\nAprès midi jeux de sociétés\nRencontres avec des écrivains … \nPassez un bel été avec Thé bouquins
URL:https://www.normandielivre.fr/agenda-collaboratif/partir-en-livre-a-the-bouquins/
LOCATION:the bouquins\, 2 rue aux juifs\, AUMALE\, 76390
CATEGORIES:Partir en livre
ATTACH;FMTTYPE=image/jpeg:https://www.normandielivre.fr/wp-content/uploads/2024/04/Screenshot_20240329_135158_Google.jpg
ORGANIZER;CN="th%C3%A9 bouquins":MAILTO:Thebouquins@gmail.com
END:VEVENT
END:VCALENDAR