BEGIN:VCALENDAR
VERSION:2.0
PRODID:-//Normandie Livre &amp; Lecture - ECPv6.15.11//NONSGML v1.0//EN
CALSCALE:GREGORIAN
METHOD:PUBLISH
X-WR-CALNAME:Normandie Livre &amp; Lecture
X-ORIGINAL-URL:https://www.normandielivre.fr
X-WR-CALDESC:Évènements pour Normandie Livre &amp; Lecture
REFRESH-INTERVAL;VALUE=DURATION:PT1H
X-Robots-Tag:noindex
X-PUBLISHED-TTL:PT1H
BEGIN:VTIMEZONE
TZID:Europe/Paris
BEGIN:DAYLIGHT
TZOFFSETFROM:+0100
TZOFFSETTO:+0200
TZNAME:CEST
DTSTART:20240331T010000
END:DAYLIGHT
BEGIN:STANDARD
TZOFFSETFROM:+0200
TZOFFSETTO:+0100
TZNAME:CET
DTSTART:20241027T010000
END:STANDARD
BEGIN:DAYLIGHT
TZOFFSETFROM:+0100
TZOFFSETTO:+0200
TZNAME:CEST
DTSTART:20250330T010000
END:DAYLIGHT
BEGIN:STANDARD
TZOFFSETFROM:+0200
TZOFFSETTO:+0100
TZNAME:CET
DTSTART:20251026T010000
END:STANDARD
BEGIN:DAYLIGHT
TZOFFSETFROM:+0100
TZOFFSETTO:+0200
TZNAME:CEST
DTSTART:20260329T010000
END:DAYLIGHT
BEGIN:STANDARD
TZOFFSETFROM:+0200
TZOFFSETTO:+0100
TZNAME:CET
DTSTART:20261025T010000
END:STANDARD
BEGIN:DAYLIGHT
TZOFFSETFROM:+0100
TZOFFSETTO:+0200
TZNAME:CEST
DTSTART:20270328T010000
END:DAYLIGHT
BEGIN:STANDARD
TZOFFSETFROM:+0200
TZOFFSETTO:+0100
TZNAME:CET
DTSTART:20271031T010000
END:STANDARD
END:VTIMEZONE
BEGIN:VEVENT
DTSTART;TZID=Europe/Paris:20251219T180000
DTEND;TZID=Europe/Paris:20260329T180000
DTSTAMP:20260420T182218
CREATED:20251113T142207Z
LAST-MODIFIED:20251113T142207Z
UID:10002613-1766167200-1774807200@www.normandielivre.fr
SUMMARY:ESOTERIK
DESCRIPTION:Il s’agit d’un corpus de lettres-poèmes adressées au compositeur Erik Satie. Elles ont été écrites par Delfine Guy\, en résidence à La Lieutenance à Honfleur\, entre mai et juillet 2025. \nLes textes\, enregistrés par l’autrice\, seront diffusés au Musée Eugène-Boudin à Honfleur dans le cadre de l’exposition « Ancrer la brume »\, laquelle permettra de découvrir les peintures de l’artiste \, ainsi que celle de Marina Vandra. \nDate du vernissage : 19 décembre 2025\, de 18h30 à 20h30\,\nMusée Eugène-Boudin\nRue de l’Homme de Bois\n14600 HONFLEUR
URL:https://www.normandielivre.fr/agenda-collaboratif/esoterik/
CATEGORIES:Exposition,Lecture
ATTACH;FMTTYPE=image/jpeg:https://www.normandielivre.fr/wp-content/uploads/2025/11/EV1.A-la-sirene.A4-scaled.jpg
END:VEVENT
BEGIN:VEVENT
DTSTART;TZID=Europe/Paris:20260123T080000
DTEND;TZID=Europe/Paris:20260328T170000
DTSTAMP:20260420T182218
CREATED:20260107T131709Z
LAST-MODIFIED:20260107T131709Z
UID:10002685-1769155200-1774717200@www.normandielivre.fr
SUMMARY:Exposition du Module Horizon "Ciel Village Prairie Mouton"
DESCRIPTION:Le Module Horizon\, créé par la Bibliothèque du Calvados\, l’Artothèque de Caen et matali crasset\, permet d’amener l’art dans les bibliothèques. \nDécouvrez notre exposition Ciel Village Prairie Mouton conçue par des travailleurs de l’ESAT de Colombelles et des usager.ères de l’espace Letellier de Mondeville.
URL:https://www.normandielivre.fr/agenda-collaboratif/exposition-du-module-horizon-ciel-village-prairie-mouton/
LOCATION:Médiathèque Quai des Mondes\, 4 Rue Calmette\, Mondeville\, 14120
CATEGORIES:Exposition
ATTACH;FMTTYPE=image/jpeg:https://www.normandielivre.fr/wp-content/uploads/2026/01/Ducorroy-Le-mouton-de-St-Ex-.jpg
ORGANIZER;CN="M%C3%A9diath%C3%A8que Quai des Mondes":MAILTO:lisa.lelouard@mondeville.fr
END:VEVENT
BEGIN:VEVENT
DTSTART;TZID=Europe/Paris:20260220T080000
DTEND;TZID=Europe/Paris:20260318T170000
DTSTAMP:20260420T182218
CREATED:20260310T144739Z
LAST-MODIFIED:20260310T144739Z
UID:10003403-1771574400-1773853200@www.normandielivre.fr
SUMMARY:Exposition des planches originales de la BD Cœur·Peur
DESCRIPTION:Exposition des planches originales de la BD Cœur·Peur\nécrite par Aurélie Guérinet\, illustrée par Marine Duchet\néditions MØTUS
URL:https://www.normandielivre.fr/agenda-collaboratif/exposition-des-planches-originales-de-la-bd-coeur%c2%b7peur/
LOCATION:bibliothèque Pierre Heuzé\, 17 Place Champlain\, Caen\, 14000
CATEGORIES:Exposition
ATTACH;FMTTYPE=image/png:https://www.normandielivre.fr/wp-content/uploads/2026/02/Capture-decran-2026-02-19-135756.png
END:VEVENT
BEGIN:VEVENT
DTSTART;TZID=Europe/Paris:20260303T110000
DTEND;TZID=Europe/Paris:20260324T180000
DTSTAMP:20260420T182218
CREATED:20260115T111926Z
LAST-MODIFIED:20260115T111937Z
UID:10002701-1772535600-1774375200@www.normandielivre.fr
SUMMARY:Exposition "Joue avec Raymond"
DESCRIPTION:Cette exposition en volume permet aux enfants d’entrer dans le monde de ce petit escargot par le jeu. \nDans le cadre de la Semaine de la Petite Enfance.
URL:https://www.normandielivre.fr/agenda-collaboratif/exposition-joue-avec-raymond/
LOCATION:Médiathèque Quai des Mondes\, 4 Rue Calmette\, Mondeville\, 14120
CATEGORIES:Exposition,Jeunesse
ATTACH;FMTTYPE=image/png:https://www.normandielivre.fr/wp-content/uploads/2026/01/Capture-decran-2025-12-03-155310.png
ORGANIZER;CN="M%C3%A9diath%C3%A8que Quai des Mondes":MAILTO:lisa.lelouard@mondeville.fr
END:VEVENT
END:VCALENDAR