BEGIN:VCALENDAR
VERSION:2.0
PRODID:-//Normandie Livre &amp; Lecture - ECPv6.15.11//NONSGML v1.0//EN
CALSCALE:GREGORIAN
METHOD:PUBLISH
X-WR-CALNAME:Normandie Livre &amp; Lecture
X-ORIGINAL-URL:https://www.normandielivre.fr
X-WR-CALDESC:Évènements pour Normandie Livre &amp; Lecture
REFRESH-INTERVAL;VALUE=DURATION:PT1H
X-Robots-Tag:noindex
X-PUBLISHED-TTL:PT1H
BEGIN:VTIMEZONE
TZID:Europe/Paris
BEGIN:DAYLIGHT
TZOFFSETFROM:+0100
TZOFFSETTO:+0200
TZNAME:CEST
DTSTART:20240331T010000
END:DAYLIGHT
BEGIN:STANDARD
TZOFFSETFROM:+0200
TZOFFSETTO:+0100
TZNAME:CET
DTSTART:20241027T010000
END:STANDARD
BEGIN:DAYLIGHT
TZOFFSETFROM:+0100
TZOFFSETTO:+0200
TZNAME:CEST
DTSTART:20250330T010000
END:DAYLIGHT
BEGIN:STANDARD
TZOFFSETFROM:+0200
TZOFFSETTO:+0100
TZNAME:CET
DTSTART:20251026T010000
END:STANDARD
BEGIN:DAYLIGHT
TZOFFSETFROM:+0100
TZOFFSETTO:+0200
TZNAME:CEST
DTSTART:20260329T010000
END:DAYLIGHT
BEGIN:STANDARD
TZOFFSETFROM:+0200
TZOFFSETTO:+0100
TZNAME:CET
DTSTART:20261025T010000
END:STANDARD
END:VTIMEZONE
BEGIN:VEVENT
DTSTART;VALUE=DATE:20250331
DTEND;VALUE=DATE:20250506
DTSTAMP:20260422T033024
CREATED:20250224T080223Z
LAST-MODIFIED:20250224T080223Z
UID:10002154-1743379200-1746489599@www.normandielivre.fr
SUMMARY:Qu'est ce que le Trouble du Spectre Autistique ?
DESCRIPTION:Du 31 mars au 5 mai 2025\, pour le mois de l’Autisme\, découvrez des planches en exposition de la bande dessinée « Le Bleu » de l’autrice normande Marialexie. \nTout public.
URL:https://www.normandielivre.fr/agenda-collaboratif/quest-ce-que-le-trouble-du-spectre-autistique/
LOCATION:Bibliothèque Saint-Sever (Rouen)\, Centre commercial St Sever. 1er étage\, Rouen\, 76100
CATEGORIES:Exposition
ATTACH;FMTTYPE=image/jpeg:https://www.normandielivre.fr/wp-content/uploads/2025/02/Expo-autisme-avril-Copyright-Marie-Alexie-Tanguy-scaled.jpg
ORGANIZER;CN="R%C3%A9seau des Biblioth%C3%A8ques de Rouen":MAILTO:bibliotheque@rouen.fr
END:VEVENT
BEGIN:VEVENT
DTSTART;VALUE=DATE:20250426
DTEND;VALUE=DATE:20250527
DTSTAMP:20260422T033024
CREATED:20250425T133650Z
LAST-MODIFIED:20250428T090215Z
UID:10002298-1745625600-1748303999@www.normandielivre.fr
SUMMARY:Exposition livres d'artistes et autres travaux artistiques
DESCRIPTION:Nouveau lieu d’exposition d’art contemporain\, ouvert en milieu rural en Suisse Normande. Les travaux de Sylvie Caty sont visibles les week-ends toute l’année : une occasion de découvrir le livre d’artiste\, une spécificité encore mal connue dans le domaine artistique. \nL’exposition permanente\, renouvelée régulièrement\, présente entre autres des livres d’artistes\, de l’art contemporain (des peintures\, des collages\, des dessins\, des photographies\, des gravures…) \nSi vous le souhaitez\, lors de votre visite\, Sylvie Caty peut vous accompagner dans sa démarche artistique. \nÀ savoir : si vous avez un coup de cœur sur une pièce quelconque\, vous pouvez l’emprunter durant un mois pour un prix libre. En cas d’achat\, le montant de cette location sera déduit du prix de l’œuvre.
URL:https://www.normandielivre.fr/agenda-collaboratif/exposition-livres-dartistes-et-autres-travaux-artistiques/
LOCATION:Atelier du Mesnil\, 10 route du mesnil\, ST OMER\, 14220\, France
CATEGORIES:Exposition
ATTACH;FMTTYPE=image/jpeg:https://www.normandielivre.fr/wp-content/uploads/2025/04/Faire-dans-la-dentelle-3-scaled.jpg
ORGANIZER;CN="Sylvie Caty":MAILTO:sylvie.caty@mailo.com
END:VEVENT
END:VCALENDAR