BEGIN:VCALENDAR
VERSION:2.0
PRODID:-//Normandie Livre &amp; Lecture - ECPv6.15.11//NONSGML v1.0//EN
CALSCALE:GREGORIAN
METHOD:PUBLISH
X-ORIGINAL-URL:https://www.normandielivre.fr
X-WR-CALDESC:Évènements pour Normandie Livre &amp; Lecture
REFRESH-INTERVAL;VALUE=DURATION:PT1H
X-Robots-Tag:noindex
X-PUBLISHED-TTL:PT1H
BEGIN:VTIMEZONE
TZID:Europe/Paris
BEGIN:DAYLIGHT
TZOFFSETFROM:+0100
TZOFFSETTO:+0200
TZNAME:CEST
DTSTART:20230326T010000
END:DAYLIGHT
BEGIN:STANDARD
TZOFFSETFROM:+0200
TZOFFSETTO:+0100
TZNAME:CET
DTSTART:20231029T010000
END:STANDARD
BEGIN:DAYLIGHT
TZOFFSETFROM:+0100
TZOFFSETTO:+0200
TZNAME:CEST
DTSTART:20240331T010000
END:DAYLIGHT
BEGIN:STANDARD
TZOFFSETFROM:+0200
TZOFFSETTO:+0100
TZNAME:CET
DTSTART:20241027T010000
END:STANDARD
BEGIN:DAYLIGHT
TZOFFSETFROM:+0100
TZOFFSETTO:+0200
TZNAME:CEST
DTSTART:20250330T010000
END:DAYLIGHT
BEGIN:STANDARD
TZOFFSETFROM:+0200
TZOFFSETTO:+0100
TZNAME:CET
DTSTART:20251026T010000
END:STANDARD
BEGIN:DAYLIGHT
TZOFFSETFROM:+0100
TZOFFSETTO:+0200
TZNAME:CEST
DTSTART:20260329T010000
END:DAYLIGHT
BEGIN:STANDARD
TZOFFSETFROM:+0200
TZOFFSETTO:+0100
TZNAME:CET
DTSTART:20261025T010000
END:STANDARD
END:VTIMEZONE
BEGIN:VEVENT
DTSTART;TZID=Europe/Paris:20241014T080000
DTEND;TZID=Europe/Paris:20250315T170000
DTSTAMP:20260422T053011
CREATED:20241209T103849Z
LAST-MODIFIED:20241209T103849Z
UID:10002055-1728892800-1742058000@www.normandielivre.fr
SUMMARY:Exposition « Dominotés ! Éphémères couvertures de papier »
DESCRIPTION:L’exposition patrimoniale est prolongée jusqu’en mars ! \nDominos : « images et œuvres de portraiture peintes et imprimées en papier\, et gravées en bois ou cuivre »\, Trésor de la langue française\, 1606. Avec leurs couleurs bigarrées et leurs motifs très graphiques\, les papiers dominotés ont connu leur heure de gloire au XVIIIe siècle. Bons marchés et populaires\, car imprimés en grande quantité grâce à des planches gravées\, ils décorent avec une imagerie à la mode les objets de la vie quotidienne\, comme les tiroirs\, les boîtes ou les coffrets. Ces papiers peuvent également servir de couverture temporaire pour les ouvrages en attente d’une reliure et parfois de couverture définitive pour les ouvrages qui n’auraient ensuite pas été reliés. \nBien que la production ait été à l’époque abondante\, rares sont donc les exemples qui nous sont parvenus de ces créations fragiles et souvent éphémères. La récente identification de près de 450 brochures recouvertes papiers dominotés français et européens au sein des 60 000 volumes de la collection Montbret\, léguée à la ville de Rouen en 1847\, est donc exceptionnelle. C’est pourquoi la bibliothèque patrimoniale vous invite à découvrir cet artisanat aux visuels résolument modernes lors de son exposition annuelle\, du 14 octobre 2024 au 14 février 2025. \nCommissariat : Michaël Monnier\, responsable de la conservation préventive\, bibliothèque municipale de Rouen.
URL:https://www.normandielivre.fr/agenda-collaboratif/exposition-dominotes-ephemeres-couvertures-de-papier-2/
LOCATION:Bibliothèque patrimoniale de Rouen\, 3\, rue Jacques Villon\, 76000\, Rouen
CATEGORIES:Exposition
ATTACH;FMTTYPE=image/jpeg:https://www.normandielivre.fr/wp-content/uploads/2024/12/Sucette-120x176-Affiche-Dominote-2024-V2_page-00011.jpg
ORGANIZER;CN="Biblioth%C3%A8que de Rouen":MAILTO:bibliotheque@rouen.fr
END:VEVENT
BEGIN:VEVENT
DTSTART;TZID=Europe/Paris:20250306T143000
DTEND;TZID=Europe/Paris:20250306T153000
DTSTAMP:20260422T053011
CREATED:20250211T075226Z
LAST-MODIFIED:20250211T075226Z
UID:10002139-1741271400-1741275000@www.normandielivre.fr
SUMMARY:Suivez le guide - Maison Jacques Prévert
DESCRIPTION:Laissez vous guider à travers les pièces de la Maison Jacques Prévert. Une visite commentée pour observer et imaginer la maison telle que Jacques et Janine Prévert l’ont connue. \nTarif : 8€/adulte et 5€/enfant\nSur réservation
URL:https://www.normandielivre.fr/agenda-collaboratif/suivez-le-guide-maison-jacques-prevert/2025-03-06/
LOCATION:Maison Jacques Prévert\, 3 Hameau du Val - OMonville-la-Petite\, La Hague\, 50440
CATEGORIES:Exposition
ATTACH;FMTTYPE=image/jpeg:https://www.normandielivre.fr/wp-content/uploads/2025/02/Suivez-le-guide.jpg
ORGANIZER;CN="Maison Jacques Pr%C3%A9vert":MAILTO:musee.omonville@manche.fr
END:VEVENT
BEGIN:VEVENT
DTSTART;VALUE=DATE:20250331
DTEND;VALUE=DATE:20250506
DTSTAMP:20260422T053011
CREATED:20250224T080223Z
LAST-MODIFIED:20250224T080223Z
UID:10002154-1743379200-1746489599@www.normandielivre.fr
SUMMARY:Qu'est ce que le Trouble du Spectre Autistique ?
DESCRIPTION:Du 31 mars au 5 mai 2025\, pour le mois de l’Autisme\, découvrez des planches en exposition de la bande dessinée « Le Bleu » de l’autrice normande Marialexie. \nTout public.
URL:https://www.normandielivre.fr/agenda-collaboratif/quest-ce-que-le-trouble-du-spectre-autistique/
LOCATION:Bibliothèque Saint-Sever (Rouen)\, Centre commercial St Sever. 1er étage\, Rouen\, 76100
CATEGORIES:Exposition
ATTACH;FMTTYPE=image/jpeg:https://www.normandielivre.fr/wp-content/uploads/2025/02/Expo-autisme-avril-Copyright-Marie-Alexie-Tanguy-scaled.jpg
ORGANIZER;CN="R%C3%A9seau des Biblioth%C3%A8ques de Rouen":MAILTO:bibliotheque@rouen.fr
END:VEVENT
END:VCALENDAR