BEGIN:VCALENDAR
VERSION:2.0
PRODID:-//Normandie Livre &amp; Lecture - ECPv6.15.11//NONSGML v1.0//EN
CALSCALE:GREGORIAN
METHOD:PUBLISH
X-ORIGINAL-URL:https://www.normandielivre.fr
X-WR-CALDESC:Évènements pour Normandie Livre &amp; Lecture
REFRESH-INTERVAL;VALUE=DURATION:PT1H
X-Robots-Tag:noindex
X-PUBLISHED-TTL:PT1H
BEGIN:VTIMEZONE
TZID:Europe/Paris
BEGIN:DAYLIGHT
TZOFFSETFROM:+0100
TZOFFSETTO:+0200
TZNAME:CEST
DTSTART:20220327T010000
END:DAYLIGHT
BEGIN:STANDARD
TZOFFSETFROM:+0200
TZOFFSETTO:+0100
TZNAME:CET
DTSTART:20221030T010000
END:STANDARD
BEGIN:DAYLIGHT
TZOFFSETFROM:+0100
TZOFFSETTO:+0200
TZNAME:CEST
DTSTART:20230326T010000
END:DAYLIGHT
BEGIN:STANDARD
TZOFFSETFROM:+0200
TZOFFSETTO:+0100
TZNAME:CET
DTSTART:20231029T010000
END:STANDARD
BEGIN:DAYLIGHT
TZOFFSETFROM:+0100
TZOFFSETTO:+0200
TZNAME:CEST
DTSTART:20240331T010000
END:DAYLIGHT
BEGIN:STANDARD
TZOFFSETFROM:+0200
TZOFFSETTO:+0100
TZNAME:CET
DTSTART:20241027T010000
END:STANDARD
END:VTIMEZONE
BEGIN:VEVENT
DTSTART;VALUE=DATE:20230912
DTEND;VALUE=DATE:20231004
DTSTAMP:20260423T200828
CREATED:20230721T101030Z
LAST-MODIFIED:20230721T101030Z
UID:10001599-1694476800-1696377599@www.normandielivre.fr
SUMMARY:Dives-sur-Mer : un siècle d'histoire
DESCRIPTION:En 1891\, Eugène Secrétan crée à Dives la société française d’électrométallurgie sur des terrains qui appartiennent à la « Société particulière de Port Guillaume »! Un siècle plus tard\, en 1991\, après la fermeture de l’usine devenue Tréfimétaux en 1967\, et sous le mandat du maire Francis Giffard\, un port de plaisance et un quartier résidentiel voient le jour sur le site même de l’usine : Port Guillaume. \nL’exposition « Un siècle d’histoire à Dives-sur-Mer » remonte le temps et explore décennie après décennie comment la ville a évolué\, en mettant en avant les animations\, l’urbanisme\, les écoles et l’usine. \nExposition proposée et réalisée par l’association Un fleuve pour la liberté\, la Dives
URL:https://www.normandielivre.fr/agenda-collaboratif/dives-sur-mer-un-siecle-dhistoire/
LOCATION:Médiathèque Jacques-Prévert\, Place du Commandant Charcot\, Dives-sur-Mer\, 14160
CATEGORIES:Exposition
ATTACH;FMTTYPE=image/jpeg:https://www.normandielivre.fr/wp-content/uploads/2023/07/202309-expo-un_siecle_dhistoire3.jpg
ORGANIZER;CN="M&eacute%3Bdiath&egrave%3Bque de Dives-sur-Mer":MAILTO:mediatheque@dives-sur-mer.fr
END:VEVENT
BEGIN:VEVENT
DTSTART;TZID=Europe/Paris:20230923T140000
DTEND;TZID=Europe/Paris:20231230T170000
DTSTAMP:20260423T200828
CREATED:20230929T102823Z
LAST-MODIFIED:20230929T102823Z
UID:10001639-1695477600-1703955600@www.normandielivre.fr
SUMMARY:Bizarre Bazar !
DESCRIPTION:Exposition de Julie Chapallaz \nUn monde familièrement étranger ou familièrement étrange ? \nVoilà comment tout commence pour Julie Chapallaz. \nArtiste protéiforme maniant le volume\, l’espace\, le trait\, les collages ou la vidéo. À chaque thème son outil ou sa forme d’expression pour en faire résonner au mieux le sens et sortir des cases. \nPrésentation de plusieurs projets en cours de l’artiste et auteure Julie Chapallaz.
URL:https://www.normandielivre.fr/agenda-collaboratif/bizarre-bazar/
LOCATION:Bibliothèque Jacques Prévert (Cherbourg)\, Place de la laïcité\, Cherbourg en Cotentin\, 50100\, France
CATEGORIES:Exposition
ATTACH;FMTTYPE=image/jpeg:https://www.normandielivre.fr/wp-content/uploads/2023/09/Bizzare-Bazar-homme-resonance.jpg
ORGANIZER;CN="biblioth&egrave%3Bque Jacques Pr&eacute%3Bvert":MAILTO:bibliotheque.prevert@cherbourg.fr ;
END:VEVENT
BEGIN:VEVENT
DTSTART;VALUE=DATE:20231005
DTEND;VALUE=DATE:20231029
DTSTAMP:20260423T200828
CREATED:20230901T070952Z
LAST-MODIFIED:20230901T070952Z
UID:10001631-1696464000-1698537599@www.normandielivre.fr
SUMMARY:Exposition. Dives-sur-Mer : Quand le boulevard était un canal
DESCRIPTION:L’exposition retrace l’origine du canal de Dives-sur-Mer\, son évolution au cours des années avec en particulier\, de nombreuses photos du canal « en sable ». \nCréé au milieu du 19ème siècle\, un canal de dessèchement de marais de la Dives séparait l’usine et les cités ouvrières du bourg historique de Dives\, où les écoles\, le marché et de nombreux commerçants étaient installés. Des ponts permettaient d’assurer la liaison. Dans les années 60\, le canal devenu insalubre\, a été busé et comblé par des tonnes de sable provenant des dunes de Franceville. \nAprès avoir servi de terrain de jeux et de « plage » pendant une décennie\, une « bretelle autoroutière » le boulevard Maurice Thorez a remplacé le canal en 1976. \nExposition proposée et réalisée par l’association Un fleuve pour la liberté\, la Dives.
URL:https://www.normandielivre.fr/agenda-collaboratif/exposition-dives-sur-mer-quand-le-boulevard-etait-un-canal/
LOCATION:Médiathèque Jacques-Prévert\, Place du Commandant Charcot\, Dives-sur-Mer\, 14160
CATEGORIES:Exposition
ATTACH;FMTTYPE=image/jpeg:https://www.normandielivre.fr/wp-content/uploads/2023/08/Vue-canal-scaled.jpg
ORGANIZER;CN="M&eacute%3Bdiath&egrave%3Bque de Dives-sur-Mer":MAILTO:mediatheque@dives-sur-mer.fr
END:VEVENT
BEGIN:VEVENT
DTSTART;TZID=Europe/Paris:20231013T100000
DTEND;TZID=Europe/Paris:20231117T190000
DTSTAMP:20260423T200828
CREATED:20230929T103230Z
LAST-MODIFIED:20230929T103416Z
UID:10001643-1697191200-1700247600@www.normandielivre.fr
SUMMARY:Exposition de photos
DESCRIPTION:Clara Minisini\, artiste de 23 ans\, de Luc-sur-Mer\, vous propose une partie de ses clichés argentiques et numériques\, noir et blanc et en couleur. \nPlus de détails sur claraminisini.com \nLes photos\, lors de l’exposition\, seront à vendre.
URL:https://www.normandielivre.fr/agenda-collaboratif/exposition-de-photos/
LOCATION:Librairie café Place 26\, 26\, place Lesage\, Douvres la Délivrande\, 14440
CATEGORIES:Exposition
ATTACH;FMTTYPE=image/png:https://www.normandielivre.fr/wp-content/uploads/2022/09/Capture-décran-2022-09-19-à-10.04.00-e1695983589295.png
ORGANIZER;CN="Librairie caf&eacute%3B Place 26":MAILTO:contact@place26.com
END:VEVENT
END:VCALENDAR