BEGIN:VCALENDAR
VERSION:2.0
PRODID:-//Normandie Livre &amp; Lecture - ECPv6.15.11//NONSGML v1.0//EN
CALSCALE:GREGORIAN
METHOD:PUBLISH
X-ORIGINAL-URL:https://www.normandielivre.fr
X-WR-CALDESC:Évènements pour Normandie Livre &amp; Lecture
REFRESH-INTERVAL;VALUE=DURATION:PT1H
X-Robots-Tag:noindex
X-PUBLISHED-TTL:PT1H
BEGIN:VTIMEZONE
TZID:Europe/Paris
BEGIN:DAYLIGHT
TZOFFSETFROM:+0100
TZOFFSETTO:+0200
TZNAME:CEST
DTSTART:20220327T010000
END:DAYLIGHT
BEGIN:STANDARD
TZOFFSETFROM:+0200
TZOFFSETTO:+0100
TZNAME:CET
DTSTART:20221030T010000
END:STANDARD
BEGIN:DAYLIGHT
TZOFFSETFROM:+0100
TZOFFSETTO:+0200
TZNAME:CEST
DTSTART:20230326T010000
END:DAYLIGHT
BEGIN:STANDARD
TZOFFSETFROM:+0200
TZOFFSETTO:+0100
TZNAME:CET
DTSTART:20231029T010000
END:STANDARD
BEGIN:DAYLIGHT
TZOFFSETFROM:+0100
TZOFFSETTO:+0200
TZNAME:CEST
DTSTART:20240331T010000
END:DAYLIGHT
BEGIN:STANDARD
TZOFFSETFROM:+0200
TZOFFSETTO:+0100
TZNAME:CET
DTSTART:20241027T010000
END:STANDARD
END:VTIMEZONE
BEGIN:VEVENT
DTSTART;VALUE=DATE:20230301
DTEND;VALUE=DATE:20230402
DTSTAMP:20260424T085327
CREATED:20230202T095926Z
LAST-MODIFIED:20230202T095926Z
UID:10001485-1677628800-1680393599@www.normandielivre.fr
SUMMARY:Exposition "La Nature au bout des doigts\, petit musée tactile"
DESCRIPTION:L’illustratrice et auteure de livre jeunesse Pénélope\, vient présenter à travers une exposition\, son travail autour du livre tactile\, véritable voyage avec les doigts et les yeux jetant un pont entre voyants et non-voyants.
URL:https://www.normandielivre.fr/agenda-collaboratif/exposition-la-nature-au-bout-des-doigts-petit-musee-tactile/
LOCATION:Médiathèque Jacques-Prévert\, Place du Commandant Charcot\, Dives-sur-Mer\, 14160
CATEGORIES:Exposition
ATTACH;FMTTYPE=image/jpeg:https://www.normandielivre.fr/wp-content/uploads/2023/02/lecture-tactile-yaourt-saussicon-cuillere-ecorce-feuilles-1.jpg
ORGANIZER;CN="M&eacute%3Bdiath&egrave%3Bque de Dives-sur-Mer":MAILTO:mediatheque@dives-sur-mer.fr
END:VEVENT
BEGIN:VEVENT
DTSTART;TZID=Europe/Paris:20230404T103000
DTEND;TZID=Europe/Paris:20230415T180000
DTSTAMP:20260424T085327
CREATED:20230214T124316Z
LAST-MODIFIED:20230214T124316Z
UID:10001290-1680604200-1681581600@www.normandielivre.fr
SUMMARY:Exposition "À la manière de Fernand Léger"
DESCRIPTION:Dans le cadre du projet Colorissimo\, lancé par l’association des bibliothécaires du « Bib’ Gang » (qui regroupe les bibliothèque de Cormelles-le-Royal\, Dives/Mer\, Honfleur\, Merville-Franceville\, Tourville-sur-Odon et Trouville-sur-Mer)\, l’exposition présentera les travaux des classes primaires des villes partenaires\, sur le thème de Fernand Léger. Une belle œuvre collective et colorée vous attendra.
URL:https://www.normandielivre.fr/agenda-collaboratif/exposition-a-la-maniere-de-fernand-leger/
LOCATION:Médiathèque Jacques-Prévert\, Place du Commandant Charcot\, Dives-sur-Mer\, 14160
CATEGORIES:Exposition
ATTACH;FMTTYPE=image/jpeg:https://www.normandielivre.fr/wp-content/uploads/2023/02/202304-expo_collective_Leger3.jpg
ORGANIZER;CN="M&eacute%3Bdiath&egrave%3Bque de Dives-sur-Mer":MAILTO:mediatheque@dives-sur-mer.fr
END:VEVENT
BEGIN:VEVENT
DTSTART;TZID=Europe/Paris:20230418T103000
DTEND;TZID=Europe/Paris:20230429T180000
DTSTAMP:20260424T085327
CREATED:20230214T124536Z
LAST-MODIFIED:20230214T124536Z
UID:10001296-1681813800-1682791200@www.normandielivre.fr
SUMMARY:Exposition "Le pouvoir des couleurs"
DESCRIPTION:Que disent les couleurs dans une illustration ? C’est ce que vous allez découvrir dans cette exposition constituée de 11 planches issues des albums de l’éditeur « L’école des loisirs ». \nDans le cadre de Colorissimo de l’association Bib’ Gang.
URL:https://www.normandielivre.fr/agenda-collaboratif/exposition-le-pouvoir-des-couleurs/
LOCATION:Médiathèque Jacques-Prévert\, Place du Commandant Charcot\, Dives-sur-Mer\, 14160
CATEGORIES:Exposition
ATTACH;FMTTYPE=image/jpeg:https://www.normandielivre.fr/wp-content/uploads/2023/02/202304-expo_le_pouvoir_couleurs3.jpg
ORGANIZER;CN="M&eacute%3Bdiath&egrave%3Bque de Dives-sur-Mer":MAILTO:mediatheque@dives-sur-mer.fr
END:VEVENT
END:VCALENDAR