BEGIN:VCALENDAR
VERSION:2.0
PRODID:-//Normandie Livre &amp; Lecture - ECPv6.15.11//NONSGML v1.0//EN
CALSCALE:GREGORIAN
METHOD:PUBLISH
X-ORIGINAL-URL:https://www.normandielivre.fr
X-WR-CALDESC:Évènements pour Normandie Livre &amp; Lecture
REFRESH-INTERVAL;VALUE=DURATION:PT1H
X-Robots-Tag:noindex
X-PUBLISHED-TTL:PT1H
BEGIN:VTIMEZONE
TZID:Europe/Paris
BEGIN:DAYLIGHT
TZOFFSETFROM:+0100
TZOFFSETTO:+0200
TZNAME:CEST
DTSTART:20240331T010000
END:DAYLIGHT
BEGIN:STANDARD
TZOFFSETFROM:+0200
TZOFFSETTO:+0100
TZNAME:CET
DTSTART:20241027T010000
END:STANDARD
BEGIN:DAYLIGHT
TZOFFSETFROM:+0100
TZOFFSETTO:+0200
TZNAME:CEST
DTSTART:20250330T010000
END:DAYLIGHT
BEGIN:STANDARD
TZOFFSETFROM:+0200
TZOFFSETTO:+0100
TZNAME:CET
DTSTART:20251026T010000
END:STANDARD
BEGIN:DAYLIGHT
TZOFFSETFROM:+0100
TZOFFSETTO:+0200
TZNAME:CEST
DTSTART:20260329T010000
END:DAYLIGHT
BEGIN:STANDARD
TZOFFSETFROM:+0200
TZOFFSETTO:+0100
TZNAME:CET
DTSTART:20261025T010000
END:STANDARD
END:VTIMEZONE
BEGIN:VEVENT
DTSTART;TZID=Europe/Paris:20251011T160000
DTEND;TZID=Europe/Paris:20251011T190000
DTSTAMP:20260421T010404
CREATED:20251003T095348Z
LAST-MODIFIED:20251003T095348Z
UID:10002580-1760198400-1760209200@www.normandielivre.fr
SUMMARY:Rencontre dédicace BD avec Benedicte Muller
DESCRIPTION:Benedicte Muller sera présente le samedi 11 octobre 2025 à la librairie pour dédicacer sa bande dessinée « la tête sur mes épaules » publiée aux éditions Atrabile. \nÉnorme coup de cœur pour son dessin et sa narration autour de l’enfance\, de la relation aux adultes\, de ce qui nous fait brutalement sortir de l’enfance.\nPrenant et surprenant ! \n✏️ En dédicace de 16h à 18h \n👥 En mode rencontre et échanges à 18h\nPour parler de son travail \nVenez rencontrer Benedicte Muller à partir de 16h à la librairie_legaragehermetique à luc.sur.mer.
URL:https://www.normandielivre.fr/agenda-collaboratif/rencontre-dedicace-bd-avec-benedicte-muller/
LOCATION:librairie le garage hermétique\, 5 rue de la brèche marais\, luc sur mer\, 14530
CATEGORIES:Dédicace,Rencontre
ATTACH;FMTTYPE=image/png:https://www.normandielivre.fr/wp-content/uploads/2025/10/Capture-decran-2025-09-27-a-16.10.29.png
ORGANIZER;CN="librairie le garage herm%C3%A9tique":MAILTO:librairie.legarage@gmail.com
END:VEVENT
END:VCALENDAR