BEGIN:VCALENDAR
VERSION:2.0
PRODID:-//Normandie Livre &amp; Lecture - ECPv6.15.11//NONSGML v1.0//EN
CALSCALE:GREGORIAN
METHOD:PUBLISH
X-WR-CALNAME:Normandie Livre &amp; Lecture
X-ORIGINAL-URL:https://www.normandielivre.fr
X-WR-CALDESC:Évènements pour Normandie Livre &amp; Lecture
REFRESH-INTERVAL;VALUE=DURATION:PT1H
X-Robots-Tag:noindex
X-PUBLISHED-TTL:PT1H
BEGIN:VTIMEZONE
TZID:Europe/Paris
BEGIN:DAYLIGHT
TZOFFSETFROM:+0100
TZOFFSETTO:+0200
TZNAME:CEST
DTSTART:20240331T010000
END:DAYLIGHT
BEGIN:STANDARD
TZOFFSETFROM:+0200
TZOFFSETTO:+0100
TZNAME:CET
DTSTART:20241027T010000
END:STANDARD
BEGIN:DAYLIGHT
TZOFFSETFROM:+0100
TZOFFSETTO:+0200
TZNAME:CEST
DTSTART:20250330T010000
END:DAYLIGHT
BEGIN:STANDARD
TZOFFSETFROM:+0200
TZOFFSETTO:+0100
TZNAME:CET
DTSTART:20251026T010000
END:STANDARD
BEGIN:DAYLIGHT
TZOFFSETFROM:+0100
TZOFFSETTO:+0200
TZNAME:CEST
DTSTART:20260329T010000
END:DAYLIGHT
BEGIN:STANDARD
TZOFFSETFROM:+0200
TZOFFSETTO:+0100
TZNAME:CET
DTSTART:20261025T010000
END:STANDARD
END:VTIMEZONE
BEGIN:VEVENT
DTSTART;TZID=Europe/Paris:20250920T150000
DTEND;TZID=Europe/Paris:20250920T170000
DTSTAMP:20260421T010416
CREATED:20250825T100139Z
LAST-MODIFIED:20250825T100139Z
UID:10002479-1758380400-1758387600@www.normandielivre.fr
SUMMARY:Dédicace avec Pauline Martin
DESCRIPTION:Alors que le nuit tombe et qu’il se prépare à aller dormir\, Léon fait son possible pour tenir le loup à distance. Chaque étape du coucher\, bain\, pipi\, lecture\, câlin\, est une excellente raison de lui refuser une visite ! Celui-ci est pourtant en route vers la maison de Léon : à pied\, en bateau ou à vélo\, il s’approche\, s’apprête à sonner à la porte\, tente d’entrer par la cheminée mais face aux refus répétés\, il finit par se décourager… Lorsque le loup rebrousse chemin c’est pour aller lui aussi se mettre au lit. Depuis\, le sien\, Léon lui dit « bonne nuit » ! Il peut dormir paisiblement… \n—————– \nPauline Martin est née en 1975. Elle abandonne des études de médecine et entre à l’Atelier de Sèvres puis à l’Institut des arts appliqués\, où elle suit les cours de Killoffer et rencontre Dupuy et Berberian. \nElle est autrice et illustratrice d’une cinquantaine d’albums jeunesse. Elle illustre depuis 2015 la série « Mon Amour » écrite par Astrid Desbordes ainsi que « Max et Lapin » avec la même autrice chez Nathan. Elle a imaginé la série « Bébé » pour les tout-petits et a publié Léon\, grand frère aux éditions La Partie. Elle vit et travaille à Paris.
URL:https://www.normandielivre.fr/agenda-collaboratif/dedicace-avec-pauline-martin/
LOCATION:Librairie L’Armitière\, 66 rue Jeanne D'Arc\, Rouen\, 76000
CATEGORIES:Dédicace
ATTACH;FMTTYPE=image/png:https://www.normandielivre.fr/wp-content/uploads/2025/08/PAULINE-MARTIN.png
END:VEVENT
END:VCALENDAR