BEGIN:VCALENDAR
VERSION:2.0
PRODID:-//Normandie Livre &amp; Lecture - ECPv6.15.11//NONSGML v1.0//EN
CALSCALE:GREGORIAN
METHOD:PUBLISH
X-WR-CALNAME:Normandie Livre &amp; Lecture
X-ORIGINAL-URL:https://www.normandielivre.fr
X-WR-CALDESC:Évènements pour Normandie Livre &amp; Lecture
REFRESH-INTERVAL;VALUE=DURATION:PT1H
X-Robots-Tag:noindex
X-PUBLISHED-TTL:PT1H
BEGIN:VTIMEZONE
TZID:Europe/Paris
BEGIN:DAYLIGHT
TZOFFSETFROM:+0100
TZOFFSETTO:+0200
TZNAME:CEST
DTSTART:20240331T010000
END:DAYLIGHT
BEGIN:STANDARD
TZOFFSETFROM:+0200
TZOFFSETTO:+0100
TZNAME:CET
DTSTART:20241027T010000
END:STANDARD
BEGIN:DAYLIGHT
TZOFFSETFROM:+0100
TZOFFSETTO:+0200
TZNAME:CEST
DTSTART:20250330T010000
END:DAYLIGHT
BEGIN:STANDARD
TZOFFSETFROM:+0200
TZOFFSETTO:+0100
TZNAME:CET
DTSTART:20251026T010000
END:STANDARD
BEGIN:DAYLIGHT
TZOFFSETFROM:+0100
TZOFFSETTO:+0200
TZNAME:CEST
DTSTART:20260329T010000
END:DAYLIGHT
BEGIN:STANDARD
TZOFFSETFROM:+0200
TZOFFSETTO:+0100
TZNAME:CET
DTSTART:20261025T010000
END:STANDARD
END:VTIMEZONE
BEGIN:VEVENT
DTSTART;TZID=Europe/Paris:20250507T140000
DTEND;TZID=Europe/Paris:20250507T183000
DTSTAMP:20260421T164750
CREATED:20250505T093814Z
LAST-MODIFIED:20250505T093814Z
UID:10002311-1746626400-1746642600@www.normandielivre.fr
SUMMARY:Dédicace Brigitte VIVIEN
DESCRIPTION:La librairie Cultura Leclerc de Bayeux invite la romancière Brigitte Vivien à dédicacer son dernier ouvrage Dames et Damnations.
URL:https://www.normandielivre.fr/agenda-collaboratif/dedicace-brigitte-vivien/
CATEGORIES:Dédicace
ATTACH;FMTTYPE=image/jpeg:https://www.normandielivre.fr/wp-content/uploads/2025/05/COUV6-scaled.jpg
END:VEVENT
BEGIN:VEVENT
DTSTART;VALUE=DATE:20250517
DTEND;VALUE=DATE:20250518
DTSTAMP:20260421T164750
CREATED:20250429T114959Z
LAST-MODIFIED:20250429T114959Z
UID:10002301-1747440000-1747526399@www.normandielivre.fr
SUMMARY:Deux dédicaces : Julys Thild et Charlie Jdan
DESCRIPTION:Rencontre-dédicace de deux auteures : Julys Thild d’une part\, jeune romancière et éditrice de titres fantasy et\, avec « Victoire »\, du portrait d’une jeune femme dyspraxique. \nD’autre part Charlie Jdan\, qui a écrit « L’ombre » (Diamant éditions)\, un titre de dark romance\, adapté aux lecteurs dys.
URL:https://www.normandielivre.fr/agenda-collaboratif/deux-dedicaces-julys-thild-et-charlie-jdan/
LOCATION:Librairie café Place 26\, 26\, place Lesage\, Douvres la Délivrande\, 14440
CATEGORIES:Dédicace
ATTACH;FMTTYPE=image/png:https://www.normandielivre.fr/wp-content/uploads/2022/09/Capture-décran-2022-09-19-à-10.04.00-e1695983589295.png
ORGANIZER;CN="Librairie caf&eacute%3B Place 26":MAILTO:contact@place26.com
END:VEVENT
BEGIN:VEVENT
DTSTART;TZID=Europe/Paris:20250517T143000
DTEND;TZID=Europe/Paris:20250517T173000
DTSTAMP:20260421T164750
CREATED:20250430T141829Z
LAST-MODIFIED:20250430T141903Z
UID:10002305-1747492200-1747503000@www.normandielivre.fr
SUMMARY:Séance de dédicaces avec Coline Pierré
DESCRIPTION:Au début il y a Leo. Elle a vu l’agression au lycée mais elle est restée sans voix. Et puis\, il y a la rencontre avec Maryam et la force des amitiés salvatrices\, de celles qui changent la vie et donnent le courage de se faire entendre. Seulement\, à quoi bon parler si personne n’écoute ? Une flamme s’allume et se propage. Et le silence devient plus bruyant que les mots. \n———————— \nColine Pierré est une écrivaine\, qui a publié son premier roman en 2013. Elle a écrit pour les adultes\, les adolescents et les enfants. \nElle a publié des romans\, de la poésie\, des albums et des nouvelles chez de nombreux éditeurs : L’Iconoclaste\, Daronnes\, Le Rouergue\, L’école des loisirs\, Flammarion\, Poulpe Fictions\, Mango… \nSon dernier roman\, sorti chez Flammarion Jeunesse et intitulé Le Silence est à nous\, est un roman engagé autour de la parole des victimes\, du féminisme et de l’identité de genre.
URL:https://www.normandielivre.fr/agenda-collaboratif/seance-de-dedicaces-avec-coline-pierre/
LOCATION:Librairie L’Armitière\, 66 rue Jeanne D'Arc\, Rouen\, 76000
CATEGORIES:Dédicace
ATTACH;FMTTYPE=image/png:https://www.normandielivre.fr/wp-content/uploads/2025/04/coline-pierre.png
END:VEVENT
BEGIN:VEVENT
DTSTART;TZID=Europe/Paris:20250529T110000
DTEND;TZID=Europe/Paris:20250529T123000
DTSTAMP:20260421T164750
CREATED:20250306T090155Z
LAST-MODIFIED:20250306T090558Z
UID:10002176-1748516400-1748521800@www.normandielivre.fr
SUMMARY:Séance dédicace Sophie Demange
DESCRIPTION:Sophie Demange dédicace son premier roman Les bouchères (L’iconoclaste) à la Librairie les Vagues.
URL:https://www.normandielivre.fr/agenda-collaboratif/seance-dedicace-sophie-demange/
LOCATION:librairie les vagues – Houlgate\, 36 rue du général leclerc\, Houlgate\, 14510
CATEGORIES:Dédicace
ATTACH;FMTTYPE=image/jpeg:https://www.normandielivre.fr/wp-content/uploads/2025/03/demange_sophie©marie_rouge-scaled.jpeg
ORGANIZER;CN="librairie les vagues":MAILTO:Librairie.lesvagues@gmail.com
END:VEVENT
BEGIN:VEVENT
DTSTART;TZID=Europe/Paris:20250531T140000
DTEND;TZID=Europe/Paris:20250531T180000
DTSTAMP:20260421T164750
CREATED:20250602T083854Z
LAST-MODIFIED:20250602T083854Z
UID:10002323-1748700000-1748714400@www.normandielivre.fr
SUMMARY:Dédicace David SNUG - Librairie Metropolis à Bayeux
DESCRIPTION:À l’occasion de la sortie de sa nouvelle BD « L’histoire de l’archéologie en toute modestie » parue aux éditions PHAE en février dernier\, David Snug dédicacera l’ouvrage à la librairie Métropolis à Bayeux ce samedi 31 mai de 14 h à 18 h.
URL:https://www.normandielivre.fr/agenda-collaboratif/dedicace-david-snug-librairie-metropolis-a-bayeux/
LOCATION:Librairie METROPOLIS\, 10 rue Saint-Malo\, BAYEUX\, 14400
CATEGORIES:Dédicace
ATTACH;FMTTYPE=image/jpeg:https://www.normandielivre.fr/wp-content/uploads/2025/05/978-2-9572241-3-5.jpg
ORGANIZER;CN="%C3%A9ditions PHAE":MAILTO:editionsphae@gmail.com
END:VEVENT
BEGIN:VEVENT
DTSTART;TZID=Europe/Paris:20250531T143000
DTEND;TZID=Europe/Paris:20250531T170000
DTSTAMP:20260421T164750
CREATED:20250515T092725Z
LAST-MODIFIED:20250515T092725Z
UID:10002317-1748701800-1748710800@www.normandielivre.fr
SUMMARY:Séance de dédicaces avec Roseline Hamel et Nassera Kermiche
DESCRIPTION:Elle est la sœur du père Hamel assassiné dans son église \nElle est la mère d’un des deux terroristes tués lors de l’assaut \nUNE AMITIÉ BOULEVERSANTE \n26 juillet 2016\, église de Saint-étienne-du-Rouvray.\nLe père Jacques Hamel est assassiné à l’arme blanche par deux jeunes djihadistes alors qu’il finit de célébrer la messe. \nDans le monde entier\, c’est la stupeur. En France\, le crime s’ajoute à la pire série d’attentats que le pays ait connue : Charlie Hebdo\, Bataclan\, Nice… \nPrès de dix ans plus tard\, c’est une incroyable amitié que raconte ce livre. Celle qui lie Roseline Hamel\, la sœur du prêtre\, à Nassera Kermiche\, la mère du terroriste Adel Kermiche. \nL’histoire de deux femmes qui ont payé le plus lourd tribut – le frère et le fils – au fanatisme et à la radicalisation. \nDeux femmes pour lesquelles cette amitié est devenue une évidence\, une ressource vitale\, l’issue nécessaire pour surmonter leur souffrance de sœur et de mère. \nLe journaliste Samuel Lieven a recueilli la parole de Roseline Hamel et de Nassera Kermiche. Il signe ici\, avec elles\, un récit exceptionnel.
URL:https://www.normandielivre.fr/agenda-collaboratif/seance-de-dedicaces-avec-roseline-hamel-et-nassera-kermiche/
LOCATION:Librairie L’Armitière\, 66 rue Jeanne D'Arc\, Rouen\, 76000
CATEGORIES:Dédicace
ATTACH;FMTTYPE=image/png:https://www.normandielivre.fr/wp-content/uploads/2025/05/Marceline.png
END:VEVENT
END:VCALENDAR