BEGIN:VCALENDAR
VERSION:2.0
PRODID:-//Normandie Livre &amp; Lecture - ECPv6.15.11//NONSGML v1.0//EN
CALSCALE:GREGORIAN
METHOD:PUBLISH
X-WR-CALNAME:Normandie Livre &amp; Lecture
X-ORIGINAL-URL:https://www.normandielivre.fr
X-WR-CALDESC:Évènements pour Normandie Livre &amp; Lecture
REFRESH-INTERVAL;VALUE=DURATION:PT1H
X-Robots-Tag:noindex
X-PUBLISHED-TTL:PT1H
BEGIN:VTIMEZONE
TZID:Europe/Paris
BEGIN:DAYLIGHT
TZOFFSETFROM:+0100
TZOFFSETTO:+0200
TZNAME:CEST
DTSTART:20240331T010000
END:DAYLIGHT
BEGIN:STANDARD
TZOFFSETFROM:+0200
TZOFFSETTO:+0100
TZNAME:CET
DTSTART:20241027T010000
END:STANDARD
BEGIN:DAYLIGHT
TZOFFSETFROM:+0100
TZOFFSETTO:+0200
TZNAME:CEST
DTSTART:20250330T010000
END:DAYLIGHT
BEGIN:STANDARD
TZOFFSETFROM:+0200
TZOFFSETTO:+0100
TZNAME:CET
DTSTART:20251026T010000
END:STANDARD
BEGIN:DAYLIGHT
TZOFFSETFROM:+0100
TZOFFSETTO:+0200
TZNAME:CEST
DTSTART:20260329T010000
END:DAYLIGHT
BEGIN:STANDARD
TZOFFSETFROM:+0200
TZOFFSETTO:+0100
TZNAME:CET
DTSTART:20261025T010000
END:STANDARD
END:VTIMEZONE
BEGIN:VEVENT
DTSTART;TZID=Europe/Paris:20250315T150000
DTEND;TZID=Europe/Paris:20250315T180000
DTSTAMP:20260421T183920
CREATED:20250220T125911Z
LAST-MODIFIED:20250220T130130Z
UID:10002152-1742050800-1742061600@www.normandielivre.fr
SUMMARY:Séance de dédicaces avec Virginie Kamara
DESCRIPTION:Virginie a toujours été une battante. Vivante\, rigolote\, toujours partante\, elle aime fort ceux qui l’entourent et se donne entièrement dans tout ce qu’elle entreprend. Avec elle il n’y a pas de demi-mesure\, elle est entière\, franche et sans filtre. Entrepreneur dans l’âme\, elle aime les nouveaux projets et n’a pas peur de se lancer. Il faut que ça bouge et que ça aille vite pour ne pas l’ennuyer ! Son ambition est de s’éclater dans ce qu’elle réalise.\nElle est de celles pour qui\, dès l’enfance\, on ne se fait pas de souci et dont on est certain qu’elle arrivera exactement où elle le souhaite dans la vie. \nMalgré ces bonnes prédispositions\, elle va rencontrer sur son chemin qui semblait tracé d’avance\, des moments un peu plus compliqués. Des pets chocs\, des doutes\, des souffrances qui fragilisent et laissent des cicatrices insidieusement\, l’air de rien. Et puis un peu plus. Finalement la vie qu’elle envisageait sans embuche\, ne l’épargne pas. Les séparations\, la maladie des proches\, les responsabilités multiples\, le travail à outrance\, la famille\, le stress qui la ronge\, le corps qui fatigue… l’obligent à se mettre en mode automatique pour ne pas sombrer sous le poids des difficultés. \nElle passe\, au fil des années et sans même s’en rendre compte\, d’une vie légère et insouciante au mode survie\, gestion des urgences\, et oubli de soi. Son caractère et sa force intérieure lui permettent de tenir la tête hors de l’eau et de faire illusion pendant plusieurs années\, jusqu’au jour où l’évènement ultime\, qu’elle appelle pudiquement sa « goutte d’eau » l’achève et la brise complètement. \nEn un claquement de doigts\, elle est passée d’une femme active qui\, malgré les difficultés\, tenait bon\, au statut de malade souffrant d’un burn out. Un burn out sévère. Pendant de nombreux mois elle sera incapable de se lever\, de travailler\, ni même de s’occuper de ses enfants\, et devra chercher au plus profond d’elle-même la simple envie de rester en vie. Il lui faudra vivre cette douloureuse étape\, accepter de sombrer et de se faire aider par des professionnels\, les médicaments et son entourage pour enfin réussir à s’accrocher et remonter très lentement. Chaque étape est un pas vers la guérison. \nCependant Virginie comprendra que tenter de se reconstruire et d’aller mieux ne suffit pas. Elle ne veut surtout pas redevenir la personne qu’elle était avant le burn out : les mêmes causes provoquent les mêmes effets. Elle prendra alors le temps de démêler tous les process qui l’ont fait plonger afin de ne surtout pas y retourner. Son témoignage\, tendre et plein d’humour est un message d’espoir et une bouée à laquelle se raccrocher. Car sa conclusion\, certes quelques années après\, est que son burn out\, aussi douloureux qu’il ait été\, a été un cadeau pour la suite de sa vie. \n——— \nVirginie KAMARA voit le jour le 14 août 1975 à Mont Saint Aignan en Normandie. Pleine de vie et d’énergie\, sa vie professionnelle a toujours été très remplie\, pleine de projets et de nouvelles aventures entrepreneuriales dans le transport et l’équipement sportif. Son temps libre est dédié aux siens\, à ses enfants\, sa famille et ses amis. Toute cette agitation lui fait oublier de prendre soin d’elle. Elle donne sans compter\, sans se préserver ni écouter les signaux que son corps lui envoie jusqu’à sombrer dans un burn out sérieux en 2013.C’est son histoire qu’elle raconte dans son premier livre intitulé « j’ai visité le burn out. C’est pas fou mais on en revient ! ». Le cheminement vers le burn out\, la douleur de l’expérience\, les outils mis en place pour en sortir\, et surtout la chance d’en sortir et de pouvoir recommencer\, plus forte de cette introspection forcée. Son message est porteur d’espoir. Il dédiabolise le burn out dont 40% des salariés souffrent\, et veut remettre à sa juste place l’importance de prendre soin de sa santé mentale. \nDepuis la sortie de son livre\, Virginie porte son message de prévention lors de conférences et séminaires.
URL:https://www.normandielivre.fr/agenda-collaboratif/seance-de-dedicaces-avec-virginie-kamara/
LOCATION:L’Armitière\, 66 rue Jeanne D'Arc\, Rouen\, 76000
CATEGORIES:Dédicace
ATTACH;FMTTYPE=image/png:https://www.normandielivre.fr/wp-content/uploads/2025/02/Virginie-Kamara.png
END:VEVENT
BEGIN:VEVENT
DTSTART;TZID=Europe/Paris:20250315T160000
DTEND;TZID=Europe/Paris:20250315T180000
DTSTAMP:20260421T183920
CREATED:20250228T092850Z
LAST-MODIFIED:20250228T092850Z
UID:10002167-1742054400-1742061600@www.normandielivre.fr
SUMMARY:Dédicace du roman "J'écrirai le printemps" par Isabelle Augereau
DESCRIPTION:Dédicace d’Isabelle Augereau aux mots Ephémères ! \nIsabelle Augereau propose dans J’écrirai le printemps une fine exploration du couple à travers une architecture précise et atypique.\nUn premier roman d’une grande sobriété tant par ses silences que sa poésie envoûtante\, son style épuré\, son écriture géographique\, l’élégance des regards que l’auteure pose sur ses personnages. La nature\, tout au long\, y tient une place importante\, comme pour faire taire un monde qui va souvent trop vite.\nIsabelle Augereau fait apparaître le mystère des êtres toujours avec autant de finesse et de délicatesse\, comme le ferait une dentelière \nMots de l’autrice : \n« L’intention première de ce roman était d’écrire l’histoire d’un grand amour. Or rien n’est plus banal et peu attendu en littérature qu’une énième histoire d’amour. J’ai donc cherché d’autres chemins\, d’autres résonances\, d’autres formes pour raconter cette histoire de façon singulière et originale. Me l’approprier. Ce pourquoi\, j’ai voulu ce texte au croisement de plusieurs formes littéraires où s’entremêlent prose classique\, dialogues et poésie libre. Presque comme un chant ». \nOriginaire du Havre\, Isabelle Augereau est auteure d’un roman et de nouvelles. Après un bac littéraire\, elle poursuit des études de langues étrangères et commerce international à Paris\, puis part étudier deux ans en Angleterre. Attirée par l’étranger\, elle s’installe ensuite à Londres où elle travaille pendant six ans dans la production et l’édition musicale en tant que cheffe de projets internationale. \nElle vit aujourd’hui à Paris et se consacre à l’écriture depuis une dizaine d’années. \nEn 2020\, elle publie son premier recueil de nouvelles @Coro.narration chez Christophe Chomant Éditeur\, suivi six mois plus tard d’une traduction anglaise sous le titre @Coro.narrating (traduction par l’auteure). Son deuxième recueil de nouvelles Quelque part dans ce monde est publié en 2022 chez le même éditeur.\nSon premier roman J’écrirai le printemps est paru le 25 avril 2024. \nL’autrice sera également présente en soirée pour une lecture théâtralisée de son livre !
URL:https://www.normandielivre.fr/agenda-collaboratif/dedicace-du-roman-jecrirai-le-printemps-par-isabelle-augereau/
LOCATION:librairie café théatre Les Mots Ephémères\, All. François Mitterrand Hangar 105\,\, Rouen\, 76100
CATEGORIES:Dédicace
ATTACH;FMTTYPE=image/jpeg:https://www.normandielivre.fr/wp-content/uploads/2025/02/Dedicace-Les-Mots-Ephemeres.jpg
END:VEVENT
BEGIN:VEVENT
DTSTART;TZID=Europe/Paris:20250321T093000
DTEND;TZID=Europe/Paris:20250321T120000
DTSTAMP:20260421T183920
CREATED:20250317T112940Z
LAST-MODIFIED:20250317T112940Z
UID:10002184-1742549400-1742558400@www.normandielivre.fr
SUMMARY:Rencontre et dédicace - Guylaine BISSON : "Le prix de vertu" (saga historique)
DESCRIPTION:Rendez-vous avec Guylaine Bisson\, auteure de la saga historique « Le prix de vertu » \nVenez découvrir la vie de Marie Lelandais née à Saint-Fraimbault (61). une histoire authentique et méconnue d’une normande au 19é siècle \nPlus de renseignements sur le site Internet : http://www.leprixdevertu.com \nVendredi 21 mars de 9 h 30 à 12 h\, La Civette du Panorama\, 14\, rue Saint-Julien\, Domfront-en-Poiraie. Contact: guyllecture@gmail.com\,
URL:https://www.normandielivre.fr/agenda-collaboratif/rencontre-et-dedicace-guylaine-bisson-le-prix-de-vertu-saga-historique-2/
LOCATION:61700 Domfront en Poiraie\, Place de la Roirie\, Domfront en Poiraie\, 61700
CATEGORIES:Dédicace,Rencontre
ATTACH;FMTTYPE=image/jpeg:https://www.normandielivre.fr/wp-content/uploads/2025/03/redim-scaled.jpg
END:VEVENT
BEGIN:VEVENT
DTSTART;TZID=Europe/Paris:20250322T093000
DTEND;TZID=Europe/Paris:20250322T120000
DTSTAMP:20260421T183920
CREATED:20250317T110623Z
LAST-MODIFIED:20250317T110623Z
UID:10002185-1742635800-1742644800@www.normandielivre.fr
SUMMARY:Rencontre et dédicace - Guylaine BISSON : "Le prix de vertu" (saga historique)
DESCRIPTION:Rendez-vous à PASSAIS VILLAGES pour une rencontre autour de la saga historique : LE PRIX DE VERTU de GUYLAINE BISSON (1789/1902) \nDécouvrez la vie authentique et méconnue de Marie Lelandais née à ST FRAIMBAULT (61) \nMaison de la Presse – PASSAIS VILLAGES – SAMEDI 22 MARS 9H30/12H00
URL:https://www.normandielivre.fr/agenda-collaboratif/rencontre-et-dedicace-guylaine-bisson-le-prix-de-vertu-saga-historique/
LOCATION:MAISON DE LA PRESSE place du marché PASSAIS VILLAGES 61\, Maison de la presse\, PASSAIS VILLAGES\, 61700
CATEGORIES:Dédicace,Rencontre
ATTACH;FMTTYPE=image/png:https://www.normandielivre.fr/wp-content/uploads/2025/03/3-1.png
END:VEVENT
END:VCALENDAR