BEGIN:VCALENDAR
VERSION:2.0
PRODID:-//Normandie Livre &amp; Lecture - ECPv6.15.11//NONSGML v1.0//EN
CALSCALE:GREGORIAN
METHOD:PUBLISH
X-ORIGINAL-URL:https://www.normandielivre.fr
X-WR-CALDESC:Évènements pour Normandie Livre &amp; Lecture
REFRESH-INTERVAL;VALUE=DURATION:PT1H
X-Robots-Tag:noindex
X-PUBLISHED-TTL:PT1H
BEGIN:VTIMEZONE
TZID:Europe/Paris
BEGIN:DAYLIGHT
TZOFFSETFROM:+0100
TZOFFSETTO:+0200
TZNAME:CEST
DTSTART:20240331T010000
END:DAYLIGHT
BEGIN:STANDARD
TZOFFSETFROM:+0200
TZOFFSETTO:+0100
TZNAME:CET
DTSTART:20241027T010000
END:STANDARD
BEGIN:DAYLIGHT
TZOFFSETFROM:+0100
TZOFFSETTO:+0200
TZNAME:CEST
DTSTART:20250330T010000
END:DAYLIGHT
BEGIN:STANDARD
TZOFFSETFROM:+0200
TZOFFSETTO:+0100
TZNAME:CET
DTSTART:20251026T010000
END:STANDARD
BEGIN:DAYLIGHT
TZOFFSETFROM:+0100
TZOFFSETTO:+0200
TZNAME:CEST
DTSTART:20260329T010000
END:DAYLIGHT
BEGIN:STANDARD
TZOFFSETFROM:+0200
TZOFFSETTO:+0100
TZNAME:CET
DTSTART:20261025T010000
END:STANDARD
END:VTIMEZONE
BEGIN:VEVENT
DTSTART;TZID=Europe/Paris:20250118T143000
DTEND;TZID=Europe/Paris:20250118T160000
DTSTAMP:20260422T001041
CREATED:20241213T133523Z
LAST-MODIFIED:20250116T084443Z
UID:10002069-1737210600-1737216000@www.normandielivre.fr
SUMMARY:// RENCONTRE ANNULEE// Série noire à Sommery : rencontre avec 2 auteurs et 1 autrice de polars : Christine Chaumartin\, Alain Decker et Stanislas Petrosky
DESCRIPTION:// RENCONTRE ANNULEE//\nL’autrice Christine Chaumartin et les auteurs Alain Decker et Stanislas Petrosky viendront à la rencontre des lecteurs et lectrices de la médiathèque municipale de Sommery (76).  \nA 14h30\, entretien avec les auteurs et autrice\, suivi d’un temps de dédicace et d’un verre de l’amitié. \nModération : Gaëlle Lefranc \nÀ partir de quel âge : Public adulte \nRéservation : 02 35 09 68 36 ou par mail bib.sommery@wanadoo.fr \n\nRencontre organisée dans le cadre de l’événement Lire en hiver. \nLire en Hiver\, c’est le meilleur moment pour découvrir les actualités des auteurs\, autrices et maisons d’édition normands\, au plus près de chez vous. Du 14 janvier au 2 février\, partez à la découverte d’univers artistiques et littéraires variés\, dans les bibliothèques et librairies de Normandie. Renseignements : https://www.normandielivre.fr/lire-en-hiver/ 
URL:https://www.normandielivre.fr/agenda-collaboratif/serie-noire-a-sommery-rencontre-avec-3-auteurs-de-polars/
LOCATION:Médiathèque de Sommery\, 22 Rue de la Gare\, Sommery\, 76430
CATEGORIES:Dédicace,Lire en hiver,Rencontre
ATTACH;FMTTYPE=image/png:https://www.normandielivre.fr/wp-content/uploads/2024/12/5.png
END:VEVENT
BEGIN:VEVENT
DTSTART;TZID=Europe/Paris:20250119T113000
DTEND;TZID=Europe/Paris:20250119T133000
DTSTAMP:20260422T001041
CREATED:20241213T135902Z
LAST-MODIFIED:20241216T132814Z
UID:10002072-1737286200-1737293400@www.normandielivre.fr
SUMMARY:Rencontre Pour saluer Robert Louis Stevenson avec Andrew O’Hagan et les éditions 2\,3 choses
DESCRIPTION:Pour saluer Robert Louis Stevenson – rencontre avec l’auteur Andrew O’Hagan et l’éditrice normande Adelaïde Martinez (Éditions 2\,3 choses)\, animée par la revue Michel suivie d’une séance de dédicaces. \nCette rencontre aura lieu à la librairie La Galerne\, Le Havre (76) dans le cadre du festival Le Goût des autres.  \nRencontre organisée dans le cadre de l’événement Lire en hiver. \nLire en Hiver\, c’est le meilleur moment pour découvrir les actualités des auteurs\, autrices et maisons d’édition normands\, au plus près de chez vous. Du 14 janvier au 2 février\, partez à la découverte d’univers artistiques et littéraires variés\, dans les bibliothèques et librairies de Normandie. Renseignements : https://www.normandielivre.fr/lire-en-hiver/ 
URL:https://www.normandielivre.fr/agenda-collaboratif/rencontre-pour-saluer-robert-louis-stevenson-avec-lauteur-andrew-ohagan-et-leditrice-normande-adelaide-martinez-editions-23-choses/
LOCATION:Librairie La Galerne\, 148 rue Victor Hugo\, Le Havre\, 76600
CATEGORIES:Dédicace,Lire en hiver,Rencontre
ATTACH;FMTTYPE=image/png:https://www.normandielivre.fr/wp-content/uploads/2024/12/8-1.png
END:VEVENT
END:VCALENDAR