BEGIN:VCALENDAR
VERSION:2.0
PRODID:-//Normandie Livre &amp; Lecture - ECPv6.15.11//NONSGML v1.0//EN
CALSCALE:GREGORIAN
METHOD:PUBLISH
X-WR-CALNAME:Normandie Livre &amp; Lecture
X-ORIGINAL-URL:https://www.normandielivre.fr
X-WR-CALDESC:Évènements pour Normandie Livre &amp; Lecture
REFRESH-INTERVAL;VALUE=DURATION:PT1H
X-Robots-Tag:noindex
X-PUBLISHED-TTL:PT1H
BEGIN:VTIMEZONE
TZID:Europe/Paris
BEGIN:DAYLIGHT
TZOFFSETFROM:+0100
TZOFFSETTO:+0200
TZNAME:CEST
DTSTART:20230326T010000
END:DAYLIGHT
BEGIN:STANDARD
TZOFFSETFROM:+0200
TZOFFSETTO:+0100
TZNAME:CET
DTSTART:20231029T010000
END:STANDARD
BEGIN:DAYLIGHT
TZOFFSETFROM:+0100
TZOFFSETTO:+0200
TZNAME:CEST
DTSTART:20240331T010000
END:DAYLIGHT
BEGIN:STANDARD
TZOFFSETFROM:+0200
TZOFFSETTO:+0100
TZNAME:CET
DTSTART:20241027T010000
END:STANDARD
BEGIN:DAYLIGHT
TZOFFSETFROM:+0100
TZOFFSETTO:+0200
TZNAME:CEST
DTSTART:20250330T010000
END:DAYLIGHT
BEGIN:STANDARD
TZOFFSETFROM:+0200
TZOFFSETTO:+0100
TZNAME:CET
DTSTART:20251026T010000
END:STANDARD
END:VTIMEZONE
BEGIN:VEVENT
DTSTART;TZID=Europe/Paris:20241204T153000
DTEND;TZID=Europe/Paris:20241204T173000
DTSTAMP:20260422T020457
CREATED:20241126T112834Z
LAST-MODIFIED:20241126T112834Z
UID:10002052-1733326200-1733333400@www.normandielivre.fr
SUMMARY:Dédicaces et concours de pull moche avec Ana Scott et Natacha Pilorge
DESCRIPTION:Retrouvez Ana Scott et Natacha Pilorge lors d’une dédicace et tentez de remporter un cadeau en participant à notre concours de pull moche ! \nUn highlander sous le sapin – Ana Scott \nWelcome to Scotland ! Lorsque sa famille lui offre le voyage de ses rêves dans les Highlands pour Noël\, Romy est bien décidée à oublier sa récente rupture et à en profiter pleinement. À elle les châteaux\, les lochs et les paysages sauvages ! Mais elle ne s’attendait pas à rencontrer un véritable Highlander dès son arrivée. Même si elle sait que la réalité ne ressemble pas à une série télé\, Romy se laisse peu à peu charmer par Archie. Au diable la prudence ! Après tout\, c’est peut-être ainsi qu’elle vivra le plus féerique des Noëls. \n—— \nKyllä\, je passe Noël en Laponie – Natasha Pilorge\nMeilleurs ennemis\, Léo et Isaline se connaissent depuis des années et sont membres d’un groupe d’amis inséparables. Leur lien : Hugo. Le pilier de la bande a malheureusement disparu des suites d’une longue maladie mais a laissé ses instructions à Léo : redonner le sourire à Isaline et lui faire vivre son rêve de passer Noël en Laponie. Ni une ni deux\, ils s’envolent tous pour un voyage inoubliable. Au programme : la ferme des rennes\, aurores boréales\, jacuzzi et bains glacés ! Léo et Isaline sauront-ils enterrer la hache de guerre et se découvrir au pays du père Noël ?
URL:https://www.normandielivre.fr/agenda-collaboratif/dedicaces-et-concours-de-pull-moche-avec-ana-scott-et-natacha-pilorge/
CATEGORIES:Dédicace
ATTACH;FMTTYPE=image/png:https://www.normandielivre.fr/wp-content/uploads/2024/11/Ana-Scott-et-Natacha-Pilorge.png
ORGANIZER;CN="L'Armiti&egrave%3Bre":MAILTO:armitiere.cm@gmail.com
END:VEVENT
BEGIN:VEVENT
DTSTART;TZID=Europe/Paris:20241207T150000
DTEND;TZID=Europe/Paris:20241207T190000
DTSTAMP:20260422T020457
CREATED:20241030T143949Z
LAST-MODIFIED:20241030T143949Z
UID:10002031-1733583600-1733598000@www.normandielivre.fr
SUMMARY:Dédicace avec Christophe Ronel
DESCRIPTION:Cet ouvrage est consacré aux oeuvres foisonnantes de Christophe Ronel. Très actif en Normandie dont il est originaire\, Christophe Ronel parcourt le monde et traduit dans ses oeuvres les émotions qu’il a ressenties. Il nous fait éprouver les plaisirs d’un exotisme renouvelé. De la Méditerranée à la mer de Chine\, il nous fait découvrir à travers le décor époustouflant une humanité tout à la fois singulière et la même. Son travail généreux dans les couleurs et les matières comme dans les sujets définit par la peinture un nouvel humanisme. \n——— \nAgrégé en arts plastiques\, Christophe Ronel\, peintre de réputation internationale\, enseigne à l’Ecole Nationale Supérieure des Arts Appliqués et Métiers d’Arts Olivier de Serres à Paris à partir de 1990. \nAgrégé en arts plastiques\, Ronel enseigne à l’Ecole Nationale Supérieure des Arts Appliqués et Métiers d’Arts Olivier de Serres à Paris à partir de 1990. \nDepuis une trentaine d’années\, plus de quatre-vingt expositions personnelles lui ont été consacrées\, en France et à l’étranger\, aussi bien dans les galeries qu’en centres culturels et musées.
URL:https://www.normandielivre.fr/agenda-collaboratif/dedicace-avec-christophe-ronel/
LOCATION:Librairie L’Armitière\, 66 rue Jeanne D'Arc\, Rouen\, 76000
CATEGORIES:Dédicace
ATTACH;FMTTYPE=image/png:https://www.normandielivre.fr/wp-content/uploads/2024/10/Ronel-reseaux-1.png
END:VEVENT
BEGIN:VEVENT
DTSTART;TZID=Europe/Paris:20241214T150000
DTEND;TZID=Europe/Paris:20241214T180000
DTSTAMP:20260422T020457
CREATED:20241212T161442Z
LAST-MODIFIED:20241212T161442Z
UID:10002061-1734188400-1734199200@www.normandielivre.fr
SUMMARY:Dédicace avec Bénédicte Duthion et Jacques Tanguy
DESCRIPTION:Fruit de plusieurs années de recherche\, ce livre présente une trentaine d’ églises paroissiales et établissements religieux situés à Rouen\, montrant la richesse de cette ville à travers les époques et en mettant en valeur les caractéristiques de ces lieux de culte. Les textes sont illustrés par les belles images de Thomas Boivin. \n—————————- \nJacques Tanguy\, venu pour faire ses études à Rouen\, s’est pris de passion pour la ville. Après des études universitaires d’histoire\, il a enseigné dans la région\, en particulier à l’École normale d’instituteurs de Mont-Saint-Aignan. \nGuide conférencier depuis avril 1972\, il est l’auteur de nombreux livres sur la ville de Rouen.\nThomas Boivin\, photographe rouennais\, a pour terrains de jeux favoris les lieux mystérieux ou inaccessibles. Il a réalisé Rouen Panoramique et a collaboré à de nombreux ouvrages aux Éditions des Falaises.
URL:https://www.normandielivre.fr/agenda-collaboratif/dedicace-avec-benedicte-duthion-et-jacques-tanguy/
LOCATION:L’Armitière\, 66 rue Jeanne D'Arc\, Rouen\, 76000
CATEGORIES:Dédicace
ATTACH;FMTTYPE=image/png:https://www.normandielivre.fr/wp-content/uploads/2024/12/Alet-IG-OK-1.png
END:VEVENT
BEGIN:VEVENT
DTSTART;TZID=Europe/Paris:20241214T160000
DTEND;TZID=Europe/Paris:20241214T180000
DTSTAMP:20260422T020457
CREATED:20241014T150355Z
LAST-MODIFIED:20241014T150355Z
UID:10002010-1734192000-1734199200@www.normandielivre.fr
SUMMARY:Alain Decker : "Jours de ténèbres"\, polar
DESCRIPTION:L’auteur de Ouistreham aux attaches caennaises\, nous embarque en Californie\, avec ce polar édité désormais chez Pocket\, lauréat du Grand Prix des enquêteurs 2023. \nVenez le rencontrer et (vous) offrir une dédicace!
URL:https://www.normandielivre.fr/agenda-collaboratif/alain-decker-jours-de-tenebres-polar/
LOCATION:Librairie café Place 26\, 26\, place Lesage\, Douvres la Délivrande\, 14440
CATEGORIES:Dédicace
ATTACH;FMTTYPE=image/png:https://www.normandielivre.fr/wp-content/uploads/2022/09/Capture-décran-2022-09-19-à-10.04.00-e1695983589295.png
ORGANIZER;CN="Librairie caf&eacute%3B Place 26":MAILTO:contact@place26.com
END:VEVENT
BEGIN:VEVENT
DTSTART;TZID=Europe/Paris:20241220T090000
DTEND;TZID=Europe/Paris:20241221T180000
DTSTAMP:20260422T020457
CREATED:20241212T103450Z
LAST-MODIFIED:20241212T103450Z
UID:10002060-1734685200-1734804000@www.normandielivre.fr
SUMMARY:Dominique Letellier signe ses 5 romans à la Maison de la Presse de Sotteville-lès-Rouen les 20/21 décembre 2024
DESCRIPTION:Née à Rouen\, Dominique Letellier aura le plaisir de dédicacer ses 5 romans à la Maison de la Presse de Sotteville-lès-Rouen le vendredi 20 et le samedi 21 décembre 2024 (9h à 12h\, de 14h30 à 18h). L’action de trois de ses œuvres se déroule dans la préfecture de la Seine-Maritime\, dans le département même. Le concept original de « Moteur ! Nous jouons ! » permet à ses lecteurs de découvrir le patrimoine exceptionnel de Rouen sous le signe du cinéma\, des rires. \nDominique Letellier signera aussi bien sûr « Aventures à Lausanne »\, présenté en avant-première à… Lausanne en Suisse le 14 juillet 2024. Les amoureux de la lecture suivent les péripéties de ses héros entre filatures\, surveillances et missions d’infiltration au bord du Léman. Tous les adversaires ont la même devise : A malin\, malin et demi !
URL:https://www.normandielivre.fr/agenda-collaboratif/dominique-letellier-signe-ses-5-romans-a-la-maison-de-la-presse-de-sotteville-les-rouen-les-20-21-decembre-2024/
LOCATION:Maison de la Presse – Sotteville-lès-Rouen\, 33\, Place de l'Hôtel de ville\, Sotteville-lès-Rouen\, 76300
CATEGORIES:Dédicace
ATTACH;FMTTYPE=image/jpeg:https://www.normandielivre.fr/wp-content/uploads/2024/12/DominiqueLetellierAventuresALausanne9782951898554Couv.jpg
ORGANIZER;CN="Les Editions de l'Aventure":MAILTO:communication@editionsdelaventure.fr
END:VEVENT
BEGIN:VEVENT
DTSTART;TZID=Europe/Paris:20241221T113000
DTEND;TZID=Europe/Paris:20241221T143000
DTSTAMP:20260422T020457
CREATED:20241014T151052Z
LAST-MODIFIED:20241014T151118Z
UID:10002009-1734780600-1734791400@www.normandielivre.fr
SUMMARY:Rencontre dédicace avec Jean Leveugle : "Géographia"\, roman graphique
DESCRIPTION:L’auteur d’origine douvraise a signé une BD de vulgarisation de l’histoire de la cartographie\, éditée chez Futuropolis. \nLa dédicace démarre à 11h30. A 12h30\, échange plus long avec questions/réponses\, sur réservation uniquement.
URL:https://www.normandielivre.fr/agenda-collaboratif/rencontre-dedicace-avec-jean-leveugle-geographia-roman-graphique/
LOCATION:Librairie café Place 26\, 26\, place Lesage\, Douvres la Délivrande\, 14440
CATEGORIES:Dédicace,Rencontre
ATTACH;FMTTYPE=image/png:https://www.normandielivre.fr/wp-content/uploads/2022/09/Capture-décran-2022-09-19-à-10.04.00-e1695983589295.png
ORGANIZER;CN="Librairie caf&eacute%3B Place 26":MAILTO:contact@place26.com
END:VEVENT
END:VCALENDAR