BEGIN:VCALENDAR
VERSION:2.0
PRODID:-//Normandie Livre &amp; Lecture - ECPv6.15.11//NONSGML v1.0//EN
CALSCALE:GREGORIAN
METHOD:PUBLISH
X-ORIGINAL-URL:https://www.normandielivre.fr
X-WR-CALDESC:Évènements pour Normandie Livre &amp; Lecture
REFRESH-INTERVAL;VALUE=DURATION:PT1H
X-Robots-Tag:noindex
X-PUBLISHED-TTL:PT1H
BEGIN:VTIMEZONE
TZID:Europe/Paris
BEGIN:DAYLIGHT
TZOFFSETFROM:+0100
TZOFFSETTO:+0200
TZNAME:CEST
DTSTART:20230326T010000
END:DAYLIGHT
BEGIN:STANDARD
TZOFFSETFROM:+0200
TZOFFSETTO:+0100
TZNAME:CET
DTSTART:20231029T010000
END:STANDARD
BEGIN:DAYLIGHT
TZOFFSETFROM:+0100
TZOFFSETTO:+0200
TZNAME:CEST
DTSTART:20240331T010000
END:DAYLIGHT
BEGIN:STANDARD
TZOFFSETFROM:+0200
TZOFFSETTO:+0100
TZNAME:CET
DTSTART:20241027T010000
END:STANDARD
BEGIN:DAYLIGHT
TZOFFSETFROM:+0100
TZOFFSETTO:+0200
TZNAME:CEST
DTSTART:20250330T010000
END:DAYLIGHT
BEGIN:STANDARD
TZOFFSETFROM:+0200
TZOFFSETTO:+0100
TZNAME:CET
DTSTART:20251026T010000
END:STANDARD
END:VTIMEZONE
BEGIN:VEVENT
DTSTART;TZID=Europe/Paris:20241005T140000
DTEND;TZID=Europe/Paris:20241005T170000
DTSTAMP:20260422T055053
CREATED:20240918T125318Z
LAST-MODIFIED:20240918T125318Z
UID:10001977-1728136800-1728147600@www.normandielivre.fr
SUMMARY:Dédicace avec Julie-Anne Bastard et Ophélie Leroux
DESCRIPTION:Après un tragique accident de voiture\, Chloé perd tous les souvenirs de sa vie passée et est obligée de retourner dans son village natal. À l’approche des fêtes de noël\, la jeune femme est plus perdue que jamais. C’est sans compter sur sa sœur qui a décidé de lui redonner le sourire\, à l’aide d’un calendrier de l’avent un peu particulier… Au cours de l’une de ses missions\, Chloé tombe nez à nez avec Thomas\, son charmant voisin\, et accessoirement son ex-petit ami\, un homme incroyablement chaleureux… sauf envers elle. Mais qu’a-t-elle fait pour qu’il soit si froid et si distant ? 24 jours seront-ils suffisants pour réconcilier passé et présent afin de leur offrir un futur à deux ?
URL:https://www.normandielivre.fr/agenda-collaboratif/dedicace-avec-julie-anne-bastard-et-ophelie-leroux/
LOCATION:Librairie L’Armitière\, 66 rue Jeanne D'Arc\, Rouen\, 76000
CATEGORIES:Dédicace
ATTACH;FMTTYPE=image/png:https://www.normandielivre.fr/wp-content/uploads/2024/09/julie-Ophelie-1.png
ORGANIZER;CN="L'Armiti&egrave%3Bre":MAILTO:armitiere.cm@gmail.com
END:VEVENT
BEGIN:VEVENT
DTSTART;TZID=Europe/Paris:20241012T143000
DTEND;TZID=Europe/Paris:20241012T190000
DTSTAMP:20260422T055053
CREATED:20240916T120435Z
LAST-MODIFIED:20240916T120435Z
UID:10001974-1728743400-1728759600@www.normandielivre.fr
SUMMARY:Dédicace avec Victor Coutard dans le cadre de la Fête du ventre
DESCRIPTION:À l’occasion de la Fête du ventre de Rouen\, nous avons le plaisir de recevoir pour une séance de dédicaces l’auteur rouennais Victor Coutard pour son nouveau livre de cuisine « Ripaille et marmaille ». \nDes idées pour une soirée télé\, un goûter\, un menu street food ou une grosse dalle… Sucrées ou salées\, voici 42 recettes faciles\, amusantes et délicieuses à réaliser en famille pour faire plaisir aux enfants et aux parents\, qui aiment souvent\, en secret\, les mêmes plats régressifs que leurs enfants !
URL:https://www.normandielivre.fr/agenda-collaboratif/dedicace-avec-victor-coutard-dans-le-cadre-de-la-fete-du-ventre/
LOCATION:L’Armitière\, 66 rue Jeanne D'Arc\, Rouen\, 76000
CATEGORIES:Dédicace
ATTACH;FMTTYPE=image/png:https://www.normandielivre.fr/wp-content/uploads/2024/09/COUTARD-IG.png
ORGANIZER;CN="L'Armiti&egrave%3Bre":MAILTO:armitiere.cm@gmail.com
END:VEVENT
BEGIN:VEVENT
DTSTART;TZID=Europe/Paris:20241012T150000
DTEND;TZID=Europe/Paris:20241012T190000
DTSTAMP:20260422T055053
CREATED:20240828T063538Z
LAST-MODIFIED:20240828T063538Z
UID:10001947-1728745200-1728759600@www.normandielivre.fr
SUMMARY:Séance de dédicaces avec Baptiste Chaubard et Thomas Hayman
DESCRIPTION:Les androïdes ont envahi la vie quotidienne\, dans le monde entier\, partout\, sauf au Japon où ils sont interdits. Et en particulier sur l’île très conservatrice de Kino qui résiste à la modernité et aux nouvelles technologies\, pour reproduire un Japon de la fin du XXe siècle\, gardé sous cloche de verre. Dans cette enclave idéale d’un monde disparu\, Hélène et Edo\, mari et femme\, vivent heureux depuis de nombreuses années. Mais s’il est figé dans l’île de Kino\, pour le couple\, le temps commence à leur jouer des tours. Pianiste de renom\, Hélène voit en effet sa place au sein de l’orchestre symphonique mise en péril depuis l’arrivée d’une musicienne plus jeune et plus talentueuse qu’elle. De son côté\, Edo sent que son désir pour sa femme s’étiole peu à peu. Alors\, Hélène décide d’introduire dans leur maison un robot\, clone parfait d’elle quand elle était jeune\, et programmé pour satisfaire les désirs de ses propriétaires. Mais quand on transgresse les lois\, qu’elles soient celles des hommes\, de l’amour ou du temps\, le prix à payer peut s’avérer élevé…
URL:https://www.normandielivre.fr/agenda-collaboratif/seance-de-dedicaces-avec-baptiste-chaubard-et-thomas-hayman/
LOCATION:Librairie L’Armitière\, 66 rue Jeanne D'Arc\, Rouen\, 76000
CATEGORIES:Dédicace
ATTACH;FMTTYPE=image/png:https://www.normandielivre.fr/wp-content/uploads/2024/08/chaubard-hayman-IG.png
ORGANIZER;CN="Librairie L'Armiti&egrave%3Bre":MAILTO:armitiere.cm@gmail.com
END:VEVENT
BEGIN:VEVENT
DTSTART;TZID=Europe/Paris:20241022T183000
DTEND;TZID=Europe/Paris:20241022T193000
DTSTAMP:20260422T055053
CREATED:20241014T151750Z
LAST-MODIFIED:20241014T151750Z
UID:10002004-1729621800-1729625400@www.normandielivre.fr
SUMMARY:Séance de dédicaces avec François Hollande
DESCRIPTION:« Bloc des gauches\, Cartel des gauches\, Front Populaire\, Libération\, Gouvernements Mendes-France et Mollet\, présidences de François Mitterrand\, Quinquennat de Lionel Jospin à Matignon\, mandat de François Hollande à l’Elysée. Depuis un siècle\, la gauche de gouvernement a exercé le pouvoir à huit reprises pendant plus de trente ans\, accomplissant une œuvre politique\, sociale et sociétale considérable mais qui reste paradoxalement aussi dépréciée que méconnue… comme s’il existait une fatalité de la gauche confrontée à l’exercice du pouvoir.\nUne sorte de syndrôme de l’imposteur intériorisée par ses responsables successifs. Il faut dire qu’elle n’a pas de pire ennemie qu’elle-même : sa division séculaire entre gauche de responsabilités et gauche révolutionnaire\, ses haines fratricides\, sa répugnance à accepter la règle majoritaire en son sein. » \nFrançois Hollande raconte l’histoire politique de la France à travers le socialisme\, dans ce livre politique. \nL’homme d’Etat insiste notamment sur les nombreuses réformes menées à bien sans masquer les échecs\, les divisions et les déconvenues\, offrant une chronique riche en portraits et anecdotes.\nC’est en effet la première fois qu’un ancien chef de l’Etat écrit l’histoire politique de sa famille. Un évènement politique et historique offrant un nouveau regard sur l’histoire politique de la France.
URL:https://www.normandielivre.fr/agenda-collaboratif/seance-de-dedicaces-avec-francois-hollande/
LOCATION:Librairie L’Armitière\, 66 rue Jeanne D'Arc\, Rouen\, 76000
CATEGORIES:Dédicace
ATTACH;FMTTYPE=image/png:https://www.normandielivre.fr/wp-content/uploads/2024/10/Francois-Hollande-1.png
END:VEVENT
BEGIN:VEVENT
DTSTART;TZID=Europe/Paris:20241026T100000
DTEND;TZID=Europe/Paris:20241026T130000
DTSTAMP:20260422T055053
CREATED:20241014T150548Z
LAST-MODIFIED:20241014T150548Z
UID:10002006-1729936800-1729947600@www.normandielivre.fr
SUMMARY:Dédicace de l'autrice Clémence SIMON
DESCRIPTION:Rencontre et dédicace de l’autrice Clémence SIMON\, spécialisée dans les ouvrages jeunesse sur l’histoire de l’art. Elle signera\, notamment\, son dernier ouvrage (co-écrit avec Fanette Mellier) « La boîte à couleurs des impressionnistes »\, publié chez GrandPalais RmnEditions et les éditions du Musée d’Orsay.
URL:https://www.normandielivre.fr/agenda-collaboratif/dedicace-de-lautrice-clemence-simon/
LOCATION:Maison de la Presse de Dieppe\, 102 Grande Rue\, Dieppe\, 76200
CATEGORIES:Dédicace
ATTACH;FMTTYPE=image/jpeg:https://www.normandielivre.fr/wp-content/uploads/2024/10/1728896985025.jpeg
ORGANIZER;CN="Maison de la Presse de Dieppe":MAILTO:contact@maisondelapressedieppe.fr
END:VEVENT
BEGIN:VEVENT
DTSTART;TZID=Europe/Paris:20241026T140000
DTEND;TZID=Europe/Paris:20241026T170000
DTSTAMP:20260422T055053
CREATED:20240918T125446Z
LAST-MODIFIED:20240918T125446Z
UID:10001978-1729951200-1729962000@www.normandielivre.fr
SUMMARY:Dédicace avec Marêva Mae
DESCRIPTION:La Sorcière et le Protecteur – Tome 1 \nYaraa\, amnésique\, se réveille sur une île désertique chez Cal\, un inconnu aussi intriguant qu’insupportable – et l’émotion est réciproque. \nAlitée\, forcée de cohabiter avec celui qui l’a sauvée de la noyade mais semble lui cacher des choses\, Yaraa cherche par tous les moyens à récupérer ses souvenirs. Cal\, lui\, comprend que son acte chevaleresque pourrait le mener à sa perte. Protecteur en exil\, il est pourchassé par ceux qu’il avait juré de protéger. Depuis un an\, Cal se cache et masque ses pouvoirs… contrairement à Yaraa ! \nLes facultés de la jeune femme agissent comme un aimant à Traqueurs. La magie que partagent les deux inconnus\, de plus en proches\, est bannie et risque de les condamner à un sort terrible. Mais restreint par des vœux d’honneur pour l’un\, tempêtueuse et obstinée pour l’autre\, Yaraa et Cal parviendront-ils à s’allier et vaincre leurs démons\, sans succomber à l’attirance impossible qu’ils ressentent ? \n————————————————– \nLa Sorcière et le Protecteur – Tome 2 \nCal et Yaraa fendent les océans pour affronter les ennemis qui en veulent à leur magie\, lors d’un voyage tourmenté et sulfureux\, qui les rapprochera plus que jamais. Mais l’heure n’est plus aux doutes\, car traverser des territoires aussi hostiles\, où menacent des espions et des envoyés de l’Ordugh à chaque coin de rue ne sera pas de tout repos. Yaraa sera tenue de canaliser ses pouvoirs et ses mauvaises habitudes\, là où Cal affrontera ses souvenirs déchirants de la guerre et ses véritables sentiments. \nTous les deux devront cependant faire face à l’inévitable : ils ont fauté\, chacun à leur manière\, et il va falloir désormais se faire pardonner l’un de l’autre. Sauront-ils enfin se poser les bonnes questions ? Privilégier l’attraction incandescente qui brûle entre eux\, plutôt que l’honneur qui leur enferme et les éloigne ? La Sorcière et le Protecteur trouveront-ils l’équilibre et le bonheur qui leur est dû\, après toutes ces aventures ? \n————————————————– \nMarêva Mae est traductrice littéraire pour les éditions Flammarion et J’ai Lu. Elle partage sa passion pour l’imaginaire sur les réseaux sociaux.
URL:https://www.normandielivre.fr/agenda-collaboratif/dedicace-avec-mareva-mae/
LOCATION:Librairie L’Armitière\, 66 rue Jeanne D'Arc\, Rouen\, 76000
CATEGORIES:Dédicace
ATTACH;FMTTYPE=image/png:https://www.normandielivre.fr/wp-content/uploads/2024/09/mareva-mae.png
ORGANIZER;CN="L'Armiti&egrave%3Bre":MAILTO:armitiere.cm@gmail.com
END:VEVENT
END:VCALENDAR