BEGIN:VCALENDAR
VERSION:2.0
PRODID:-//Normandie Livre &amp; Lecture - ECPv6.15.11//NONSGML v1.0//EN
CALSCALE:GREGORIAN
METHOD:PUBLISH
X-ORIGINAL-URL:https://www.normandielivre.fr
X-WR-CALDESC:Évènements pour Normandie Livre &amp; Lecture
REFRESH-INTERVAL;VALUE=DURATION:PT1H
X-Robots-Tag:noindex
X-PUBLISHED-TTL:PT1H
BEGIN:VTIMEZONE
TZID:Europe/Paris
BEGIN:DAYLIGHT
TZOFFSETFROM:+0100
TZOFFSETTO:+0200
TZNAME:CEST
DTSTART:20230326T010000
END:DAYLIGHT
BEGIN:STANDARD
TZOFFSETFROM:+0200
TZOFFSETTO:+0100
TZNAME:CET
DTSTART:20231029T010000
END:STANDARD
BEGIN:DAYLIGHT
TZOFFSETFROM:+0100
TZOFFSETTO:+0200
TZNAME:CEST
DTSTART:20240331T010000
END:DAYLIGHT
BEGIN:STANDARD
TZOFFSETFROM:+0200
TZOFFSETTO:+0100
TZNAME:CET
DTSTART:20241027T010000
END:STANDARD
BEGIN:DAYLIGHT
TZOFFSETFROM:+0100
TZOFFSETTO:+0200
TZNAME:CEST
DTSTART:20250330T010000
END:DAYLIGHT
BEGIN:STANDARD
TZOFFSETFROM:+0200
TZOFFSETTO:+0100
TZNAME:CET
DTSTART:20251026T010000
END:STANDARD
END:VTIMEZONE
BEGIN:VEVENT
DTSTART;TZID=Europe/Paris:20240727T143000
DTEND;TZID=Europe/Paris:20240727T173000
DTSTAMP:20260422T145455
CREATED:20240624T082028Z
LAST-MODIFIED:20240624T082114Z
UID:10001897-1722090600-1722101400@www.normandielivre.fr
SUMMARY:Jean-Blaise Djian\, BD "Juin 44"
DESCRIPTION:Le scénariste de la bande dessinée « Normandie juin 44 »\, Jean-Blaise Djian\, intervient dans votre librairie pour une séance de dédicaces. \nNotamment avec le dernier tome 10\, « La 2e DB du Général Leclerc ».
URL:https://www.normandielivre.fr/agenda-collaboratif/jean-blaise-djian-bd-juin-44/
LOCATION:Librairie café Place 26\, 26\, place Lesage\, Douvres la Délivrande\, 14440
CATEGORIES:Dédicace
ATTACH;FMTTYPE=image/png:https://www.normandielivre.fr/wp-content/uploads/2022/09/Capture-décran-2022-09-19-à-10.04.00-e1695983589295.png
ORGANIZER;CN="Librairie caf&eacute%3B Place 26":MAILTO:contact@place26.com
END:VEVENT
END:VCALENDAR