BEGIN:VCALENDAR
VERSION:2.0
PRODID:-//Normandie Livre &amp; Lecture - ECPv6.15.11//NONSGML v1.0//EN
CALSCALE:GREGORIAN
METHOD:PUBLISH
X-WR-CALNAME:Normandie Livre &amp; Lecture
X-ORIGINAL-URL:https://www.normandielivre.fr
X-WR-CALDESC:Évènements pour Normandie Livre &amp; Lecture
REFRESH-INTERVAL;VALUE=DURATION:PT1H
X-Robots-Tag:noindex
X-PUBLISHED-TTL:PT1H
BEGIN:VTIMEZONE
TZID:Europe/Paris
BEGIN:DAYLIGHT
TZOFFSETFROM:+0100
TZOFFSETTO:+0200
TZNAME:CEST
DTSTART:20230326T010000
END:DAYLIGHT
BEGIN:STANDARD
TZOFFSETFROM:+0200
TZOFFSETTO:+0100
TZNAME:CET
DTSTART:20231029T010000
END:STANDARD
BEGIN:DAYLIGHT
TZOFFSETFROM:+0100
TZOFFSETTO:+0200
TZNAME:CEST
DTSTART:20240331T010000
END:DAYLIGHT
BEGIN:STANDARD
TZOFFSETFROM:+0200
TZOFFSETTO:+0100
TZNAME:CET
DTSTART:20241027T010000
END:STANDARD
BEGIN:DAYLIGHT
TZOFFSETFROM:+0100
TZOFFSETTO:+0200
TZNAME:CEST
DTSTART:20250330T010000
END:DAYLIGHT
BEGIN:STANDARD
TZOFFSETFROM:+0200
TZOFFSETTO:+0100
TZNAME:CET
DTSTART:20251026T010000
END:STANDARD
END:VTIMEZONE
BEGIN:VEVENT
DTSTART;TZID=Europe/Paris:20240608T100000
DTEND;TZID=Europe/Paris:20240608T123000
DTSTAMP:20260422T131229
CREATED:20240513T081358Z
LAST-MODIFIED:20240513T082331Z
UID:10001859-1717840800-1717849800@www.normandielivre.fr
SUMMARY:Séance de dédicaces avec Karine Lebert - Les mille et une vies de Lucie
DESCRIPTION:Les mille et une vies d’une femme singulière\, Lucie Delarue-Mardrus. \nC’est à cinq ans\, dans sa ville natale de Honfleur\, que Lucie croise la route d’Hermine\, fille de pêcheur\, qui lui voue une admiration proche de l’amour et deviendra sa servante. Malgré leurs différences\, leurs vies seront dès lors irrémédiablement liées\, l’une dans l’ombre\, l’autre dans la lumière. \nL’âme vagabonde\, Lucie ira de Honfleur à Paris\, voyagera du Maghreb en Orient\, et jusqu’en Amérique. \nAu cœur des Années folles\, son allure\, sa personnalité hors norme\, son talent de poétesse et de romancière lui font rencontrer les grands de son époque. \nScandaleusement libre\, Lucie a écrit un destin d’une modernité absolue. \nUn roman qui s’inspire de l’histoire vraie d’une femme brillante et avant-gardiste. \nNée en Normandie\, Karine Lebert est l’auteure d’une vingtaine de romans dont Loin de Margaux (2012) et Les Sortilèges du Tremblay (2013)\, préfacé par Yves Jacob et aux Presses de la Cité\, Les Demoiselles de Beaune\, préfacé par Michel de Decker. \nElle est vice-présidente de la Société des Auteurs de Normandie et membre de la Société des Gens de Lettres. \nChroniqueuse spécialisée en architecture intérieure et décoration\, elle se consacre désormais pleinement à l’écriture. \nDans ses derniers romans\, elle s’attache à mettre en lumière les pans méconnus de l’Histoire : Les Amants de l’été 44 et plus récemment : \n\nPour l’honneur des Rochambelles\,\nLes Souvenirs et les mensonges aussi\,\nEnlacer le ciel et les nuages.
URL:https://www.normandielivre.fr/agenda-collaboratif/seance-de-dedicaces-avec-karine-lebert-les-mille-et-une-vies-de-lucie/
LOCATION:Maison de la Presse – Pont l’Evêque\, Maison de la Presse - 3 RUE HAMELIN\, Pont-l'Évêque\, 14130\, France
CATEGORIES:Dédicace
ATTACH;FMTTYPE=image/jpeg:https://www.normandielivre.fr/wp-content/uploads/2024/05/photo-Karine-Lebert.jpg
END:VEVENT
BEGIN:VEVENT
DTSTART;TZID=Europe/Paris:20240608T150000
DTEND;TZID=Europe/Paris:20240608T193000
DTSTAMP:20260422T131229
CREATED:20240523T080629Z
LAST-MODIFIED:20240523T080629Z
UID:10001873-1717858800-1717875000@www.normandielivre.fr
SUMMARY:Séance de dédicaces avec Christian Foutrel et Claire Maingon
DESCRIPTION:Les ciels impressionnistes sont connus pour le rendu de la lumière dans les différentes saisons et heures de la journée : ciels d’orage\, ciels nuageux ou clairs\, dans la campagne\, à la mer ou à la ville. Christian Foutrel capte cette lumière dans ses clichés en Normandie ou ailleurs\, en s’inspirant des tableaux des peintres impressionnistes. On analyse tout particulièrement : Monet (peintre des la lumière – le ciel et la lumière) Boudin (peintre des ciels – le ciel et la mer) Van Gogh (peintre de la nature – le ciel dans l’infinie des champs) Pissarro (peintre des villes – le ciel dans la ville) \n————————————- \nFormé à l’Ecole photographique d’Arles dans les années 80. \nAu contact de Hans Sylvester\, Eugene Richards\, François Le Discorn\, il repart\, à chaque fois d’Arles\, avec la certitude que l’image est son milieu naturel. \nAlors\, pendant une trentaine d’années\, il va écumer la France et le monde\, caméra au poing. Il pose son regard et sa sensibilité sur l’industrie\, le monde des campagnes et des métropoles\, la culture ou encore la politique. \nC’est un documentaire sur l’industrie du verre\, en 2015\, qui le plonge dans un univers inconnu. L’ambiance de chaleur et de sueur provoque chez lui des émotions inédites. Il lâche sa caméra qu’il remplace par deux boitiers photo\, trouve un éditeur\, les éditions des falaises à Rouen et réalise son premier ouvrage photographique  » du verre et des hommes ». En 2021\, avec Thierry Delacourt pour les textes\, il sort chez le meme éditeur  » Magie Verte « .Vision onirique de la foret qui l’entoure . Une plongée vers un monde parallèle\, aux contours de plus en plus flous\, vers l’abstraction. Actuellement ce sont les falaises du pays de Caux qui l’inspire. Meme démarche\, meme binome que pour l’ouvrage précédent……. Sortie prévue en 2023 . \nSélectionné à Paris Artistes 2016\, 2017 et 2018\, et présent en 2016 au Winshare Art Museum de Chendgu en Chine\, Christian Foutrel vous invite à partager ses voyage artistique. \n——————————————– \nClaire Maingon\, historienne de l’art et commissaire d’exposition indépendante\, enseigne l’histoire de l’art contemporain à l’Université de Nantes. Elle a écrit de nombreux ouvrages dont La Bibliothèque de Claude Monet\, anthologie de textes sous la direction de Ségolène Le Men (Citadelles & Mazenod\, 2013) ou Le Grand Guide de la Normandie. Sur les pas des impressionnistes\, une coédition Eyrolles/Beaux Arts éditions.
URL:https://www.normandielivre.fr/agenda-collaboratif/seance-de-dedicaces-avec-christian-foutrel-et-claire-maingon/
LOCATION:Librairie L’Armitière\, 66 rue Jeanne D'Arc\, Rouen\, 76000
CATEGORIES:Dédicace
ATTACH;FMTTYPE=image/png:https://www.normandielivre.fr/wp-content/uploads/2024/05/foutrelig.png
ORGANIZER;CN="Librairie L'Armiti&egrave%3Bre":MAILTO:armitiere.cm@gmail.com
END:VEVENT
END:VCALENDAR