BEGIN:VCALENDAR
VERSION:2.0
PRODID:-//Normandie Livre &amp; Lecture - ECPv6.15.11//NONSGML v1.0//EN
CALSCALE:GREGORIAN
METHOD:PUBLISH
X-WR-CALNAME:Normandie Livre &amp; Lecture
X-ORIGINAL-URL:https://www.normandielivre.fr
X-WR-CALDESC:Évènements pour Normandie Livre &amp; Lecture
REFRESH-INTERVAL;VALUE=DURATION:PT1H
X-Robots-Tag:noindex
X-PUBLISHED-TTL:PT1H
BEGIN:VTIMEZONE
TZID:Europe/Paris
BEGIN:DAYLIGHT
TZOFFSETFROM:+0100
TZOFFSETTO:+0200
TZNAME:CEST
DTSTART:20230326T010000
END:DAYLIGHT
BEGIN:STANDARD
TZOFFSETFROM:+0200
TZOFFSETTO:+0100
TZNAME:CET
DTSTART:20231029T010000
END:STANDARD
BEGIN:DAYLIGHT
TZOFFSETFROM:+0100
TZOFFSETTO:+0200
TZNAME:CEST
DTSTART:20240331T010000
END:DAYLIGHT
BEGIN:STANDARD
TZOFFSETFROM:+0200
TZOFFSETTO:+0100
TZNAME:CET
DTSTART:20241027T010000
END:STANDARD
BEGIN:DAYLIGHT
TZOFFSETFROM:+0100
TZOFFSETTO:+0200
TZNAME:CEST
DTSTART:20250330T010000
END:DAYLIGHT
BEGIN:STANDARD
TZOFFSETFROM:+0200
TZOFFSETTO:+0100
TZNAME:CET
DTSTART:20251026T010000
END:STANDARD
END:VTIMEZONE
BEGIN:VEVENT
DTSTART;TZID=Europe/Paris:20240517T160000
DTEND;TZID=Europe/Paris:20240517T190000
DTSTAMP:20260422T204220
CREATED:20240416T092055Z
LAST-MODIFIED:20240416T092055Z
UID:10001837-1715961600-1715972400@www.normandielivre.fr
SUMMARY:Séance de dédicaces avec Guy Pessiot et Yvan Leclerc
DESCRIPTION:Des dizaines de livres ont été écrits sur Gustave Flaubert\, mais aucun ne porte\, jusqu’à ce jour\, sur sa maison de Croisset\, détruite peu après sa mort\, et dont on ne conserve ni photographie\, ni plan.\nCet ouvrage\, fruit de quatre ans de recherches d’une équipe pluridisciplinaire\, décrit en détail la vie quotidienne de l’auteur de Madame Bovary et de sa famille près de Rouen et restitue\, pour la première fois\, la maison de Croisset\, pièce par pièce\, en réfutant nombre d’erreurs commises par le passé. \nLe projet et les recherches concernant cet ouvrage ont été engagés par l’association des Amis de Flaubert et de Maupassant\, en janvier 2019 sur une idée concomitante et originale d’Yvan Leclerc et de Guy Pessiot\, dans le cadre des futures manifestations du bicentenaire de la naissance de Flaubert. \nCe livre comporte cinq parties : \n– une approche générale sur les maisons bourgeoises en France au XIXe siècle ;\n– les Flaubert à Croisset\, les origines de leur propriété\, l’achat de 1844 et un tableau de leur vie quotidienne jusqu’en 1880 ;\n– le devenir de la propriété de Croisset de 1881 à nos jours ;\n– un essai de reconstitution de la propriété et de la maison principale avant 1881\, pièce par pièce\, en 3D\, avec l’aide des professeurs et élèves de l’ENSA Rouen-Normandie ;\n– l’avenir proche du Pavillon d’après les projets de la Métropole Rouen-Normandie\, dans le cadre de ses musées littéraires.
URL:https://www.normandielivre.fr/agenda-collaboratif/seance-de-dedicaces-avec-guy-pessiot-et-yvan-leclerc/
LOCATION:Librairie L’Armitière\, 66 rue Jeanne D'Arc\, Rouen\, 76000
CATEGORIES:Dédicace
ATTACH;FMTTYPE=image/png:https://www.normandielivre.fr/wp-content/uploads/2024/04/pessiotleclercig.png
ORGANIZER;CN="Librairie L'Armiti&egrave%3Bre":MAILTO:armitiere.cm@gmail.com
END:VEVENT
BEGIN:VEVENT
DTSTART;TZID=Europe/Paris:20240525T150000
DTEND;TZID=Europe/Paris:20240525T193000
DTSTAMP:20260422T204220
CREATED:20240415T091954Z
LAST-MODIFIED:20240415T091954Z
UID:10001832-1716649200-1716665400@www.normandielivre.fr
SUMMARY:Séance de dédicaces avec Salomé Lahoche
DESCRIPTION:Ernestine est une petite fille rousse de 9 ans tout à fait comme les autres\, aux détails près qu’elle fume comme un pompier\, joue au poker en ligne\, extorque de l’argent aux voisins et fugue à Cuba. Autour d’elle\, la cellule familiale tient une place cruciale. Son frère ainé Adrien est un adolescent lymphatique. Son père Hervé est artiste-peintre\, désinvesti de manière générale. Et sa mère Louise est architecte d’intérieur\, épuisée de porter tout le monde à bout de bras. Une déroutante fresque familiale dans laquelle\, on suit les frasques tragi-comiques d’Ernestine en forêt\, à l’école\, à Noël\, à un enterrement et chez le psy. \n—————————————————— \nSalomé Lahoche naît le 24 août 1997 dans la riante ville de Rouen\, en Normandie. \nLes seize années qui suivent ne présentent pas tellement d’intérêt. Disons simplement que comme il pleut tout le temps chez elle et qu’elle est fille de prof\, elle développe assez tôt un goût immodéré pour les livres. C’est ainsi qu’à l’adolescence\, elle décrète qu’elle deviendra autrice de bande dessinée pour mourir adulée de tous et endettée jusqu’au cou. \nAprès son bac\, elle part faire des études d’Art à Paris\, puis Angoulême\, puis Strasbourg. Elle se fait plein de copains et se murge comme un goret. Incapable de résister aux prix attractifs de l’immobilier angoumoisin\, elle est revenue vivre dans la capitale internationale de la bande dessinée après avoir obtenu son diplôme à Strasbourg. Elle a depuis arrêté de se murger comme un goret et a sorti son premier livre\, une compilation des strips autobiographiques qu’elle publie depuis 2020 sur Instagram\, sobrement intitulée “La vie est une corvée”. \nEn janvier 2024\, Ernestine\, son premier livre de fiction\, voit le jour aux éditions Même pas mal.
URL:https://www.normandielivre.fr/agenda-collaboratif/seance-de-dedicaces-avec-salome-lahoche-2/
LOCATION:Librairie L’Armitière\, 66 rue Jeanne D'Arc\, Rouen\, 76000
CATEGORIES:Dédicace
ATTACH;FMTTYPE=image/png:https://www.normandielivre.fr/wp-content/uploads/2024/04/lahocheig-1.png
ORGANIZER;CN="Librairie L'Armiti&egrave%3Bre":MAILTO:armitiere.cm@gmail.com
END:VEVENT
END:VCALENDAR