BEGIN:VCALENDAR
VERSION:2.0
PRODID:-//Normandie Livre &amp; Lecture - ECPv6.15.11//NONSGML v1.0//EN
CALSCALE:GREGORIAN
METHOD:PUBLISH
X-ORIGINAL-URL:https://www.normandielivre.fr
X-WR-CALDESC:Évènements pour Normandie Livre &amp; Lecture
REFRESH-INTERVAL;VALUE=DURATION:PT1H
X-Robots-Tag:noindex
X-PUBLISHED-TTL:PT1H
BEGIN:VTIMEZONE
TZID:Europe/Paris
BEGIN:DAYLIGHT
TZOFFSETFROM:+0100
TZOFFSETTO:+0200
TZNAME:CEST
DTSTART:20230326T010000
END:DAYLIGHT
BEGIN:STANDARD
TZOFFSETFROM:+0200
TZOFFSETTO:+0100
TZNAME:CET
DTSTART:20231029T010000
END:STANDARD
BEGIN:DAYLIGHT
TZOFFSETFROM:+0100
TZOFFSETTO:+0200
TZNAME:CEST
DTSTART:20240331T010000
END:DAYLIGHT
BEGIN:STANDARD
TZOFFSETFROM:+0200
TZOFFSETTO:+0100
TZNAME:CET
DTSTART:20241027T010000
END:STANDARD
BEGIN:DAYLIGHT
TZOFFSETFROM:+0100
TZOFFSETTO:+0200
TZNAME:CEST
DTSTART:20250330T010000
END:DAYLIGHT
BEGIN:STANDARD
TZOFFSETFROM:+0200
TZOFFSETTO:+0100
TZNAME:CET
DTSTART:20251026T010000
END:STANDARD
END:VTIMEZONE
BEGIN:VEVENT
DTSTART;TZID=Europe/Paris:20240316T150000
DTEND;TZID=Europe/Paris:20240316T193000
DTSTAMP:20260423T004206
CREATED:20240216T100619Z
LAST-MODIFIED:20240216T100619Z
UID:10001765-1710601200-1710617400@www.normandielivre.fr
SUMMARY:Séance de dédicaces avec Éric Duvilla
DESCRIPTION:« Clinique de l’Europe » est un témoignage vivant sur un morceau de l’histoire économique et sociale de Rouen. Dans ce récit chronologique\, l’auteur fait vivre sous nos yeux une clinique avec toutes ses dimensions : l’établissement de santé\, bien entendu\, mais aussi le bâtiment emblématique et son histoire séculaire\, l’entreprise et ses difficultés quotidiennes\, les équipes et leur humanité touchante\, et même le quartier dans la manière dont il a été façonné par cette implantation. \n—————————————- \nÉric Duvilla est né à Rouen en 1953. En 1989\, il acquiert une affaire sur les hauteurs de Rouen\, et quelques années plus tard une suivante dans le centre. Il intègre la Clinique de L’Europe en 2003\, où\, entre autres responsabilités\, il établit une relation de confiance envers le patient transporté. Il a pris sa retraite en 2017.
URL:https://www.normandielivre.fr/agenda-collaboratif/seance-de-dedicaces-avec-eric-duvilla/
LOCATION:L’Armitière\, 66 rue Jeanne D'Arc\, Rouen\, 76000
CATEGORIES:Dédicace
ATTACH;FMTTYPE=image/png:https://www.normandielivre.fr/wp-content/uploads/2024/02/duvilla2.png
ORGANIZER;CN="L'Armiti&egrave%3Bre":MAILTO:armitiere.cm@gmail.com
END:VEVENT
BEGIN:VEVENT
DTSTART;TZID=Europe/Paris:20240323T150000
DTEND;TZID=Europe/Paris:20240323T193000
DTSTAMP:20260423T004206
CREATED:20240212T112045Z
LAST-MODIFIED:20240212T112045Z
UID:10001762-1711206000-1711222200@www.normandielivre.fr
SUMMARY:Séance de dédicaces avec Axelle Ménéglier
DESCRIPTION:Londres\, de nos jours. Le monde de Cassiopée\, 18 ans\, bascule le jour où elle découvre que ceux qu’elle a toujours considérés comme ses parents biologiques l’ont adoptée à la naissance. Cassiopée appartient au peuple des « Constellationnistes »\, au sein duquel chacun est lié à un signe du zodiaque et possède des pouvoirs particuliers. Elle intègre la mystérieuse Académie\, une école réservée aux constellationistes\, pour découvrir les secrets de ses origines. Sa seule piste : un médaillon frappé des douze constellations du zodiaque et gravé d’un nom inconnu. Entre cours de magie et nouvelles amitiés\, Cassiopée découvre un peuple exilé sur Terre\, secoué par des différends profonds et menacé par la Supernova\, cet être puissant doté de chacun des pouvoirs des douze constellations. Supernova est le premier tome d’une trilogie. \n————————————————————– \nAxelle Ménéglier est née en 1996. Après avoir obtenu une Licence de Droit et un Master de Communication elle décide de se consacrer à sa passion : l’écriture. Ainsi\, quand elle n’est pas en train d’aider des joueurs à s’échapper de l’une des salles d’Escape Game toulousaines dans laquelle elle travaille\, elle s’attèle à construire les histoires qu’elle aurait rêvé lire étant petite.
URL:https://www.normandielivre.fr/agenda-collaboratif/seance-de-dedicaces-avec-axelle-meneglier/2024-03-23/
LOCATION:Librairie L’Armitière\, 66 rue Jeanne D'Arc\, Rouen\, 76000
CATEGORIES:Dédicace
ATTACH;FMTTYPE=image/png:https://www.normandielivre.fr/wp-content/uploads/2024/02/meneglier2.png
ORGANIZER;CN="Librairie L'Armiti&egrave%3Bre":MAILTO:armitiere.cm@gmail.com
END:VEVENT
BEGIN:VEVENT
DTSTART;TZID=Europe/Paris:20240328T080000
DTEND;TZID=Europe/Paris:20240328T170000
DTSTAMP:20260423T004206
CREATED:20240329T081042Z
LAST-MODIFIED:20240329T081042Z
UID:10001805-1711612800-1711645200@www.normandielivre.fr
SUMMARY:Rencontre dédicace
DESCRIPTION:Rencontrez Guillaume Huon pour son premier roman « Le gardien sans sommeil ». \nUn récit original\, une ode à la nature\, un thriller prenant.
URL:https://www.normandielivre.fr/agenda-collaboratif/rencontre-dedicace-3/
LOCATION:Librairie café Place 26\, 26\, place Lesage\, Douvres la Délivrande\, 14440
CATEGORIES:Dédicace,Rencontre
ATTACH;FMTTYPE=image/png:https://www.normandielivre.fr/wp-content/uploads/2022/09/Capture-décran-2022-09-19-à-10.04.00-e1695983589295.png
ORGANIZER;CN="Librairie caf&eacute%3B Place 26":MAILTO:contact@place26.com
END:VEVENT
END:VCALENDAR