BEGIN:VCALENDAR
VERSION:2.0
PRODID:-//Normandie Livre &amp; Lecture - ECPv6.15.11//NONSGML v1.0//EN
CALSCALE:GREGORIAN
METHOD:PUBLISH
X-WR-CALNAME:Normandie Livre &amp; Lecture
X-ORIGINAL-URL:https://www.normandielivre.fr
X-WR-CALDESC:Évènements pour Normandie Livre &amp; Lecture
REFRESH-INTERVAL;VALUE=DURATION:PT1H
X-Robots-Tag:noindex
X-PUBLISHED-TTL:PT1H
BEGIN:VTIMEZONE
TZID:Europe/Paris
BEGIN:DAYLIGHT
TZOFFSETFROM:+0100
TZOFFSETTO:+0200
TZNAME:CEST
DTSTART:20220327T010000
END:DAYLIGHT
BEGIN:STANDARD
TZOFFSETFROM:+0200
TZOFFSETTO:+0100
TZNAME:CET
DTSTART:20221030T010000
END:STANDARD
BEGIN:DAYLIGHT
TZOFFSETFROM:+0100
TZOFFSETTO:+0200
TZNAME:CEST
DTSTART:20230326T010000
END:DAYLIGHT
BEGIN:STANDARD
TZOFFSETFROM:+0200
TZOFFSETTO:+0100
TZNAME:CET
DTSTART:20231029T010000
END:STANDARD
BEGIN:DAYLIGHT
TZOFFSETFROM:+0100
TZOFFSETTO:+0200
TZNAME:CEST
DTSTART:20240331T010000
END:DAYLIGHT
BEGIN:STANDARD
TZOFFSETFROM:+0200
TZOFFSETTO:+0100
TZNAME:CET
DTSTART:20241027T010000
END:STANDARD
END:VTIMEZONE
BEGIN:VEVENT
DTSTART;TZID=Europe/Paris:20231202T150000
DTEND;TZID=Europe/Paris:20231202T180000
DTSTAMP:20260423T090732
CREATED:20231106T111651Z
LAST-MODIFIED:20231106T111651Z
UID:10001676-1701529200-1701540000@www.normandielivre.fr
SUMMARY:Séance de dédicaces avec Mickaël Brun-Arnaud et Sanoé
DESCRIPTION:L’hiver et son manteau se sont posés sur la forêt. Les jours sont froids et les nuits sont longues\, mais\, comme chaque année à l’approche de la fête de Yule\, les habitants de Bellécorce se réjouissent : les boutiques regorgent de jolies choses\, les gourmandises se préparent\, et beaucoup prennent la direction du Grand Nord. \nC’est tout là-haut\, dans les dangereuses vallées de Sombrehiver\, que Pimprenelle et Séraphin Renard sont allés chercher un cadeau pour Bartholomé\, leur fils à la santé fragile. Mais ils ne reviennent pas le jour prévu… \nPour les retrouver\, Bartholomé embarque avec son oncle Archibald sur l’Étoile de Bellécorce\, un légendaire train à vapeur. Alors qu’à bord les évènements étranges se succèdent\, il fait la connaissance d’un mystérieux passager clandestin\, qui pourrait bien détenir des informations cruciales pour leur enquête… \n———————————————– \nMickaël Brun-Arnaud est le fondateur de la librairie parisienne Le Renard Doré – librairie de référence pour le manga et la culture japonaise. Paru en mars 2022 à l’École des loisirs\, son premier roman jeunesse\, Mémoires de la forêt\, s’est vendu à près de 10 000 exemplaires en l’espace de quelques mois. Les Valles closes est son premier roman de littérature générale. \n—————————————————- \nAprès des études en animation et des expériences en graphisme\, Sanoe devient illustratrice. Elle publie son premier album jeunesse\, Issunbôshi\, le petit samouraï (nobi nobi !) en octobre 2016\, puis met un pied dans la bande dessinée en 2017 avec La Grande Ourse (Soleil)\, scénarisée par Elsa Bordier. Leur collaboration se poursuit en 2019 avec la publication du premier volume de la série Maléfices : Les contes d’Alombrar (Jungle).
URL:https://www.normandielivre.fr/agenda-collaboratif/seance-de-dedicaces-avec-mickael-brun-arnaud-et-sanoe/
LOCATION:L’Armitière\, 66 rue Jeanne D'Arc\, Rouen\, 76000
CATEGORIES:Dédicace
ATTACH;FMTTYPE=image/png:https://www.normandielivre.fr/wp-content/uploads/2023/11/brun-arnaud-sanoe.png
ORGANIZER;CN="L'Armiti&egrave%3Bre":MAILTO:armitiere.cm@gmail.com
END:VEVENT
BEGIN:VEVENT
DTSTART;TZID=Europe/Paris:20231202T150000
DTEND;TZID=Europe/Paris:20231202T193000
DTSTAMP:20260423T090732
CREATED:20231106T132931Z
LAST-MODIFIED:20231106T132931Z
UID:10001674-1701529200-1701545400@www.normandielivre.fr
SUMMARY:Séance de dédicaces avec Simon Louvet
DESCRIPTION:Personne ne naît résistant. On le devient par conviction ou nécessité. Isidore et Simone voulaient être des Français comme les autres. Mais pour survivre\, ils ont dû entrer en Résistance. Parce que leurs parents étaient pris dans les filets de la déportation. Pour sauver leurs deux filles. Isidore et Simone n’ont rien écrit de cette aventure\, de leur histoire. Leur histoire est familiale. Elle est aussi française. Et surtout universelle. \n——————————————————– \nSimon Louvet est l’arrière petit-fils d’Isidore et Simone. Il s’est emparé de l’histoire hors-normes de ses ancêtres pour mener cette enquête historique dans les archives. Remedium a co-construit cet ouvrage\, en apportant son expérience et la finesse de son dessin pour mettre en valeur l’humanité de cette épopée.
URL:https://www.normandielivre.fr/agenda-collaboratif/seance-de-dedicaces-avec-simon-louvet/
LOCATION:L’Armitière\, 66 rue Jeanne D'Arc\, Rouen\, 76000
CATEGORIES:Dédicace
ATTACH;FMTTYPE=image/png:https://www.normandielivre.fr/wp-content/uploads/2023/11/louvet-ig.png
ORGANIZER;CN="L'Armiti&egrave%3Bre":MAILTO:armitiere.cm@gmail.com
END:VEVENT
BEGIN:VEVENT
DTSTART;TZID=Europe/Paris:20231209T150000
DTEND;TZID=Europe/Paris:20231209T193000
DTSTAMP:20260423T090732
CREATED:20231106T133305Z
LAST-MODIFIED:20231106T133305Z
UID:10001677-1702134000-1702150200@www.normandielivre.fr
SUMMARY:Séance de dédicaces avec Ariane Guézouli
DESCRIPTION:Solveig est maladroite et rêveuse. À la maison comme à l’auberge familiale du Pays du Nord\, elle cumule les bourdes. Mais quand sa sœur Sigrid est changée en poule par le Mage du Bout du Monde\, Solveig décide de la délivrer du maléfice. Elle part en quête d’un mage qui saura les aider. Dans la Forêt du Centre du Monde\, elle découvre que l’index de sa main droite est couvert d’or. Que se passe-t-il ? Puis elle rencontre Méliès\, apprenti magicien aussi ambitieux que mystérieux\, Fantine une aspirante détestable\, la géante femme à barbe Barberine\, et le Sorcier des Lumières\, être obséquieux décidé à s’attirer les faveurs de l’Empereur du Ciel\, seigneur du cosmos. Solveig réussira-t-elle à lever la malédiction de sa sœur ? Pourra-t-elle éveiller les pouvoirs magiques qui sommeillent en elle ? Percera-t-elle à jour l’étrange Méliès et le détestable Sorcier des Lumières ? Suivez-la dans la Forêt du Centre du Monde pour le découvrir ! \n————————————————– \nTombée dans les livres comme Obélix dans la marmite\, Ariane Guézouli a grandi avec les récits d’Évelyne Brisou-Pellen\, de Philip Pullman et bien d’autres. Depuis\, le goût de la lecture ne l’a jamais quittée. Quand elle n’est pas occupée à enseigner l’histoire en lycée\, elle se plaît à imaginer des personnages aux péripéties plus ou moins sérieuses. La Tourneuse de vent est son premier roman de littérature jeunesse. Sur Instagram : un_fil_dariane Ariane Guézouli vit près de Rouen.
URL:https://www.normandielivre.fr/agenda-collaboratif/seance-de-dedicaces-avec-ariane-guezouli/
LOCATION:L’Armitière\, 66 rue Jeanne D'Arc\, Rouen\, 76000
CATEGORIES:Dédicace
ATTACH;FMTTYPE=image/png:https://www.normandielivre.fr/wp-content/uploads/2023/11/guezouli2.png
ORGANIZER;CN="L'Armiti&egrave%3Bre":MAILTO:armitiere.cm@gmail.com
END:VEVENT
BEGIN:VEVENT
DTSTART;TZID=Europe/Paris:20231209T150000
DTEND;TZID=Europe/Paris:20231209T193000
DTSTAMP:20260423T090732
CREATED:20231109T111531Z
LAST-MODIFIED:20231109T111531Z
UID:10001681-1702134000-1702150200@www.normandielivre.fr
SUMMARY:Séance de dédicaces avec Valérie Duclos
DESCRIPTION:« Le chocolat est-il un luxe ? » Des chocolatiers de renom répondent à 20 questions et dévoilent leurs secrets\, leurs créations et leurs gourmandises. \n———————————————– \nValérie Duclos est Rouennaise\, journaliste\, dirige depuis quinze ans les rubriques Art de Vivre de Version Femina.
URL:https://www.normandielivre.fr/agenda-collaboratif/seance-de-dedicaces-avec-valerie-duclos-2/
LOCATION:L’Armitière\, 66 rue Jeanne D'Arc\, Rouen\, 76000
CATEGORIES:Dédicace
ATTACH;FMTTYPE=image/png:https://www.normandielivre.fr/wp-content/uploads/2023/11/duclos-ig.png
ORGANIZER;CN="L'Armiti&egrave%3Bre":MAILTO:armitiere.cm@gmail.com
END:VEVENT
BEGIN:VEVENT
DTSTART;TZID=Europe/Paris:20231210T150000
DTEND;TZID=Europe/Paris:20231210T193000
DTSTAMP:20260423T090732
CREATED:20231106T133538Z
LAST-MODIFIED:20231106T133538Z
UID:10001678-1702220400-1702236600@www.normandielivre.fr
SUMMARY:Séance de dédicaces avec Perrine Bulgheroni
DESCRIPTION:Au monastère de Solan\, un rapport particulier à la terre\, à la nature et au monde s’est développé. À l’écart de la société surconsumériste\, cette communauté monastique orthodoxe\, sobre et paysanne\, se nourrit principalement de son jardin. Là-bas\, au cœur du Gard\, l’agriculture et l’alimentation ne font qu’un. Semer\, arroser\, désherber\, récolter\, éplucher\, manger ou jeûner\, chaque geste est sacré\, imprégné de gratitude. \nÀ l’inédite croisée des chemins du végétarisme\, de l’alimentation carémique\, du jeûne et de l’alimentation naturelle et intuitive\, les sœurs dévoilent pour la première fois les recettes du monastère de Solan. Simples\, savoureuses et digestes\, préparées avec peu\, choisissez au gré des saisons\, de vos désirs ou de vos besoins les recettes qui vous conviendront : moussaka aux aubergines et aux pois chiches\, tartelettes aux champignons\, tyropita chypriote\, lasagnes aux lentilles corail\, galettes de millet aux trompettes\, beignets de fleurs d’acacia ou de sureau\, compote de kakis… \nPlus qu’un livre de recettes\, La Foi\, la Fourche et la Fourchette interroge nos modes de vie\, notre rapport à la nature et à l’alimentation. La sobriété heureuse se révèle ici dans toute sa beauté et sa simplicité. Cet ouvrage\, écrit sous forme d’un legs des secrets du monastère\, se veut une invitation à découvrir la pratique de la réjouissance\, à comprendre la joie dans la sobriété et à se laisser guider par les enseignements de cette communauté inspirante. \nÀ travers ces pages\, les auteurs de ce livre vous convient à une expérience immersive\, où les sens et l’âme s’éveillent et où la réjouissance s’épanouit dans la simplicité et l’harmonie…
URL:https://www.normandielivre.fr/agenda-collaboratif/seance-de-dedicaces-avec-perrine-bulgheroni/2023-12-10/
LOCATION:L’Armitière\, 66 rue Jeanne D'Arc\, Rouen\, 76000
CATEGORIES:Dédicace
ATTACH;FMTTYPE=image/png:https://www.normandielivre.fr/wp-content/uploads/2023/11/Bulgheroni-ig.png
ORGANIZER;CN="L'Armiti&egrave%3Bre":MAILTO:armitiere.cm@gmail.com
END:VEVENT
BEGIN:VEVENT
DTSTART;TZID=Europe/Paris:20231216T160000
DTEND;TZID=Europe/Paris:20231216T173000
DTSTAMP:20260423T090732
CREATED:20231218T083726Z
LAST-MODIFIED:20231218T083726Z
UID:10001705-1702742400-1702747800@www.normandielivre.fr
SUMMARY:Dédicace Philippe Labro
DESCRIPTION:Philippe Labro dédicacera principalement son dernier ouvrage paru aux Editions Quarto – Gallimard : Ecrits Américains Journaliste\, romancier\, cinéaste\, parolier\, homme de médias\, Philippe Labro se nourrit de « l’air du temps ». Les archives qui illustrent le parcours biographique laissent entrevoir un itinéraire exceptionnel\, fait de rencontres\, et témoigne d’une insatiabilité intellectuelle à vouloir comprendre le monde. (Présentation issue du site des Editions Gallimard).
URL:https://www.normandielivre.fr/agenda-collaboratif/dedicace-philippe-labro/
LOCATION:Maison de la Presse\, 3 RUE HAMELIN\, PONT L EVEQUE\, 14130
CATEGORIES:Dédicace
END:VEVENT
END:VCALENDAR