BEGIN:VCALENDAR
VERSION:2.0
PRODID:-//Normandie Livre &amp; Lecture - ECPv6.15.11//NONSGML v1.0//EN
CALSCALE:GREGORIAN
METHOD:PUBLISH
X-ORIGINAL-URL:https://www.normandielivre.fr
X-WR-CALDESC:Évènements pour Normandie Livre &amp; Lecture
REFRESH-INTERVAL;VALUE=DURATION:PT1H
X-Robots-Tag:noindex
X-PUBLISHED-TTL:PT1H
BEGIN:VTIMEZONE
TZID:Europe/Paris
BEGIN:DAYLIGHT
TZOFFSETFROM:+0100
TZOFFSETTO:+0200
TZNAME:CEST
DTSTART:20220327T010000
END:DAYLIGHT
BEGIN:STANDARD
TZOFFSETFROM:+0200
TZOFFSETTO:+0100
TZNAME:CET
DTSTART:20221030T010000
END:STANDARD
BEGIN:DAYLIGHT
TZOFFSETFROM:+0100
TZOFFSETTO:+0200
TZNAME:CEST
DTSTART:20230326T010000
END:DAYLIGHT
BEGIN:STANDARD
TZOFFSETFROM:+0200
TZOFFSETTO:+0100
TZNAME:CET
DTSTART:20231029T010000
END:STANDARD
BEGIN:DAYLIGHT
TZOFFSETFROM:+0100
TZOFFSETTO:+0200
TZNAME:CEST
DTSTART:20240331T010000
END:DAYLIGHT
BEGIN:STANDARD
TZOFFSETFROM:+0200
TZOFFSETTO:+0100
TZNAME:CET
DTSTART:20241027T010000
END:STANDARD
END:VTIMEZONE
BEGIN:VEVENT
DTSTART;TZID=Europe/Paris:20230520T173000
DTEND;TZID=Europe/Paris:20230520T190000
DTSTAMP:20260424T003929
CREATED:20230511T122654Z
LAST-MODIFIED:20230511T122654Z
UID:10001558-1684603800-1684609200@www.normandielivre.fr
SUMMARY:Dédicace Guillaume Clicquot
DESCRIPTION:Guillaume Clicquot dédicacera son nouveau livre Prenez-moi pour une conne édité chez Fayard. \nAuteur à succès\, Gardez tout même les gosses\, Papa ou Maman\, Joyeuse retraite\, ses livres deviennent des comédies à l’écran. \nPrenez-moi pour une conne se déroule sur le littoral normand\, et plus précisément sur la commune de Saint-Aubin-sur-Mer.
URL:https://www.normandielivre.fr/agenda-collaboratif/dedicace-guillaume-clicquot/
LOCATION:C79 SAINT-AUBIN-sur-MER\, 179 rue pasteur\, Saint-Aubin-sur-Mer\, 14750
CATEGORIES:Dédicace
ATTACH;FMTTYPE=image/png:https://www.normandielivre.fr/wp-content/uploads/2023/05/Affiche-Guillaume-Clicquot-2.png
ORGANIZER;CN="MAIRIE DE SAINT-AUBIN-SUR-MER":MAILTO:animation@saintaubinsurmer.fr
END:VEVENT
END:VCALENDAR